BEGIN:VCALENDAR
VERSION:2.0
PRODID:-//The ICG - ECPv6.3.3.1//NONSGML v1.0//EN
CALSCALE:GREGORIAN
METHOD:PUBLISH
X-WR-CALNAME:The ICG
X-ORIGINAL-URL:https://theicg.co.uk
X-WR-CALDESC:Events for The ICG
REFRESH-INTERVAL;VALUE=DURATION:PT1H
X-Robots-Tag:noindex
X-PUBLISHED-TTL:PT1H
BEGIN:VTIMEZONE
TZID:Europe/London
BEGIN:DAYLIGHT
TZOFFSETFROM:+0000
TZOFFSETTO:+0100
TZNAME:BST
DTSTART:20190331T010000
END:DAYLIGHT
BEGIN:STANDARD
TZOFFSETFROM:+0100
TZOFFSETTO:+0000
TZNAME:GMT
DTSTART:20191027T010000
END:STANDARD
END:VTIMEZONE
BEGIN:VEVENT
DTSTART;TZID=Europe/London:20190514T100000
DTEND;TZID=Europe/London:20190514T163000
DTSTAMP:20260425T160221
CREATED:20190514T115521Z
LAST-MODIFIED:20190514T115521Z
UID:30147-1557828000-1557851400@theicg.co.uk
SUMMARY:Digital Marketing Workshop (School of Marketing)
DESCRIPTION:Please note that ICG members receive a 20% discount on the prices shown below. Use the code IRG201 on the second screen just before you pay.\nThis digital marketing workshop is all about how to utilise the internet effectively for your business. This digital marketing training will help you identify the best digital strategies for your business and give you a strong foundation on how to maximise each digital channel. We will cover all the key areas of digital marketing and help you put together your own digital marketing strategy that matches your business and your customer.  We will also share with you our favourite tools to make managing your digital marketing much easier. \n  \nICG members may be interested in joining some of these forthcoming events from the School of Marketing run by Julie Hall. \nAbout Julie Hall\nJulie Hall is the founder of The School of Marketing (www.theschoolofmarketing.co.uk) and has taught over 5000 businesses how to use digital marketing to grow their business. She is currently the lead trainer for the Google Digital Garage and responsible for training their trainers across the UK. Prior to launching the school of marketing Julie was the founder of a boutique web design agency which she ran for 12 years and a business community with over 20\,000 members.
URL:https://theicg.co.uk/event/digital-marketing-workshop-3/
LOCATION:The Oyster Shed\, 1 Angel Lane\, London\, EC4R 3AB\, United Kingdom
CATEGORIES:External Event
GEO:51.5098815;-0.089692
X-APPLE-STRUCTURED-LOCATION;VALUE=URI;X-ADDRESS=The Oyster Shed 1 Angel Lane London EC4R 3AB United Kingdom;X-APPLE-RADIUS=500;X-TITLE=1 Angel Lane:geo:-0.089692,51.5098815
END:VEVENT
END:VCALENDAR