BEGIN:VCALENDAR
VERSION:2.0
PRODID:-//The ICG - ECPv6.3.3.1//NONSGML v1.0//EN
CALSCALE:GREGORIAN
METHOD:PUBLISH
X-WR-CALNAME:The ICG
X-ORIGINAL-URL:https://theicg.co.uk
X-WR-CALDESC:Events for The ICG
REFRESH-INTERVAL;VALUE=DURATION:PT1H
X-Robots-Tag:noindex
X-PUBLISHED-TTL:PT1H
BEGIN:VTIMEZONE
TZID:Europe/London
BEGIN:DAYLIGHT
TZOFFSETFROM:+0000
TZOFFSETTO:+0100
TZNAME:BST
DTSTART:20190331T010000
END:DAYLIGHT
BEGIN:STANDARD
TZOFFSETFROM:+0100
TZOFFSETTO:+0000
TZNAME:GMT
DTSTART:20191027T010000
END:STANDARD
END:VTIMEZONE
BEGIN:VEVENT
DTSTART;TZID=Europe/London:20190723T100000
DTEND;TZID=Europe/London:20190723T163000
DTSTAMP:20260420T081259
CREATED:20190514T120304Z
LAST-MODIFIED:20190514T120304Z
UID:30149-1563876000-1563899400@theicg.co.uk
SUMMARY:Personal Branding Masterclass (School of Marketing)
DESCRIPTION:Please note that ICG members receive a 20% discount on the prices shown below. Use the code IRG201 on the second screen just before you pay.\nThis workshop is for anybody who would like to build and develop a strong personal brand\, so that they stand out as a leader in their field.  When you are a known entity\, you are in a class of 1.  People will seek you out and want to work with you\, without you having to do anything at all and your sales process will become much easier. \nTo build a strong personal brand requires clarity\, focus and a clear strategy.  It requires you to show up and be public\, and it requires your commitment.  We will cover the ways that you can build your personal brand from developing a strong social media presence\, to writing a book to building your platform as a speaker. \n  \nICG members may be interested in joining some of these forthcoming events from the School of Marketing run by Julie Hall. \nAbout Julie Hall\nJulie Hall is the founder of The School of Marketing (www.theschoolofmarketing.co.uk) and has taught over 5000 businesses how to use digital marketing to grow their business. She is currently the lead trainer for the Google Digital Garage and responsible for training their trainers across the UK. Prior to launching the school of marketing Julie was the founder of a boutique web design agency which she ran for 12 years and a business community with over 20\,000 members.
URL:https://theicg.co.uk/event/personal-branding-masterclass-3/
LOCATION:The Oyster Shed\, 1 Angel Lane\, London\, EC4R 3AB\, United Kingdom
CATEGORIES:External Event
GEO:51.5098815;-0.089692
X-APPLE-STRUCTURED-LOCATION;VALUE=URI;X-ADDRESS=The Oyster Shed 1 Angel Lane London EC4R 3AB United Kingdom;X-APPLE-RADIUS=500;X-TITLE=1 Angel Lane:geo:-0.089692,51.5098815
END:VEVENT
END:VCALENDAR