BEGIN:VCALENDAR
VERSION:2.0
PRODID:-//The ICG - ECPv6.3.3.1//NONSGML v1.0//EN
CALSCALE:GREGORIAN
METHOD:PUBLISH
X-WR-CALNAME:The ICG
X-ORIGINAL-URL:https://theicg.co.uk
X-WR-CALDESC:Events for The ICG
REFRESH-INTERVAL;VALUE=DURATION:PT1H
X-Robots-Tag:noindex
X-PUBLISHED-TTL:PT1H
BEGIN:VTIMEZONE
TZID:Europe/London
BEGIN:DAYLIGHT
TZOFFSETFROM:+0000
TZOFFSETTO:+0100
TZNAME:BST
DTSTART:20200329T010000
END:DAYLIGHT
BEGIN:STANDARD
TZOFFSETFROM:+0100
TZOFFSETTO:+0000
TZNAME:GMT
DTSTART:20201025T010000
END:STANDARD
END:VTIMEZONE
BEGIN:VEVENT
DTSTART;TZID=Europe/London:20200820T110000
DTEND;TZID=Europe/London:20200820T120000
DTSTAMP:20260423T020855
CREATED:20200722T095259Z
LAST-MODIFIED:20200722T095259Z
UID:30199-1597921200-1597924800@theicg.co.uk
SUMMARY:ICG Webinar: Common Mistakes That Researchers Make When It Comes to GDPR
DESCRIPTION:This webinar is generously sponsored by Field Sauce\, Global Fieldwork Providers. \nKim Smouter-Umans\, Head of Public Affairs & Professional Standards at ESOMAR\, talks us through his experiences of the common mistakes market researchers make when it comes to GDPR and how they can best navigate it going forwards. \n  \nREGISTER FOR THIS FREE WEBINAR HERE
URL:https://theicg.co.uk/event/icg-webinar-common-mistakes-that-researchers-make-when-it-comes-to-gdpr-3/
LOCATION:Online
CATEGORIES:ICG Webinar
ATTACH;FMTTYPE=:
ORGANIZER;CN="Sally Alsop":MAILTO:webinars@theicg.co.uk
END:VEVENT
END:VCALENDAR