BEGIN:VCALENDAR
VERSION:2.0
PRODID:-//The ICG - ECPv6.3.3.1//NONSGML v1.0//EN
CALSCALE:GREGORIAN
METHOD:PUBLISH
X-WR-CALNAME:The ICG
X-ORIGINAL-URL:https://theicg.co.uk
X-WR-CALDESC:Events for The ICG
REFRESH-INTERVAL;VALUE=DURATION:PT1H
X-Robots-Tag:noindex
X-PUBLISHED-TTL:PT1H
BEGIN:VTIMEZONE
TZID:Europe/London
BEGIN:DAYLIGHT
TZOFFSETFROM:+0000
TZOFFSETTO:+0100
TZNAME:BST
DTSTART:20210328T010000
END:DAYLIGHT
BEGIN:STANDARD
TZOFFSETFROM:+0100
TZOFFSETTO:+0000
TZNAME:GMT
DTSTART:20211031T010000
END:STANDARD
END:VTIMEZONE
BEGIN:VEVENT
DTSTART;TZID=Europe/London:20210204T110000
DTEND;TZID=Europe/London:20210204T120000
DTSTAMP:20260425T130359
CREATED:20210107T141324Z
LAST-MODIFIED:20210107T141324Z
UID:30217-1612436400-1612440000@theicg.co.uk
SUMMARY:MRS/ICG Award For Independent Consultants: Finalists Share Submissions
DESCRIPTION:This webinar is generously sponsored by Indiefield \nJoin our four finalists\, Dan Young (winner)\, Louise Fraser\, Julian Watson and Konrad Collao\, and find out more about their Award submissions and what it was that made them finalists. \nDon’t miss this opportunity. Award submissions for 2021 open in May. Start thinking now – you can submit a piece of work that was undertaken up to two years prior to the submisison. \nMore about our 2020 finalists here. \n  \nREGISTER FOR THIS WEBINAR HERE 
URL:https://theicg.co.uk/event/mrs-icg-award-for-independent-consultants-finalists-share-submissions-3/
ATTACH;FMTTYPE=:
ORGANIZER;CN="Sally Alsop":MAILTO:webinars@theicg.co.uk
END:VEVENT
END:VCALENDAR