BEGIN:VCALENDAR
VERSION:2.0
PRODID:-//The ICG - ECPv6.3.3.1//NONSGML v1.0//EN
CALSCALE:GREGORIAN
METHOD:PUBLISH
X-WR-CALNAME:The ICG
X-ORIGINAL-URL:https://theicg.co.uk
X-WR-CALDESC:Events for The ICG
REFRESH-INTERVAL;VALUE=DURATION:PT1H
X-Robots-Tag:noindex
X-PUBLISHED-TTL:PT1H
BEGIN:VTIMEZONE
TZID:Europe/London
BEGIN:DAYLIGHT
TZOFFSETFROM:+0000
TZOFFSETTO:+0100
TZNAME:BST
DTSTART:20210328T010000
END:DAYLIGHT
BEGIN:STANDARD
TZOFFSETFROM:+0100
TZOFFSETTO:+0000
TZNAME:GMT
DTSTART:20211031T010000
END:STANDARD
END:VTIMEZONE
BEGIN:VEVENT
DTSTART;TZID=Europe/London:20211020T130000
DTEND;TZID=Europe/London:20211020T133000
DTSTAMP:20260425T190816
CREATED:20211020T120000Z
LAST-MODIFIED:20211020T120000Z
UID:30249-1634734800-1634736600@theicg.co.uk
SUMMARY:Lunch&Learn with Field Notes
DESCRIPTION:We welcome Field Notes (also ICG members) for our next Lunch&Learn\, a half-hour lunchtime slot where members can informally hear about how organisations can help them in their work. \nAll Lunch&Learn presenters offer ICG members a significant and exclusive discount. Please support them by attending their Lunch&Learn and hearing more.\nAbout Field Notes\n \nFounded in 2013\, and developed by experienced researchers and ethnographers\, we have been at the forefront of mobile research technology since its inception. \nField Notes lets you capture and manage quality self-shot video from people around the world via their phones – whether it’s customers\, employees\, research participants\, healthcare professionals or patients. \nVia Field Notes you can document what your target audience thinks & feels\, sharing their real life perspectives\, opinions and stories\, harnessing the power of mobile technology. \nOver the years\, we have connected with more than 35\,000 participants worldwide and proudly delivered +2\,500 projects in 40 languages \nWhy Field Notes are a perfect fit for micro independent consultants\nWe are a small and passionate team and we are proud to be an independently owned business; with our background in research\, we are always happy to share tips and advice on how to use the platform and run any kind of mobile projects. \n\n				\n					\n				\n			\nOur platform and app are built with ease of usage at their core allowing you to successfully and efficiently connect with any audience \nWe have an easy and stress-free costing model with no hidden fees\, for extra peace of mind. \nWhy you should attend this Lunch&Learn\nIn our L&L session we’ll show you our participant app\, the backend platform and we’ll provide an overview of all the different functionalities they support. \nWe’ll describe key usage scenarios and will share tips on how to leverage the Field Notes features to boost participant engagement and minimise dropouts. Expect a fun\, inspiring and interactive session. \n  \nTHE EXCLUSIVE AND SIGNIFICANT DISCOUNT BEING OFFERED BY FIELD NOTES \n\nA £250 discount on either your first or next project (if you’ve already hired them). For a typical UK project with 10 participants £250 off would equal 50% off!\n\n  \nLogin for the Lunch&Learn is https://global.gotomeeting.com/join/815667629 \nSee you there!
URL:https://theicg.co.uk/event/lunchlearn-with-field-notes-3/
ATTACH;FMTTYPE=:
ORGANIZER;CN="Shifra Cook":MAILTO:benefits@theicg.co.uk
END:VEVENT
END:VCALENDAR