BEGIN:VCALENDAR
VERSION:2.0
PRODID:-//The ICG - ECPv6.3.3.1//NONSGML v1.0//EN
CALSCALE:GREGORIAN
METHOD:PUBLISH
X-ORIGINAL-URL:https://theicg.co.uk
X-WR-CALDESC:Events for The ICG
REFRESH-INTERVAL;VALUE=DURATION:PT1H
X-Robots-Tag:noindex
X-PUBLISHED-TTL:PT1H
BEGIN:VTIMEZONE
TZID:Europe/London
BEGIN:DAYLIGHT
TZOFFSETFROM:+0000
TZOFFSETTO:+0100
TZNAME:BST
DTSTART:20220327T010000
END:DAYLIGHT
BEGIN:STANDARD
TZOFFSETFROM:+0100
TZOFFSETTO:+0000
TZNAME:GMT
DTSTART:20221030T010000
END:STANDARD
END:VTIMEZONE
BEGIN:VEVENT
DTSTART;TZID=Europe/London:20220224T110000
DTEND;TZID=Europe/London:20220224T120000
DTSTAMP:20260423T155844
CREATED:20220112T115608Z
LAST-MODIFIED:20220112T115608Z
UID:30262-1645700400-1645704000@theicg.co.uk
SUMMARY:Building Better Business Via The Screen
DESCRIPTION:This webinar is generously sponsored by Perspective Research Services \n \nWith endless Zoom meetings and webinars\, it can seem like our whole lives are currently being played out on screen\, and while for some this can seem like a chore\, other businesses are taking advantage of the considerable time and cost savings of screen-based meetings to boost their presence online. \nIn this interactive webinar\, Camera Confidence Coach\, Adam Woods\, will provide strategies and tools to help you enhance your visibility and confidence to present on screen\, so you can create more and deeper connections\, as well as ways to be effective in your messaging on social media. \nAbout Adam \n \nAdam has had a track record of working in the film/TV industry for several decades\, as a creative director for brands such as Discovery\, Hallmark and National Geographic\, as well as a TV commercials director for brands such as CNN\, BBC\, Ericsson\, LG\, Phillips\, Siemens.  His coaching programme uses a powerful 6-step C.A.M.E.R.A model to help professionals\, business owners and brands create clear\, consistent and commercially relevant messages through empathic storytelling. \nhttps://www.linkedin.com/in/adamwoods1/ \nhttps://www.facebook.com/cameraconfidencecoach \nhttps://www.facebook.com/groups/camera.confidence.club \nhttps://www.cameraconfidence.co.uk/ \nREGISTER FOR THIS FREE WEBINAR HERE
URL:https://theicg.co.uk/event/building-better-business-via-the-screen-3/
LOCATION:Online
ATTACH;FMTTYPE=image/jpeg:https://theicg.co.uk/wp-content/uploads/2022/02/shutterstock_1531731413-copy.jpg
END:VEVENT
END:VCALENDAR