BEGIN:VCALENDAR
VERSION:2.0
PRODID:-//The ICG - ECPv6.3.3.1//NONSGML v1.0//EN
CALSCALE:GREGORIAN
METHOD:PUBLISH
X-ORIGINAL-URL:https://theicg.co.uk
X-WR-CALDESC:Events for The ICG
REFRESH-INTERVAL;VALUE=DURATION:PT1H
X-Robots-Tag:noindex
X-PUBLISHED-TTL:PT1H
BEGIN:VTIMEZONE
TZID:UTC
BEGIN:STANDARD
TZOFFSETFROM:+0000
TZOFFSETTO:+0000
TZNAME:UTC
DTSTART:20220101T000000
END:STANDARD
END:VTIMEZONE
BEGIN:VEVENT
DTSTART;TZID=UTC:20220915T110000
DTEND;TZID=UTC:20220915T120000
DTSTAMP:20260423T142118
CREATED:20220817T103505Z
LAST-MODIFIED:20220817T103505Z
UID:31400-1663239600-1663243200@theicg.co.uk
SUMMARY:Pensions 101
DESCRIPTION:Pensions 101 with Claire Labrum\, Strictly Financial – Thurs 15 Sept\, 11am \nGenerously sponsored by Teneo Translations \n\nThis session is designed to be a layperson’s overview of how pensions work – and how they compare to other investments.  It will cover the basics of pensions (what they are and what they are not)\, how they are treated for tax purposes (both individually and for Limited companies & partnerships)\, the limits surrounding contributions and the rules about accessing your money.  It will also attempt to show the difference between pensions and other investment options (for example\, ISAs). \nRegister here \nOnce you’ve registered\, login for the webinar is https://meet.goto.com/145863309
URL:https://theicg.co.uk/event/pensions-101/
CATEGORIES:ICG Webinar
END:VEVENT
END:VCALENDAR