BEGIN:VCALENDAR
VERSION:2.0
PRODID:-//The ICG - ECPv6.3.3.1//NONSGML v1.0//EN
CALSCALE:GREGORIAN
METHOD:PUBLISH
X-ORIGINAL-URL:https://theicg.co.uk
X-WR-CALDESC:Events for The ICG
REFRESH-INTERVAL;VALUE=DURATION:PT1H
X-Robots-Tag:noindex
X-PUBLISHED-TTL:PT1H
BEGIN:VTIMEZONE
TZID:Europe/London
BEGIN:DAYLIGHT
TZOFFSETFROM:+0000
TZOFFSETTO:+0100
TZNAME:BST
DTSTART:20230326T010000
END:DAYLIGHT
BEGIN:STANDARD
TZOFFSETFROM:+0100
TZOFFSETTO:+0000
TZNAME:GMT
DTSTART:20231029T010000
END:STANDARD
END:VTIMEZONE
BEGIN:VEVENT
DTSTART;TZID=Europe/London:20230413T160000
DTEND;TZID=Europe/London:20230413T170000
DTSTAMP:20260423T051212
CREATED:20230406T060355Z
LAST-MODIFIED:20230406T060355Z
UID:35522-1681401600-1681405200@theicg.co.uk
SUMMARY:Knowledge Share: How to create highly visual and engaging research outputs
DESCRIPTION:This Knowledge Share has been generously sponsored by E-Tabs\, bringing cutting edge automated charting for your projects in PowerPoint & Google Slides \n \nThis Knowledge Share will be presented by ICG member Barry Clark\, Related Stories.  \nThere is a growing client requirement for “highly visual and engaging” outputs to research projects.  Related Stories addresses this need through a combination of photography\, ethnography and interviews.  In this session\, Barry will discuss his approach and his motivations. \nRelated Stories \nhttps://www.linkedin.com/in/barry-clark-28035314/ \nREGISTER FOR THIS FREE KNOWLEDGE SHARE HERE
URL:https://theicg.co.uk/event/knowledge-share-how-to-create-highly-visual-and-engaging-research-outputs/
LOCATION:Online – GoToWebinar
CATEGORIES:Knowledge Share
ATTACH;FMTTYPE=image/png:https://theicg.co.uk/wp-content/uploads/2023/03/Purple-Minimalist-Boost-Knowledge-To-Get-New-Innovation-Illustration-Story-Template-e1678883921376.png
END:VEVENT
END:VCALENDAR