BEGIN:VCALENDAR
VERSION:2.0
PRODID:-//The ICG - ECPv6.3.3.1//NONSGML v1.0//EN
CALSCALE:GREGORIAN
METHOD:PUBLISH
X-WR-CALNAME:The ICG
X-ORIGINAL-URL:https://theicg.co.uk
X-WR-CALDESC:Events for The ICG
REFRESH-INTERVAL;VALUE=DURATION:PT1H
X-Robots-Tag:noindex
X-PUBLISHED-TTL:PT1H
BEGIN:VTIMEZONE
TZID:Europe/London
BEGIN:DAYLIGHT
TZOFFSETFROM:+0000
TZOFFSETTO:+0100
TZNAME:BST
DTSTART:20230326T010000
END:DAYLIGHT
BEGIN:STANDARD
TZOFFSETFROM:+0100
TZOFFSETTO:+0000
TZNAME:GMT
DTSTART:20231029T010000
END:STANDARD
END:VTIMEZONE
BEGIN:VEVENT
DTSTART;TZID=Europe/London:20230608T110000
DTEND;TZID=Europe/London:20230608T120000
DTSTAMP:20260420T185732
CREATED:20230509T113639Z
LAST-MODIFIED:20230518T112935Z
UID:35708-1686222000-1686225600@theicg.co.uk
SUMMARY:How do qual researchers feel about generative AI?
DESCRIPTION:This webinar has been generously sponsored by Qualzy \n \nThis session is for people who want to know how qual researchers feel towards Generative AI. It will be run by ICG member Tom Woodnutt\, Feeling Mutual Ltd. \n \nThe session is based on the results from an international industry survey and qualitative research discussion from February 2023\, (hosted by Insight Platforms\, sponsored by Qualzy) with 167 qual researchers.  It includes ideas on how qual researchers can approach this fast changing space in order to get most value from it.  The session will include a presentation and open discussion with attendees. \n  \nREGISTER FOR THIS WEBINAR HERE
URL:https://theicg.co.uk/event/how-do-qual-researchers-feel-about-generative-ai/
CATEGORIES:ICG Webinar
ATTACH;FMTTYPE=image/png:https://theicg.co.uk/wp-content/uploads/2023/03/AI.30.13-e1683633602862.png
END:VEVENT
END:VCALENDAR