BEGIN:VCALENDAR
VERSION:2.0
PRODID:-//The ICG - ECPv6.3.3.1//NONSGML v1.0//EN
CALSCALE:GREGORIAN
METHOD:PUBLISH
X-WR-CALNAME:The ICG
X-ORIGINAL-URL:https://theicg.co.uk
X-WR-CALDESC:Events for The ICG
REFRESH-INTERVAL;VALUE=DURATION:PT1H
X-Robots-Tag:noindex
X-PUBLISHED-TTL:PT1H
BEGIN:VTIMEZONE
TZID:Europe/London
BEGIN:DAYLIGHT
TZOFFSETFROM:+0000
TZOFFSETTO:+0100
TZNAME:BST
DTSTART:20230326T010000
END:DAYLIGHT
BEGIN:STANDARD
TZOFFSETFROM:+0100
TZOFFSETTO:+0000
TZNAME:GMT
DTSTART:20231029T010000
END:STANDARD
END:VTIMEZONE
BEGIN:VEVENT
DTSTART;TZID=Europe/London:20230808T080000
DTEND;TZID=Europe/London:20230808T170000
DTSTAMP:20260423T210526
CREATED:20230808T095906Z
LAST-MODIFIED:20230809T063553Z
UID:36176-1691481600-1691514000@theicg.co.uk
SUMMARY:MRS Inclusion Pledge - PANEL DEBATE and Q&A SESSION
DESCRIPTION:Join us on Tuesday 12 September\, 11am-12 noon\, for a Panel Debate and Q&A Session about the MRS Inclusion Pledge.  \n  \n \nThe panel will comprise of agency and client-side Equality\, Diversity and Inclusion (EDI) representatives: \n\nRebecca Cole\nKate Dale\nTheo Francis\nGeorgie White\n\nIn addition to hearing their perspectives on some relevant questions\, you’ll also hear a bit more about how the Inclusion Pledge could fit your business\, and have the opportunity to ask your own questions. \nFIND OUT MORE ABOUT THE PLEDGE AND SIGN UP HERE\nREGISTER FOR THE PANEL DEBATE HERE \n  \n  \n  \n  \n  \n  \n  \n  \n  \n  \n  \n  \n  \n  \n  \n  \n  \n  \n  \n  \n  \n  \n  \n  \n  \n  \n  \n  \n  \n 
URL:https://theicg.co.uk/event/mrs-inclusion-pledge-panel-debate-and-qa-session/
CATEGORIES:ICG Event
END:VEVENT
END:VCALENDAR