BEGIN:VCALENDAR
VERSION:2.0
PRODID:-//The ICG - ECPv6.3.3.1//NONSGML v1.0//EN
CALSCALE:GREGORIAN
METHOD:PUBLISH
X-WR-CALNAME:The ICG
X-ORIGINAL-URL:https://theicg.co.uk
X-WR-CALDESC:Events for The ICG
REFRESH-INTERVAL;VALUE=DURATION:PT1H
X-Robots-Tag:noindex
X-PUBLISHED-TTL:PT1H
BEGIN:VTIMEZONE
TZID:Europe/London
BEGIN:DAYLIGHT
TZOFFSETFROM:+0000
TZOFFSETTO:+0100
TZNAME:BST
DTSTART:20240331T010000
END:DAYLIGHT
BEGIN:STANDARD
TZOFFSETFROM:+0100
TZOFFSETTO:+0000
TZNAME:GMT
DTSTART:20241027T010000
END:STANDARD
END:VTIMEZONE
BEGIN:VEVENT
DTSTART;TZID=Europe/London:20240111T110000
DTEND;TZID=Europe/London:20240111T120000
DTSTAMP:20260423T200043
CREATED:20231214T152829Z
LAST-MODIFIED:20240104T105405Z
UID:36708-1704970800-1704974400@theicg.co.uk
SUMMARY:International Research: Trends\, challenges\, and opportunities – An ICG expert panel discussion
DESCRIPTION:This webinar has been generously sponsored by Teneo Translations \n \nThis webinar is the first part of a series of webinars we’ll be conducting about International Research. \nHere\, we welcome four ICG international research experts\, Muriel Esposito\, Nicky Fraser\, Rebecca Harrison and Nicolas Kayser\, to lead a panel discussion\, using stories/real life examples\, to illustrate the following about the international landscape… \n\nChanges past and present\nChallenges encountered and solutions found\nFuture opportunities.\n\nTopics that will be addressed within these areas will include AI and digital automation tools and marketing strategies that can affect how work is conducted. \nOur Panelists \nMuriel Esposito \n \nMuriel\, through Esposito Research and Strategy\, offers\, innovation and strategy and qual and quant services. She is a food research specialist\, with over 25 years experience. \nNicky Fraser \n \nNicky is a skilled and experienced qualitative researcher and trained psychotherapist with a constant fascination for what makes people tick. With 3 decades experience\, Nicky brings national and international expertise across a wide range of categories and markets\, working for some of the leading research agencies in Sydney and London including The Research Business International\, Added Value\, Crucible\, Kaleidoscope and Heartbeat Trends. \nNicky holds a Masters in Social Behaviour from London School of Economics\, including Consumer Psychology and Psychology of Advertising\, and is also a trained psychotherapist. \nRebecca Harrison \n \nRebecca has been a global ethno and insight explorer for over 35yrs and lucky enough to have lived and worked in four continents and travelled extensively\, all in the name of research – and my goodness how it has changed!  Having worked in a range of small\, medium and large agencies\, she now runs Mosaik Consulting Ltd from London\, specialising in international food and drink innovation and kids research\, and partners with a broad network of like-minded agencies and independents on a wide variety of other categories. One thing is guaranteed\, there is never a dull moment with international research and that’s why she loves it! \nNicholas Kayser \n \nNicolas is based in Germany and has a Degree in psychology and further education in innovation/change management (including design thinking)\, online marketing and healthcare marketing. He has been working for 20+ years in national and international market research with a focus on qualitative methods and analysis (B2C and B2B). In 2017 he set up ‘The Insight Zoo’ – Psychological Marketing Research which he runs from Frankfurt. \n  \nRegister your place here (Zoom will then send you your login) \n  \n 
URL:https://theicg.co.uk/event/international-research-trends-challenges-and-opportunities-an-icg-expert-panel-discussion/
CATEGORIES:ICG Webinar
ATTACH;FMTTYPE=image/jpeg:https://theicg.co.uk/wp-content/uploads/2022/01/map.jpg
END:VEVENT
BEGIN:VEVENT
DTSTART;TZID=Europe/London:20240111T130000
DTEND;TZID=Europe/London:20240111T133000
DTSTAMP:20260423T200043
CREATED:20231212T145614Z
LAST-MODIFIED:20231212T145703Z
UID:36697-1704978000-1704979800@theicg.co.uk
SUMMARY:ICG Advertiser and Sponsor Get Together: Have Your Say
DESCRIPTION:Our advertisers and sponsors are a huge part of our success\, and we hope that the ICG\, with its over-400 micro-business members (all of whom work in #insight #marketresearch) are a bit part of theirs. \nJoin us on 11th Jan at 1pm for a 30 min chat about the opportunities we can offer you\, and have your say about what you’d like us to put in place for you. \nThis 30 min session is open to existing advertisers and sponsors\, as well as potential ones. No obligation to do anything further with us after the meeting. Just your chance to have your say. \nStart 2024 as you mean to go on. Get in front of our members and benefit your business. \nRegister today:\n https://zoom.us/meeting/register/tJUkdO6hqj0tG9wgkC-fNrZbxkqEbCM9nIey\n 
URL:https://theicg.co.uk/event/icg-advertiser-and-sponsor-get-together-have-your-say/
CATEGORIES:ICG Event
ATTACH;FMTTYPE=image/png:https://theicg.co.uk/wp-content/uploads/2023/12/Advertiser-and-Sponsor-Get-Together-11-Jan-2024.png
END:VEVENT
END:VCALENDAR