BEGIN:VCALENDAR
VERSION:2.0
PRODID:-//The ICG - ECPv6.3.3.1//NONSGML v1.0//EN
CALSCALE:GREGORIAN
METHOD:PUBLISH
X-ORIGINAL-URL:https://theicg.co.uk
X-WR-CALDESC:Events for The ICG
REFRESH-INTERVAL;VALUE=DURATION:PT1H
X-Robots-Tag:noindex
X-PUBLISHED-TTL:PT1H
BEGIN:VTIMEZONE
TZID:Europe/London
BEGIN:DAYLIGHT
TZOFFSETFROM:+0000
TZOFFSETTO:+0100
TZNAME:BST
DTSTART:20240331T010000
END:DAYLIGHT
BEGIN:STANDARD
TZOFFSETFROM:+0100
TZOFFSETTO:+0000
TZNAME:GMT
DTSTART:20241027T010000
END:STANDARD
END:VTIMEZONE
BEGIN:VEVENT
DTSTART;TZID=Europe/London:20240425T110000
DTEND;TZID=Europe/London:20240425T120000
DTSTAMP:20260423T141821
CREATED:20240306T121126Z
LAST-MODIFIED:20240410T085125Z
UID:37031-1714042800-1714046400@theicg.co.uk
SUMMARY:Webinar: Semiotics - How This Case Study Brought A Depth Of Understanding For The Client
DESCRIPTION:Please join ICG member William Landell Mills\, Amaranth Insight\, as he uses a recent semiotic case study of his (‘Kids’ Films and Hygiene’) to discuss; \n\nSemiotics and its relationship with Qual\nKids’ films\nHygiene\nMoving through space\nA wider point about brand as narrative\n\nWilliam Landell Mills\, Founder\, Amaranth Insight \n \nWilliam started Amaranth in 2017 as a practice that combines semiotics with international qualitative research\, mainly focused on brand strategy and design development. Prior to that William worked at both multinational research agencies and boutiques and was responsible for evolving a number of new methodologies. William has presented papers on Semiotic at the Global Esomar Conference\, the MRS and Semiofest in Mexico. He has been published in Admap\, Marketing Week and most recently in WARC. He won an Atticus for his work on Metaphors in Marketing. \nhttps://theicg.co.uk/member/williamamaranthinsight-com/ \nhttps://www.linkedin.com/in/william-landell-mills-94532323/ \nRegister here (Zoom will then send you your login)\n  \n \n  \n  \n  \n  \n  \n  \n  \n 
URL:https://theicg.co.uk/event/webinar-semiotics/
CATEGORIES:ICG Webinar
ATTACH;FMTTYPE=image/jpeg:https://theicg.co.uk/wp-content/uploads/2024/03/ask-expert-517666040.jpg
END:VEVENT
END:VCALENDAR