BEGIN:VCALENDAR
VERSION:2.0
PRODID:-//The ICG - ECPv6.3.3.1//NONSGML v1.0//EN
CALSCALE:GREGORIAN
METHOD:PUBLISH
X-WR-CALNAME:The ICG
X-ORIGINAL-URL:https://theicg.co.uk
X-WR-CALDESC:Events for The ICG
REFRESH-INTERVAL;VALUE=DURATION:PT1H
X-Robots-Tag:noindex
X-PUBLISHED-TTL:PT1H
BEGIN:VTIMEZONE
TZID:Europe/London
BEGIN:DAYLIGHT
TZOFFSETFROM:+0000
TZOFFSETTO:+0100
TZNAME:BST
DTSTART:20250330T010000
END:DAYLIGHT
BEGIN:STANDARD
TZOFFSETFROM:+0100
TZOFFSETTO:+0000
TZNAME:GMT
DTSTART:20251026T010000
END:STANDARD
END:VTIMEZONE
BEGIN:VEVENT
DTSTART;TZID=Europe/London:20250226T130000
DTEND;TZID=Europe/London:20250226T133000
DTSTAMP:20260423T040820
CREATED:20250127T103131Z
LAST-MODIFIED:20250127T104001Z
UID:38295-1740574800-1740576600@theicg.co.uk
SUMMARY:Social Media Listening for Independent Consultants:  Turning Online Conversations into Actionable Insights
DESCRIPTION:YouScan is an easy-to-use social media listening platform. It employs AI to help researchers\, analysts\, and insights professionals uncover consumer opinions and gain quick market insights from millions of online conversations. YouScan helps analyze consumer sentiment\, track brand mentions\, and identify emerging market opportunities in real-time. With its intuitive dashboards and customizable reports\, YouScan simplifies complex data\, allowing consultants to deliver actionable insights to their clients faster. \nA bit more about the YouScan: \nYouScan is an award-winning\, AI-powered social media listening platform trusted by leading brands and agencies worldwide. \nYouScan provides researchers and analysts with real-time insights from millions of online conversations\, delivering a comprehensive understanding of consumer opinions\, industry trends\, the competitive landscape\, and emerging market opportunities. \nWith YouScan\, insight professionals gain a deeper understanding of consumers: \n\nWhat consumers say – YouScan’s powerful text analysis\, featuring the GPT-powered Insights Copilot\, simplifies understanding consumer opinions about brands\, competitors\, and events.\nWhat they do – Advanced visual analysis capabilities identify how people interact with brands and products in real life\, detecting brand logos\, scenes\, objects\, and activities in social media images.\nWho they are – Audience Insights reveal the demographics\, interests\, and occupations of people discussing brands and topics on social media.\n\nYouScan equips researchers and analysts with the tools to uncover valuable consumer insights\, explore untapped market opportunities\, and make informed\, data-driven decisions that drive measurable results for clients. \nAlex Orap: \n \nAlex Orap is the Founder and Chief Growth Officer of YouScan. He is a tech entrepreneur with a successful track record in Software as a Service (SaaS)\, consumer internet applications\, business intelligence\, and the telecommunications sector. In 2024\, Alex was named among Top 5 Tech Innovators in social intelligence in The Social Intelligence Lab’s  Insider 50 nomination. \nAnna Yanko \n \nAnna Yanko is the Global Brand Marketing Manager at YouScan\, where she drives initiatives to enhance the company’s brand recognition and awareness in both Global and Ukrainian markets. \nRegister for this session here 
URL:https://theicg.co.uk/event/social-media-listening-for-independent-consultants-turning-online-conversations-into-actionable-insights/
CATEGORIES:Lunch&Learn
ATTACH;FMTTYPE=image/jpeg:https://theicg.co.uk/wp-content/uploads/2022/03/icg.lunch_.learn_.jpg
END:VEVENT
END:VCALENDAR