BEGIN:VCALENDAR
VERSION:2.0
PRODID:-//The ICG - ECPv6.3.3.1//NONSGML v1.0//EN
CALSCALE:GREGORIAN
METHOD:PUBLISH
X-ORIGINAL-URL:https://theicg.co.uk
X-WR-CALDESC:Events for The ICG
REFRESH-INTERVAL;VALUE=DURATION:PT1H
X-Robots-Tag:noindex
X-PUBLISHED-TTL:PT1H
BEGIN:VTIMEZONE
TZID:Europe/London
BEGIN:DAYLIGHT
TZOFFSETFROM:+0000
TZOFFSETTO:+0100
TZNAME:BST
DTSTART:20250330T010000
END:DAYLIGHT
BEGIN:STANDARD
TZOFFSETFROM:+0100
TZOFFSETTO:+0000
TZNAME:GMT
DTSTART:20251026T010000
END:STANDARD
END:VTIMEZONE
BEGIN:VEVENT
DTSTART;TZID=Europe/London:20251014T110000
DTEND;TZID=Europe/London:20251014T121500
DTSTAMP:20260423T051721
CREATED:20250917T094533Z
LAST-MODIFIED:20251009T132016Z
UID:39020-1760439600-1760444100@theicg.co.uk
SUMMARY:What's life really like inside clientside organisations and bigger agencies?
DESCRIPTION:This session is generously sponsored by The Lens \n \n  \n  \nThis session is for ICG members only. \nMany of us have been working for ourselves for a very long time. \nAnd the Insight world is changing – fast. \nSo how do you keep up with really understanding what life is like for our clients in all sorts of organisations? \nAnd why does this matter? \nWe think it matters because a more accurate understanding of their working lives means having a greater chance of winning work with them and having a smoother working relationship. \nWe’ve put together a panel of ICG members who’ve recently been in those clients’ shoes. They cover a range of organisation types and will share more about how independent consultants featured in their lives and what they were looking for – and not looking for – from them. \nThey’ll each give an overview of their experiences and will then be available to answer your questions. \nOur Panellists and the organisations they’ve come from  \nNicola Charlton \nRamona Daniel – GroupM / Choreograph (now WPP Media) \nBecky Lewis – Government departments  \nNeil Macfarlane – Pepsi Lipton  \nBen Robins – Audible \n  \n1. TO HELP SHAPE THIS DISCUSSION\, PLEASE CLICK ON THE FOLLOWING SHORT SURVEY \n2. THEN REGISTER YOUR PLACE HERE \n 
URL:https://theicg.co.uk/event/whats-life-really-like-inside-clientside-organisations-and-bigger-agencies/
CATEGORIES:ICG Webinar
ATTACH;FMTTYPE=image/jpeg:https://theicg.co.uk/wp-content/uploads/2025/07/woman-at-laptop-RESIZED-WEBINARS-.jpg
END:VEVENT
END:VCALENDAR