BEGIN:VCALENDAR
VERSION:2.0
PRODID:-//The ICG - ECPv6.3.3.1//NONSGML v1.0//EN
CALSCALE:GREGORIAN
METHOD:PUBLISH
X-WR-CALNAME:The ICG
X-ORIGINAL-URL:https://theicg.co.uk
X-WR-CALDESC:Events for The ICG
REFRESH-INTERVAL;VALUE=DURATION:PT1H
X-Robots-Tag:noindex
X-PUBLISHED-TTL:PT1H
BEGIN:VTIMEZONE
TZID:Europe/London
BEGIN:DAYLIGHT
TZOFFSETFROM:+0000
TZOFFSETTO:+0100
TZNAME:BST
DTSTART:20260329T010000
END:DAYLIGHT
BEGIN:STANDARD
TZOFFSETFROM:+0100
TZOFFSETTO:+0000
TZNAME:GMT
DTSTART:20261025T010000
END:STANDARD
END:VTIMEZONE
BEGIN:VEVENT
DTSTART;TZID=Europe/London:20260108T110000
DTEND;TZID=Europe/London:20260108T120000
DTSTAMP:20260422T021517
CREATED:20251203T101027Z
LAST-MODIFIED:20251208T170632Z
UID:39287-1767870000-1767873600@theicg.co.uk
SUMMARY:Basic Compliances for SMEs
DESCRIPTION:Join us for this informative webinar run by Accountant Jai Haran (husband of ICG member Aakanksha Haran). \nBased on the topic areas that many of you requested\, Jai will talk about business compliance requirements for \n\n\n\nAccounting and Corporation Tax\nVAT essentials\nPAYE basics\nCompany Secretarial.\n\n\n\nHe’ll then be available for questions. \nA perfect start to the year – get your company and finances operating efficiently – and compliant with the law. \nJai Haran \nJai works at RNM UK –  a firm of Chartered Certified Accountants\, tax and business advisers. Their key focus is identifying opportunities that give our clients a meaningful business advantage. They provide a full range of accounting and business services to enterprises and individuals helping them to achieve growth and long-term success. Between them\, they have decades of knowledge and practical experience. \n  \n  \nRegister here\n 
URL:https://theicg.co.uk/event/basic-compliances-for-smes/
CATEGORIES:ICG Webinar
ATTACH;FMTTYPE=image/jpeg:https://theicg.co.uk/wp-content/uploads/2023/06/money-g53e3b8e08_1280.jpg
END:VEVENT
END:VCALENDAR