BEGIN:VCALENDAR
VERSION:2.0
PRODID:-//The ICG - ECPv6.3.3.1//NONSGML v1.0//EN
CALSCALE:GREGORIAN
METHOD:PUBLISH
X-WR-CALNAME:The ICG
X-ORIGINAL-URL:https://theicg.co.uk
X-WR-CALDESC:Events for The ICG
REFRESH-INTERVAL;VALUE=DURATION:PT1H
X-Robots-Tag:noindex
X-PUBLISHED-TTL:PT1H
BEGIN:VTIMEZONE
TZID:Europe/London
BEGIN:DAYLIGHT
TZOFFSETFROM:+0000
TZOFFSETTO:+0100
TZNAME:BST
DTSTART:20200329T010000
END:DAYLIGHT
BEGIN:STANDARD
TZOFFSETFROM:+0100
TZOFFSETTO:+0000
TZNAME:GMT
DTSTART:20201025T010000
END:STANDARD
END:VTIMEZONE
BEGIN:VEVENT
DTSTART;TZID=Europe/London:20200423T200000
DTEND;TZID=Europe/London:20200423T210000
DTSTAMP:20260425T171816
CREATED:20200129T115943Z
LAST-MODIFIED:20200129T115943Z
UID:30178-1587672000-1587675600@theicg.co.uk
SUMMARY:ICG Online Evening Talk: Managing Cash and Government Schemes Available to Small Businesses
DESCRIPTION:Here’s the recording of online evening speaker event\, presented by Business Mentor Brian Woolrich  \n \nAbout Brian \nBrian has over thirty years business experience\, having grown a number of businesses and led large teams of colleagues. He has worked with literally hundreds of businesses\, from start-ups to multi-nationals. Brian regularly presents on varied business topics to groups of SME business owners\, and works alongside his retained clients on a 1:1 basis in order to support them with the development and growth of their business. \n \nhttps://www.linkedin.com/in/brianwoolrich/ \nwww.ukbusinessmentoring.co.uk \n  \n\n  \n 
URL:https://theicg.co.uk/event/icg-evening-talk-3/
CATEGORIES:ICG Event
ATTACH;FMTTYPE=:
END:VEVENT
BEGIN:VEVENT
DTSTART;TZID=Europe/London:20200430T110000
DTEND;TZID=Europe/London:20200430T120000
DTSTAMP:20260425T171816
CREATED:20200115T145024Z
LAST-MODIFIED:20200115T145024Z
UID:30175-1588244400-1588248000@theicg.co.uk
SUMMARY:ICG Webinar: Award For Independent Consultants - 2019 Finalists Share Their Submissions
DESCRIPTION:You’ve seen the articles\, listened to their vox pops\, shared their social media feeds – now it’s time to really understand what made our four 2019 Finalists’ submissions really stand out. Hear about the work that really impressed the judges and get ideas for what you can submit this year. Let’s celebrate everything about being an independent consultant and show your support by registering for this webinar. \nRegister for this free webinar here\nGenerously sponsored by Teneo Translations; small but beautifully formed\, we are able to handle any sized translation or interpreting assignment into any language \n  \n  \n  \n \n  \nRead more about our four Finalists here.  \n 
URL:https://theicg.co.uk/event/icg-webinar-award-for-independent-consultants-2019-finalists-share-their-submissions-3/
LOCATION:Online – GoToWebinar
CATEGORIES:ICG Event
ATTACH;FMTTYPE=:
END:VEVENT
END:VCALENDAR