BEGIN:VCALENDAR
VERSION:2.0
PRODID:-//The ICG - ECPv6.3.3.1//NONSGML v1.0//EN
CALSCALE:GREGORIAN
METHOD:PUBLISH
X-WR-CALNAME:The ICG
X-ORIGINAL-URL:https://theicg.co.uk
X-WR-CALDESC:Events for The ICG
REFRESH-INTERVAL;VALUE=DURATION:PT1H
X-Robots-Tag:noindex
X-PUBLISHED-TTL:PT1H
BEGIN:VTIMEZONE
TZID:Europe/London
BEGIN:DAYLIGHT
TZOFFSETFROM:+0000
TZOFFSETTO:+0100
TZNAME:BST
DTSTART:20240331T010000
END:DAYLIGHT
BEGIN:STANDARD
TZOFFSETFROM:+0100
TZOFFSETTO:+0000
TZNAME:GMT
DTSTART:20241027T010000
END:STANDARD
END:VTIMEZONE
BEGIN:VEVENT
DTSTART;TZID=Europe/London:20240507T120000
DTEND;TZID=Europe/London:20240507T124500
DTSTAMP:20260425T130041
CREATED:20240103T125136Z
LAST-MODIFIED:20240215T113934Z
UID:36728-1715083200-1715085900@theicg.co.uk
SUMMARY:ICG Member Book Group: 'The Status Game' by Will Storr
DESCRIPTION:the ICG’s Book Group is designed to give members a flavour of a range of books that other members value and encourage others to read and discuss them. \nEach session will be led by an ICG member who’ll talk briefly about the content of the book they’ve chosen\, why they chose it\, and how they interpret and feel about it.  \nWe’ll then open the session up to others to contribute their own thoughts. You don’t have to have read the book being discussed to attend the session\, but we encourage as many of you as possible to do so. \n\nThis session will be led by Kath Rhodes\, Qual Street\, and will be about ‘The Status Game: On Social Position And How We Use It’ by Will Storr. \nThe book explores the different ways people get/ give status to each other.  For anyone interested in group dynamics and cultural shifts\, this is a worth a read. \n \nNo need to pre-register for these sessions. Login is https://zoom.us/j/94544936426 \n  \n 
URL:https://theicg.co.uk/event/icg-member-book-group/
CATEGORIES:ICG Event
ATTACH;FMTTYPE=image/png:https://theicg.co.uk/wp-content/uploads/2024/01/Minimalist-Book-Group-Instagram-Post-2.png
END:VEVENT
END:VCALENDAR