BEGIN:VCALENDAR
VERSION:2.0
PRODID:-//The ICG - ECPv6.3.3.1//NONSGML v1.0//EN
CALSCALE:GREGORIAN
METHOD:PUBLISH
X-ORIGINAL-URL:https://theicg.co.uk
X-WR-CALDESC:Events for The ICG
REFRESH-INTERVAL;VALUE=DURATION:PT1H
X-Robots-Tag:noindex
X-PUBLISHED-TTL:PT1H
BEGIN:VTIMEZONE
TZID:Europe/London
BEGIN:DAYLIGHT
TZOFFSETFROM:+0000
TZOFFSETTO:+0100
TZNAME:BST
DTSTART:20250330T010000
END:DAYLIGHT
BEGIN:STANDARD
TZOFFSETFROM:+0100
TZOFFSETTO:+0000
TZNAME:GMT
DTSTART:20251026T010000
END:STANDARD
END:VTIMEZONE
BEGIN:VEVENT
DTSTART;TZID=Europe/London:20250710T180000
DTEND;TZID=Europe/London:20250710T220000
DTSTAMP:20260423T180500
CREATED:20250513T130106Z
LAST-MODIFIED:20250513T130106Z
UID:38636-1752170400-1752184800@theicg.co.uk
SUMMARY:ICG Annual Summer Party\, London
DESCRIPTION:This event has been generously sponsored by Rigour Research\, your data collection and analysis specialists. \n \n  \nTickets are now available for the ICG’s annual Summer Party on Thursday 10 July\, 6pm\, at the Lockhouse\, Paddington\, London. \n \nTickets are £40+VAT+ticketing fees\, to include great food and drinks. \nBuy your tickets here \n 
URL:https://theicg.co.uk/event/icg-annual-summer-party-london/
CATEGORIES:ICG Event
ATTACH;FMTTYPE=image/png:https://theicg.co.uk/wp-content/uploads/2025/05/Summer-Party-2025-flier-.png
END:VEVENT
BEGIN:VEVENT
DTSTART;TZID=Europe/London:20250716T143000
DTEND;TZID=Europe/London:20250716T150000
DTSTAMP:20260423T180500
CREATED:20240103T111318Z
LAST-MODIFIED:20250714T154109Z
UID:36725-1752676200-1752678000@theicg.co.uk
SUMMARY:ICG Member Wellbeing Get-Together
DESCRIPTION:A bi-monthly 30-min online ‘Wellbeing Get-Together’  for ICG members. \n \nThese are opportunities for members to; \n\nshare/offload whatever they’d like to share with others\, whatever size or type of issue\, concern\, or niggle being faced\nask others for their thoughts/advice about this if desired\nget to know each other further through this.\n\nThink of these sessions as water-cooler moments; your chance to offload\, chat\, engage with others. It can be isolating working alone/in small businesses and these sessions are designed to mitigate against that. \nFeel free to chat about what’s going on in your lives holistically/widely\, not just about work-related stuff. \nAnother way to bring our community of members together. \nNo need to pre-register for these bi- monthly sessions: Login is https://zoom.us/j/93720922779 \n 
URL:https://theicg.co.uk/event/icg-member-wellbeing-get-together/
CATEGORIES:ICG Event
ATTACH;FMTTYPE=image/jpeg:https://theicg.co.uk/wp-content/uploads/2022/01/knowledge-2-497122662.jpg
END:VEVENT
BEGIN:VEVENT
DTSTART;TZID=Europe/London:20250721T170000
DTEND;TZID=Europe/London:20250721T183000
DTSTAMP:20260423T180500
CREATED:20250630T141550Z
LAST-MODIFIED:20250701T114256Z
UID:38833-1753117200-1753122600@theicg.co.uk
SUMMARY:ICG and MRS - with a pub meet up before and afterwards
DESCRIPTION:For ICG members only. \n  \nJoin us in Central London (or online) to hear from Jane Frost (CEO of The MRS) at the MRS HQ who’ll  tell us all about what the MRS is up to and the benefits available to members. This is a great opportunity to hear directly from Jane and also to ask questions. \nIf you’re joining us in London\, we will be meeting before and afterwards in a nearby pub for an opportunity to chat with other ICG members. \nCentral London meet up \nTimings:  \n4pm: The Slaughtered Lamb 34-35 Great Sutton Street\, EC1V 0DX \n5pm: The Market Research Society 15 Northburgh Street\, London EC1V 0JR \n6.30pm: The Slaughtered Lamb 34-35 Great Sutton Street\, EC1V 0DX \nTo attend the MRS talk in person please register here\nJoin the MRS remotely at 5.30pm on Teams \nWhilst there is a limit of 50 attendees in person\, this will be a hybrid event and all are welcome to join online via Teams: \nMicrosoft Teams – Join here\nJoin the meeting now \nMeeting ID: 348 391 358 289 \nPasscode: TW3Bm3NC \n  \n 
URL:https://theicg.co.uk/event/icg-and-mrs-with-a-pub-meet-up-before-and-afterwards/
CATEGORIES:External Event,ICG Event
ATTACH;FMTTYPE=image/png:https://theicg.co.uk/wp-content/uploads/2023/02/MRS-SIG.png
END:VEVENT
END:VCALENDAR