BEGIN:VCALENDAR
VERSION:2.0
PRODID:-//The ICG - ECPv6.3.3.1//NONSGML v1.0//EN
CALSCALE:GREGORIAN
METHOD:PUBLISH
X-WR-CALNAME:The ICG
X-ORIGINAL-URL:https://theicg.co.uk
X-WR-CALDESC:Events for The ICG
REFRESH-INTERVAL;VALUE=DURATION:PT1H
X-Robots-Tag:noindex
X-PUBLISHED-TTL:PT1H
BEGIN:VTIMEZONE
TZID:UTC
BEGIN:STANDARD
TZOFFSETFROM:+0000
TZOFFSETTO:+0000
TZNAME:UTC
DTSTART:20220101T000000
END:STANDARD
END:VTIMEZONE
BEGIN:VEVENT
DTSTART;TZID=UTC:20220406T110000
DTEND;TZID=UTC:20220406T120000
DTSTAMP:20260423T051751
CREATED:20220324T120157Z
LAST-MODIFIED:20220405T092212Z
UID:30684-1649242800-1649246400@theicg.co.uk
SUMMARY:Segmentation Is Cool\, No Really\, It Really Is…
DESCRIPTION:This webinar is generously sponsored by Rigour Research Ltd\, your data collection and advanced analysis partners \n  \n \nJoin ICG member Nic Bulois\, Insight Angels\, in this round-table online discussion about when and how to do segmentation studies and the range of models out there which could help. \nREGISTER FOR THIS INTERACTIVE WEBINAR – BE READY TO SHARE YOUR THOUGHTS!
URL:https://theicg.co.uk/event/segmentation-is-cool-no-really-it-really-is/
LOCATION:Online
CATEGORIES:ICG Webinar
ATTACH;FMTTYPE=image/jpeg:https://theicg.co.uk/wp-content/uploads/2022/03/social-media.jpeg
ORGANIZER;CN="Sally Alsop":MAILTO:webinars@theicg.co.uk
END:VEVENT
END:VCALENDAR