BEGIN:VCALENDAR
VERSION:2.0
PRODID:-//The ICG - ECPv6.3.3.1//NONSGML v1.0//EN
CALSCALE:GREGORIAN
METHOD:PUBLISH
X-ORIGINAL-URL:https://theicg.co.uk
X-WR-CALDESC:Events for The ICG
REFRESH-INTERVAL;VALUE=DURATION:PT1H
X-Robots-Tag:noindex
X-PUBLISHED-TTL:PT1H
BEGIN:VTIMEZONE
TZID:UTC
BEGIN:STANDARD
TZOFFSETFROM:+0000
TZOFFSETTO:+0000
TZNAME:UTC
DTSTART:20220101T000000
END:STANDARD
END:VTIMEZONE
BEGIN:VEVENT
DTSTART;TZID=UTC:20220825T110000
DTEND;TZID=UTC:20220825T120000
DTSTAMP:20260423T175907
CREATED:20220817T102535Z
LAST-MODIFIED:20220817T102620Z
UID:31397-1661425200-1661428800@theicg.co.uk
SUMMARY:Using Anthropology in Market Research
DESCRIPTION:Using Anthropology in Market Research with Dr Jonathan Newman\, Deep Research – Thurs 25 Aug \nGenerously sponsored by Indiefield  \n \nAnthropology helps understand how different people know the world in different ways and how they make meaning and act in accordance with their visions of where they are. For market researchers\, such knowledge is invaluable because it takes us into the changeable realms of interpretation\, desire\, socially acceptable norms and value. \nThe talk gives an overview of social anthropology and ethnography in order to provide perspectives and tools to help researchers dig a little deeper. \nRegister here \nONCE YOU’VE REGISTERED\, LOGIN FOR THE WEBINAR IS https://meet.goto.com/145863309 \n 
URL:https://theicg.co.uk/event/using-anthropology-in-market-research/
LOCATION:Online – GoToWebinar
CATEGORIES:ICG Webinar
END:VEVENT
END:VCALENDAR