BEGIN:VCALENDAR
VERSION:2.0
PRODID:-//The ICG - ECPv6.3.3.1//NONSGML v1.0//EN
CALSCALE:GREGORIAN
METHOD:PUBLISH
X-ORIGINAL-URL:https://theicg.co.uk
X-WR-CALDESC:Events for The ICG
REFRESH-INTERVAL;VALUE=DURATION:PT1H
X-Robots-Tag:noindex
X-PUBLISHED-TTL:PT1H
BEGIN:VTIMEZONE
TZID:Europe/London
BEGIN:DAYLIGHT
TZOFFSETFROM:+0000
TZOFFSETTO:+0100
TZNAME:BST
DTSTART:20240331T010000
END:DAYLIGHT
BEGIN:STANDARD
TZOFFSETFROM:+0100
TZOFFSETTO:+0000
TZNAME:GMT
DTSTART:20241027T010000
END:STANDARD
END:VTIMEZONE
BEGIN:VEVENT
DTSTART;TZID=Europe/London:20240606T110000
DTEND;TZID=Europe/London:20240606T120000
DTSTAMP:20260423T180151
CREATED:20240522T145525Z
LAST-MODIFIED:20240522T145525Z
UID:37447-1717671600-1717675200@theicg.co.uk
SUMMARY:Five Big AI Trends for Researchers and Insight Professionals
DESCRIPTION:This webinar has been generously sponsored by Qualzy \n \nJoin Mike Stevens\, Founder of Insight Platforms and What Next Strategy & Planning\, as well as an ICG member\, where he’ll talk about developments in AI that will have s big impact on researchers going forward: \n\nsynthetic data\nAI agents\nmultimodal assistants\nempathetic language models\nasynchronous video\n\nMike Stevens \nMike is the founder of Insight Platforms\, the leading online directory\, learning and events site for modern research and insights. \nHe is also a leading consultant\, advisor and writer at the intersection of technology\, research and analytics. \nHe has over 25 years’ experience in insight\, software and consulting firms including Vision Critical\, where he led the EMEA region; and Kantar\, where he managed regional business units and global accounts. \nHis consultancy\, What Next Strategy & Planning\, helps client teams\, agencies and tech firms to develop skills\, adopt technology and implement process change. \n \nhttps://www.linkedin.com/in/mjbstevens/ \nRegister for this webinar here 
URL:https://theicg.co.uk/event/five-big-ai-trends-for-researchers-and-insight-professionals/
CATEGORIES:ICG Webinar
ATTACH;FMTTYPE=image/jpeg:https://theicg.co.uk/wp-content/uploads/2023/05/laptop-g0eeebfa48_1920.jpg
END:VEVENT
BEGIN:VEVENT
DTSTART;TZID=Europe/London:20240620T110000
DTEND;TZID=Europe/London:20240620T120000
DTSTAMP:20260423T180151
CREATED:20240610T103108Z
LAST-MODIFIED:20240610T103747Z
UID:37511-1718881200-1718884800@theicg.co.uk
SUMMARY:How bad are focus groups? Carbon Literacy for Researchers
DESCRIPTION:The webinar acts as a bitesize introduction to the full one-day training\, Carbon Literacy for the Insights Sector\, accredited by the Carbon Literacy Project and starts to answer these questions: \n\nWhat is carbon literacy?\nWhat does a tonne of carbon look like and what does it mean?\nHow bad are focus groups? (Clue: Not necessarily that bad)\nWhat about the insights sector – how is it doing?\nWhat steps should we take to reduce our own and our sector emissions?\nWhat types of steps have others taken?\nHow can we maximise our own and our organisations’ impact?\nHow can I become certified Carbon Literate?\n\nWhy people should attend \nKnowing what actions to take that will really reduce our emissions\, as individuals\, communities and organisations is complex and challenging and can often leave us either paralysed\, or potentially making less helpful decisions. \nOur role as insight professionals arguably gives us even greater responsibility\, as we advise client organisations in our project work. \nBy becoming Carbon Literate – learning where we have the most impact and what we can do to reduce it – we can start to get our own houses in order and be in a strong position to advise clients\, with a clearer understanding of the relative impact of our activities\, to make the greatest impact in reaching Net Zero. \nJenny Kedros\, Independent researcher (and ICG member) and climate educator\, Kedros Consulting Ltd. \nLinkedIn www.linkedin.com/in/jenny-kedros \nhttps://theicg.co.uk/member/jennykedros-consulting-co-uk/ \n  \n \nJenny is an independent research consultant and climate educator with specialisms in education and sustainability. As Shift Insight’s Research and Insights Director till 2023\, Jenny led on education research as well as developing sustainability as a core specialism. She works with agencies and clients on education and sustainability research projects\, and continues to create new\, and learn existing\, climate education courses and workshops. \nJenny completed The Oxford Climate Emergency Programme with the University of Oxford (Saïd Business School and The Smith Institute of Enterprise and Environment) in 2021 and was certified Carbon Literate after attending the Carbon Literacy for Interested Organisations course in 2022. Her organisational pledge was to create a sector specific Carbon Literacy course\, which was developed with her team at Shift with support from the Insights Climate Collective. The full training was accredited by the Carbon Literacy Project in May 2023 and has been delivered in-house in agencies and via the MRS. \nThe current average carbon footprint of a UK citizen is 12.7 tonnes CO2e. At the time of writing in June 2024 the Carbon Literacy Project estimated the amount of carbon saved by delegates’ pledged actions across the whole project to be at least 348\,000 tonnes of CO2e. \nRegister for this webinar here 
URL:https://theicg.co.uk/event/how-bad-are-focus-groups-carbon-literacy-for-researchers/
CATEGORIES:ICG Webinar
ATTACH;FMTTYPE=image/jpeg:https://theicg.co.uk/wp-content/uploads/2024/03/ask-expert-517666040.jpg
END:VEVENT
BEGIN:VEVENT
DTSTART;TZID=Europe/London:20240627T110000
DTEND;TZID=Europe/London:20240627T120000
DTSTAMP:20260423T180151
CREATED:20240610T110039Z
LAST-MODIFIED:20240617T095528Z
UID:37521-1719486000-1719489600@theicg.co.uk
SUMMARY:AURA's Working Well Together Charter: What Is It And How Does It Impact Independent Consultancies?
DESCRIPTION:AURA launched its Working Well Together Charter at Quirks London on the 8th May 2024.\n\nThe Charter is founded on the  belief that the way clients and research agencies work together can make a\nreal difference to people’s confidence and well-being. AURA members who sign up to the AURA Working Well Together Charter have committed to a set of standards they will live up to when you work with them. \nAURA Working Well Together Charter May 2024 \nThis webinar will shed more light on what the Charter is and how this will be impact on independent consultants. \nIt will be led by AURA representative Ruth Hinton and ICG member Nick Bonney\, who was instrumental in its design. \nRuth Hinton \n \nWith a career in client-side consumer insight spanning over 20 years at a variety of major retail and hospitality brands\, and a background in psychology\, Ruth Hinton specialises in understanding the people behind the numbers and collaborating with colleagues to drive improvements for customers. \nRuth is currently Group Head of Customer Experience at Vue International\, and also Chair of AURA\, the UK’s biggest community exclusively for client-side researchers – providing content\, events and peer-to-peer support\, to inspire insight and drive impact within organisations. \nRegister for this session here \n 
URL:https://theicg.co.uk/event/auras-working-well-together-charter-what-it-is-and-how-it-impacts-independent-consultancies/
CATEGORIES:ICG Webinar
ATTACH;FMTTYPE=image/jpeg:https://theicg.co.uk/wp-content/uploads/2024/06/AURA-logo.jpg
END:VEVENT
END:VCALENDAR