BEGIN:VCALENDAR
VERSION:2.0
PRODID:-//The ICG - ECPv6.3.3.1//NONSGML v1.0//EN
CALSCALE:GREGORIAN
METHOD:PUBLISH
X-ORIGINAL-URL:https://theicg.co.uk
X-WR-CALDESC:Events for The ICG
REFRESH-INTERVAL;VALUE=DURATION:PT1H
X-Robots-Tag:noindex
X-PUBLISHED-TTL:PT1H
BEGIN:VTIMEZONE
TZID:Europe/London
BEGIN:DAYLIGHT
TZOFFSETFROM:+0000
TZOFFSETTO:+0100
TZNAME:BST
DTSTART:20200329T010000
END:DAYLIGHT
BEGIN:STANDARD
TZOFFSETFROM:+0100
TZOFFSETTO:+0000
TZNAME:GMT
DTSTART:20201025T010000
END:STANDARD
END:VTIMEZONE
BEGIN:VEVENT
DTSTART;TZID=Europe/London:20200924T110000
DTEND;TZID=Europe/London:20200924T120000
DTSTAMP:20260426T010259
CREATED:20200728T074103Z
LAST-MODIFIED:20200728T074103Z
UID:30200-1600945200-1600948800@theicg.co.uk
SUMMARY:ICG Webinar: Mindfulness For Researchers
DESCRIPTION:This webinar is generously sponsored by Perspective Research Services \nJoin us for a one hour workshop to explore the world of mindfulness and how it can support your role as a researcher. Through a mix of theory and practical exercises\, the session will cover: \n\nWhat mindfulness is\nHow mindfulness can support your wellbeing\, creativity and empathy as a researcher\nAn introduction to meditation\nAdvice on starting a mindfulness practice\n\nYou’ll leave with practical tips to start applying right away and a new understanding of how you can optimise your brain and body for wellbeing and insight. \nYour speaker\, Sam Toon \n \nSam was previously Research Director at Trinity McQueen and is now a freelance Research Professional and ICG member. After practicing mindfulness for some time\, she trained to teach mindfulness during a career break and set-up her own consultancy teaching mindfulness workshops and courses. She now runs this alongside her research work and enjoys bringing calm to the sometimes hectic world of Insight. \nWebsite: https://www.mindbrilliance.co.uk/ \n \n  \nREGISTER FOR THIS FREE WEBINAR HERE \n  \nJOIN US FOR 30 MINS BEFORE THIS WEBINAR FOR THE ICG’S AGM TO HEAR MORE ABOUT OUR PLANS FOR OUR FORTHCOMING YEAR. \n  \n 
URL:https://theicg.co.uk/event/icg-webinar-mindfulness-for-researchers-3/
CATEGORIES:ICG Webinar
ATTACH;FMTTYPE=:
ORGANIZER;CN="Sally Alsop":MAILTO:webinars@theicg.co.uk
END:VEVENT
END:VCALENDAR