BEGIN:VCALENDAR
VERSION:2.0
PRODID:-//The ICG - ECPv6.3.3.1//NONSGML v1.0//EN
CALSCALE:GREGORIAN
METHOD:PUBLISH
X-WR-CALNAME:The ICG
X-ORIGINAL-URL:https://theicg.co.uk
X-WR-CALDESC:Events for The ICG
REFRESH-INTERVAL;VALUE=DURATION:PT1H
X-Robots-Tag:noindex
X-PUBLISHED-TTL:PT1H
BEGIN:VTIMEZONE
TZID:Europe/London
BEGIN:DAYLIGHT
TZOFFSETFROM:+0000
TZOFFSETTO:+0100
TZNAME:BST
DTSTART:20230326T010000
END:DAYLIGHT
BEGIN:STANDARD
TZOFFSETFROM:+0100
TZOFFSETTO:+0000
TZNAME:GMT
DTSTART:20231029T010000
END:STANDARD
END:VTIMEZONE
BEGIN:VEVENT
DTSTART;TZID=Europe/London:20230518T110000
DTEND;TZID=Europe/London:20230518T120000
DTSTAMP:20260423T203034
CREATED:20230502T160620Z
LAST-MODIFIED:20230503T153356Z
UID:35670-1684407600-1684411200@theicg.co.uk
SUMMARY:Disability: Breaking down the barriers
DESCRIPTION:This webinar is generously sponsored by McGowan Transcriptions\, specialists in Market Research multiple voice transcription since 1993. \n \n  \nWe’re pleased to have ICG member Steven Lacey\, The Outsiders\, talk to us about his experiences and knowledge. \nSteven Lacey is an ex-strategist and award-winning qualitative researcher. He runs The Outsiders\, which conducts lots of research in the diversity space. Steven is disabled and neurodiverse. \nSteven will present to the ICG on ‘Disability breaking down the barriers’. He will describe his life and challenges and then explore the lives of those with disabilities\, the barriers\, and what brands can do. He will also provide tips on the best ways to conduct research\, how to represent people with disabilities in marketing and how to create good innovation. \nREGISTER HERE\n  \nOnce you’ve registered\, login is: \nJoin Zoom Meeting \nhttps://us06web.zoom.us/j/9884032090?pwd=YjNLcW92OCs3T3J1UE0xRUhVOEFTdz09 \nMeeting ID: 988 403 2090 \nPasscode: P8nA15 \n 
URL:https://theicg.co.uk/event/disability/
CATEGORIES:ICG Webinar
ATTACH;FMTTYPE=image/jpeg:https://theicg.co.uk/wp-content/uploads/2023/05/18-Expertise.jpg
ORGANIZER;CN="Sally Alsop":MAILTO:webinars@theicg.co.uk
END:VEVENT
END:VCALENDAR