BEGIN:VCALENDAR
VERSION:2.0
PRODID:-//The ICG - ECPv6.3.3.1//NONSGML v1.0//EN
CALSCALE:GREGORIAN
METHOD:PUBLISH
X-WR-CALNAME:The ICG
X-ORIGINAL-URL:https://theicg.co.uk
X-WR-CALDESC:Events for The ICG
REFRESH-INTERVAL;VALUE=DURATION:PT1H
X-Robots-Tag:noindex
X-PUBLISHED-TTL:PT1H
BEGIN:VTIMEZONE
TZID:Europe/London
BEGIN:DAYLIGHT
TZOFFSETFROM:+0000
TZOFFSETTO:+0100
TZNAME:BST
DTSTART:20230326T010000
END:DAYLIGHT
BEGIN:STANDARD
TZOFFSETFROM:+0100
TZOFFSETTO:+0000
TZNAME:GMT
DTSTART:20231029T010000
END:STANDARD
END:VTIMEZONE
BEGIN:VEVENT
DTSTART;TZID=Europe/London:20230713T140000
DTEND;TZID=Europe/London:20230713T150000
DTSTAMP:20260423T215904
CREATED:20230627T114500Z
LAST-MODIFIED:20230628T100446Z
UID:35918-1689256800-1689260400@theicg.co.uk
SUMMARY:Introduction to AMSR - a free resource for storytelling and bringing context to research and insights
DESCRIPTION:Please join ICG member Judith Staig for this webinar. \n \nTim Harford advises that\, when we see a number\, we should ask ‘is that a big number?’ One of the ways we can answer that question is to look at recent history. For example\, is the interest rate high? Only when compared with the last few years – back in November 1979\, it was 17%. \nThis webinar will introduce you to the AMSR – a fantastic free resource for researchers. The AMSR curates post-war market research projects\, papers\, and publications and is full of nuggets of gold that will help you put context around today’s markets\, find data to spin stories around and bring your insights to life. \nThe webinar uses the three recent AMSR publications to showcase stories about key issues of our time such as women at work\, sustainability\, diversity and inclusion\, inflation and referendums\, as well as to report on the changes and developments we have seen in our industry. Link to publications here \nWhat will I learn? You will know how to use the AMSR for your own research and also what you can do to become involved with what is one of the foremost and most valuable charitable endeavours in our industry. \nJudith Staig \n \nJudith is a writer and content strategist working in the research and insights sector. She helps AMSR with marcomms as a volunteer. \nREGISTER FOR THIS WEBINAR HERE \nhttps://www.linkedin.com/in/judith-staig-993153/ \n \nAMSR home
URL:https://theicg.co.uk/event/introduction-to-amsr-a-free-resource-for-storytelling-and-bringing-context-to-research-and-insights/
LOCATION:ICG Zoom Room: https://zoom.us/s/2071827436?pwd=ZXh6ZmFtSk9mcU84aG5qUkNMR2dwdz09
CATEGORIES:ICG Webinar
ATTACH;FMTTYPE=image/jpeg:https://theicg.co.uk/wp-content/uploads/2022/04/Judith-Staig-scaled-e1687867785888.jpg
END:VEVENT
END:VCALENDAR