BEGIN:VCALENDAR
VERSION:2.0
PRODID:-//The ICG - ECPv6.3.3.1//NONSGML v1.0//EN
CALSCALE:GREGORIAN
METHOD:PUBLISH
X-ORIGINAL-URL:https://theicg.co.uk
X-WR-CALDESC:Events for The ICG
REFRESH-INTERVAL;VALUE=DURATION:PT1H
X-Robots-Tag:noindex
X-PUBLISHED-TTL:PT1H
BEGIN:VTIMEZONE
TZID:Europe/London
BEGIN:DAYLIGHT
TZOFFSETFROM:+0000
TZOFFSETTO:+0100
TZNAME:BST
DTSTART:20230326T010000
END:DAYLIGHT
BEGIN:STANDARD
TZOFFSETFROM:+0100
TZOFFSETTO:+0000
TZNAME:GMT
DTSTART:20231029T010000
END:STANDARD
END:VTIMEZONE
BEGIN:VEVENT
DTSTART;TZID=Europe/London:20230928T140000
DTEND;TZID=Europe/London:20230928T150000
DTSTAMP:20260426T001929
CREATED:20230822T081219Z
LAST-MODIFIED:20230822T082122Z
UID:36229-1695909600-1695913200@theicg.co.uk
SUMMARY:Inclusive research: Unveiling the truths of Latino consumers
DESCRIPTION:Empathy is at the heart of qualitative research. Yet many factors can undermine understanding respondents\, especially when working with participants from different cultures. Whether we are conscious of them or not\, these factors can discourage respondents from sharing their experiences and perspectives – and hinder our efforts to uncover critical insights for business growth. \nKey takeaways from attending this webinar: \n\nBest practices for research involving Latino consumers\, including research design that contributes to cultural understanding and deep disco\nTwo successful case studies including how to communicate the key insights to stakeholders in a way that is relevant to the business and builds confidence.\n\nIsabel Aneyba\, Managing Director\, COMARKA Research \n \nIsabel Aneyba is founder and director at COMARKA\, a cross-cultural research partner based in Austin\, TX. She focuses on designing empathy experiences and innovative co-creation methods for better products and services. Her work has guided successful product and services launches in several categories including food and beverage\, retail\, health care and technology. \nShe has done extensive research in the U.S.\, Mexico and LATAM. For her work toward a more inclusive industry\, Isabel Aneyba received the REEL award (Research and Equitable Leadership) in 2020 and the recognition as one of the top 50 most influential insights leaders in the U.S. \nIsabel is also an ICG member. \n \nwww.comarka.com I  512.299.2077  \nYour Effective Cross-Cultural Research Partner \nREGISTER FOR THIS WEBINAR HERE 
URL:https://theicg.co.uk/event/inclusive-research-unveiling-the-truths-of-latino-consumers/
LOCATION:https://zoom.us/j/2071827436
CATEGORIES:ICG Webinar
ATTACH;FMTTYPE=image/jpeg:https://theicg.co.uk/wp-content/uploads/2023/06/eye-g5762246f9_1280-e1692692003699.jpg
END:VEVENT
END:VCALENDAR