BEGIN:VCALENDAR
VERSION:2.0
PRODID:-//The ICG - ECPv6.3.3.1//NONSGML v1.0//EN
CALSCALE:GREGORIAN
METHOD:PUBLISH
X-WR-CALNAME:The ICG
X-ORIGINAL-URL:https://theicg.co.uk
X-WR-CALDESC:Events for The ICG
REFRESH-INTERVAL;VALUE=DURATION:PT1H
X-Robots-Tag:noindex
X-PUBLISHED-TTL:PT1H
BEGIN:VTIMEZONE
TZID:Europe/London
BEGIN:DAYLIGHT
TZOFFSETFROM:+0000
TZOFFSETTO:+0100
TZNAME:BST
DTSTART:20240331T010000
END:DAYLIGHT
BEGIN:STANDARD
TZOFFSETFROM:+0100
TZOFFSETTO:+0000
TZNAME:GMT
DTSTART:20241027T010000
END:STANDARD
END:VTIMEZONE
BEGIN:VEVENT
DTSTART;TZID=Europe/London:20240201T110000
DTEND;TZID=Europe/London:20240201T120000
DTSTAMP:20260425T160859
CREATED:20221122T120234Z
LAST-MODIFIED:20240122T113609Z
UID:31883-1706785200-1706788800@theicg.co.uk
SUMMARY:Award for Independent Consultants 2023: Finalists Share Their Submissions
DESCRIPTION:This webinar has been sponsored by Yonder Data Solutions\, who are a trusted fieldwork and data collection company offering numerous services such as UK/International online data collection\, advanced analytics\, CATI\, dashboards and visualisation\, AI technology and omnibus services\n\n\nCome and hear from our 5 Award Finalists from last year about their submissions. Hear more about how they approached their work\, the hurdles they overcame\, what worked well and less well\, and why they chose to enter the Award. \nA great opportunity to learn from other consultants and ask them questions. Also an opportunity to find out more about the Award for 2024. \nOur Finalists \n\nAWARD WINNER:  Untapped Innovation: How research-led innovation helped BookTrust reach disadvantaged children\n\n\nHIGHLY COMMENDED: PS Research: How PS Research helped Cumbria’s third sector tell the story of their multi-million-pound participant-led employment programme\n\n\nMoorcroft Market Research:  Evolving a charity to meet future needs of people with learning disabilities (for Hft)\n\n\nHush Research and Strategy: Codifying connection for a better night’s sleep (for the Mayborn Group)\n\n\nWhite Rabbit Research: Helping children play their way (for the Children’s Coaching Collaborative).\n\n  \n\n				\n					\n				\n			\nREGISTER FOR THIS WEBINAR HERE (Zoom will then send you your login)
URL:https://theicg.co.uk/event/award-for-independent-consultants-2023-finalists-share-their-submissions/
CATEGORIES:ICG Webinar
ATTACH;FMTTYPE=image/jpeg:https://theicg.co.uk/wp-content/uploads/2023/12/MRS_Awards-23_0423v22.jpg
END:VEVENT
END:VCALENDAR