BEGIN:VCALENDAR
VERSION:2.0
PRODID:-//The ICG - ECPv6.3.3.1//NONSGML v1.0//EN
CALSCALE:GREGORIAN
METHOD:PUBLISH
X-WR-CALNAME:The ICG
X-ORIGINAL-URL:https://theicg.co.uk
X-WR-CALDESC:Events for The ICG
REFRESH-INTERVAL;VALUE=DURATION:PT1H
X-Robots-Tag:noindex
X-PUBLISHED-TTL:PT1H
BEGIN:VTIMEZONE
TZID:Europe/London
BEGIN:DAYLIGHT
TZOFFSETFROM:+0000
TZOFFSETTO:+0100
TZNAME:BST
DTSTART:20240331T010000
END:DAYLIGHT
BEGIN:STANDARD
TZOFFSETFROM:+0100
TZOFFSETTO:+0000
TZNAME:GMT
DTSTART:20241027T010000
END:STANDARD
END:VTIMEZONE
BEGIN:VEVENT
DTSTART;TZID=Europe/London:20240215T110000
DTEND;TZID=Europe/London:20240215T120000
DTSTAMP:20260423T203057
CREATED:20240108T115333Z
LAST-MODIFIED:20240212T095956Z
UID:36744-1707994800-1707998400@theicg.co.uk
SUMMARY:Webinar: Financial Planning: A Conversation
DESCRIPTION:We welcome IFA Victor Sacks\, VS Associates\,  to talk about some key areas of financial planning relevant to micro-business owners\, and answer your questions about this. \n \nSpecific areas to be covered include: \n\nretirement planning\nfinancial investments\nemployee responsibilities.\n\nThis webinar is designed to give you some food for thought\, rather than individual advice\, and will give you a chance to share thoughts with other attendees. \nREGISTER FOR THIS WEBINAR HERE: Zoom will then generate your login.
URL:https://theicg.co.uk/event/webinar-financial-planning-a-conversation/
CATEGORIES:ICG Webinar
ATTACH;FMTTYPE=image/jpeg:https://theicg.co.uk/wp-content/uploads/2023/06/money-g53e3b8e08_1280.jpg
END:VEVENT
END:VCALENDAR