BEGIN:VCALENDAR
VERSION:2.0
PRODID:-//The ICG - ECPv6.3.3.1//NONSGML v1.0//EN
CALSCALE:GREGORIAN
METHOD:PUBLISH
X-ORIGINAL-URL:https://theicg.co.uk
X-WR-CALDESC:Events for The ICG
REFRESH-INTERVAL;VALUE=DURATION:PT1H
X-Robots-Tag:noindex
X-PUBLISHED-TTL:PT1H
BEGIN:VTIMEZONE
TZID:Europe/London
BEGIN:DAYLIGHT
TZOFFSETFROM:+0000
TZOFFSETTO:+0100
TZNAME:BST
DTSTART:20240331T010000
END:DAYLIGHT
BEGIN:STANDARD
TZOFFSETFROM:+0100
TZOFFSETTO:+0000
TZNAME:GMT
DTSTART:20241027T010000
END:STANDARD
END:VTIMEZONE
BEGIN:VEVENT
DTSTART;TZID=Europe/London:20240530T110000
DTEND;TZID=Europe/London:20240530T120000
DTSTAMP:20260426T002656
CREATED:20240430T113939Z
LAST-MODIFIED:20240529T160033Z
UID:37370-1717066800-1717070400@theicg.co.uk
SUMMARY:Webinar: Mushrooms have a branding issue
DESCRIPTION:This webinar has been generously sponsored by Indeemo \n \n  \nMushrooms are having a moment. But as the functional shroom category booms (think mushroom coffees\, teas\, powders\, supplements\, chocolates\, blends and super blends)\, what does it mean to a myco-curious audience who still associate mushrooms with grilled cheese or magic (the illegal kind)? \nIn this session\, ICG member Jess Jorgensen (Cultural Strategist and Mycophile)\, with Kim Townend (Social listening-fuelled Cultural and Social Strategist) unpack the order and chaos of functional mushrooms\, and how brands can avoid shroom boom… to bust. \nWhy attend? \n\nSubstantial global interest and investment in this fast-growing category (projected $136bn market value by 2032)\nBig brand interest in capitalising on mushrooms (e.g. in health & wellness\, food\, pet food\, beverages\, apparel\, retail\, cannabis\, beauty)\nNiche category exploding into mainstream; learnings can be applied across similar categories\nMushrooms are fun!\n\nMore about Jess here \nMore about Kim here \nRegister for this webinar here
URL:https://theicg.co.uk/event/webinar-mushrooms-have-a-branding-issue/
CATEGORIES:ICG Webinar
ATTACH;FMTTYPE=image/jpeg:https://theicg.co.uk/wp-content/uploads/2024/04/Mushrooms-Website.jpeg
END:VEVENT
END:VCALENDAR