BEGIN:VCALENDAR
VERSION:2.0
PRODID:-//The ICG - ECPv6.3.3.1//NONSGML v1.0//EN
CALSCALE:GREGORIAN
METHOD:PUBLISH
X-WR-CALNAME:The ICG
X-ORIGINAL-URL:https://theicg.co.uk
X-WR-CALDESC:Events for The ICG
REFRESH-INTERVAL;VALUE=DURATION:PT1H
X-Robots-Tag:noindex
X-PUBLISHED-TTL:PT1H
BEGIN:VTIMEZONE
TZID:Europe/London
BEGIN:DAYLIGHT
TZOFFSETFROM:+0000
TZOFFSETTO:+0100
TZNAME:BST
DTSTART:20250330T010000
END:DAYLIGHT
BEGIN:STANDARD
TZOFFSETFROM:+0100
TZOFFSETTO:+0000
TZNAME:GMT
DTSTART:20251026T010000
END:STANDARD
END:VTIMEZONE
BEGIN:VEVENT
DTSTART;TZID=Europe/London:20250708T160000
DTEND;TZID=Europe/London:20250708T164500
DTSTAMP:20260423T065559
CREATED:20250624T122059Z
LAST-MODIFIED:20250624T122059Z
UID:38801-1751990400-1751993100@theicg.co.uk
SUMMARY:Qual researchers’ big opportunity with smaller brands
DESCRIPTION:This Knowledge Share has been generously sponsored by Yasna.ai\, the AI-powered platform that helps independent researchers\, consultants\, and research agencies scale in-depth interviews. Claim your free 14 days Yasna PRO free trial today – conduct ±50 interviews (worth €100)\, sign up at yasna.ai \n \nThis Knowledge Share will be presented by ICG member Hugh Carling \n \nNew technology like Generative AI is enabling smaller brands to regularly access qualitative insights for the first time. We’ll explore how and why this development will grow the industry over the coming years and as it does\, provide big opportunities for independent qualitative researchers. \nSpecifically\, we’ll cover: \n\nThe scope of this growing market\nSmaller brands and qual research – then and now\nThe technologies driving change\nThe risks in that change\nThe opportunity for independent researchers\nHow you can capitalise on it\n\nThis will be supported by both primary and desk research\, and illustrated with recent examples. \nHugh Carling\, is a founder of Liveminds\, a pioneer of mobile qual and the creator of Behavioural Recruitment\, the MRS award-winning service that uses social networks to engage fresh participants in 190 countries. \nLiveminds have integrated generative AI throughout their mobile qual and recruitment platform to deliver curated insight videos from global participants in just 48 hours. Their mission is to enable every business to have access to the insights they need to grow. \n \n  \nJoin this session here  (no need to pre register)\n  \n 
URL:https://theicg.co.uk/event/qual-researchers-big-opportunity-with-smaller-brands/
CATEGORIES:Knowledge Share
ATTACH;FMTTYPE=image/jpeg:https://theicg.co.uk/wp-content/uploads/2024/07/Knowledge-Share-scaled.jpg
END:VEVENT
END:VCALENDAR