BEGIN:VCALENDAR
VERSION:2.0
PRODID:-//The ICG - ECPv6.3.3.1//NONSGML v1.0//EN
CALSCALE:GREGORIAN
METHOD:PUBLISH
X-ORIGINAL-URL:https://theicg.co.uk
X-WR-CALDESC:Events for The ICG
REFRESH-INTERVAL;VALUE=DURATION:PT1H
X-Robots-Tag:noindex
X-PUBLISHED-TTL:PT1H
BEGIN:VTIMEZONE
TZID:Europe/London
BEGIN:DAYLIGHT
TZOFFSETFROM:+0000
TZOFFSETTO:+0100
TZNAME:BST
DTSTART:20240331T010000
END:DAYLIGHT
BEGIN:STANDARD
TZOFFSETFROM:+0100
TZOFFSETTO:+0000
TZNAME:GMT
DTSTART:20241027T010000
END:STANDARD
END:VTIMEZONE
BEGIN:VEVENT
DTSTART;TZID=Europe/London:20240731T130000
DTEND;TZID=Europe/London:20240731T133000
DTSTAMP:20260423T051150
CREATED:20240708T153149Z
LAST-MODIFIED:20240715T115427Z
UID:37654-1722430800-1722432600@theicg.co.uk
SUMMARY:B2B Research Myths
DESCRIPTION:This Lunch&Learn will be run by Internet Research Bureau – IRB \n \nJoin this 30-minute session to better understand: \n\nKey B2B research myths/stereotypes and how IRB is addressing them. E.g.\, Myth #1 B2B respondents quality is too poor given the cost. We’ll show what extra quality measures IRB and other leading sample providers apply to maintain higher quality of b2b sample. And also show how we can be cost effective without sacrificing on quality and relevant for smaller consultancies\nSome relevant case studies (inc. one run with an ICG member) and how they relate to your business: demonstrating capabilities\, timings\, targets we can reach etc.\nOnline and off-line B2B research we can help ICG members with.\n\nThis session is for any consultants interested in conducting primary B2B research (online\, CATI\, qual recruitment)\, sample only or full-service. \nOur speakers:  \nElena Speer\, PhD European Sales Director at IRB \n \nElena is an industry veteran with 18 years of extensive experience in both B2B and B2C market research. She joined IRB from her previous roles at Ipsos and PureSpectrum\, where she led significant business development efforts. Elena’s impressive background is also marked by her tenure as Strategic Planning Director at top advertising agencies such as BBDO\, Leo Burnett\, and Saatchi & Saatchi. She holds a PhD in Psycholinguistics and a bachelor degree in business administration. \nelena.speer@irbureau.com \n+44(0)7967790823 \nhttps://www.linkedin.com/in/elenaspeer/ \n \nHome \n \nDavid Winter \n \nDavid Winter has been MD Europe for IRB since 2020\, having worked at Lightspeed and Kantar for eight years. \nHe has been developing IRB’s commercial footprint during that time\, focusing on MRAs and smaller consultancies\, who fit well with IRB’s flexible approach. \nTogether with Elena and other team members he promotes IRB’s panel and offline recruitment offering. \n“We are now offering a full B2B recruitment and fieldwork service\, for a wide range of quant and qual projects. I have been fortunate to have worked with many ICG members and very much look forward to the opportunity to meet you on 31st July” \nDavid holds degrees in Theology and Law and is a sports enthusiast. \nYou can reach him at david.winter@irbureau.com \, 07714 244686 or (16) David Winter | LinkedIn \n  \nRegister for this session here 
URL:https://theicg.co.uk/event/b2b-research-myths/
CATEGORIES:Lunch&Learn
ATTACH;FMTTYPE=image/jpeg:https://theicg.co.uk/wp-content/uploads/2022/03/icg.lunch_.learn_.jpg
END:VEVENT
END:VCALENDAR