BEGIN:VCALENDAR
VERSION:2.0
PRODID:-//The ICG - ECPv6.3.3.1//NONSGML v1.0//EN
CALSCALE:GREGORIAN
METHOD:PUBLISH
X-ORIGINAL-URL:https://theicg.co.uk
X-WR-CALDESC:Events for The ICG
REFRESH-INTERVAL;VALUE=DURATION:PT1H
X-Robots-Tag:noindex
X-PUBLISHED-TTL:PT1H
BEGIN:VTIMEZONE
TZID:Europe/London
BEGIN:DAYLIGHT
TZOFFSETFROM:+0000
TZOFFSETTO:+0100
TZNAME:BST
DTSTART:20260329T010000
END:DAYLIGHT
BEGIN:STANDARD
TZOFFSETFROM:+0100
TZOFFSETTO:+0000
TZNAME:GMT
DTSTART:20261025T010000
END:STANDARD
END:VTIMEZONE
BEGIN:VEVENT
DTSTART;TZID=Europe/London:20260225T130000
DTEND;TZID=Europe/London:20260225T133000
DTSTAMP:20260423T052715
CREATED:20260119T170518Z
LAST-MODIFIED:20260119T171847Z
UID:39409-1772024400-1772026200@theicg.co.uk
SUMMARY:Transform historical research data into compelling new stories
DESCRIPTION:  \n  \nIn this session hosted by QuestionPro’s Senior Account Manger Oku Egho\, you’ll learn how to add multiple surveys onto their intuitive data visualisation and charting platform\, Business Intelligence. If you’re struggling with limited funds\, why not utilise existing survey data and create engaging new infographics\, splicing data to produce narratives that will cut-through to give your customers that competitive edge. \nWhat you’ll learn  \n\nCreate interactive Data Vis to help showcase data and tell engaging stories\nBuild dashboards from multiple surveys in minutes not hours\nUtilise smart widgets and fully customisable dashboards to build baseline reports representative of your brand\nTake advantage of our exclusive 20% discount for ICG members\n\nOur Speaker – Oku Egho\nSenior Account Manager\, QuestionPro \nA dynamic\, accomplished customer-centric Account Manager who’s spent the past 5 years at QuestionPro helping researchers\, independent consultants and enterprise clients excel in understanding their markets\, making better informed decisions whilst addressing complex insight projects. \n  \n  \n\nRegister for this session here \nOnline Survey Software and Tools | QuestionPro \n(5) Oku Egho | LinkedIn
URL:https://theicg.co.uk/event/transform-historical-research-data-into-compelling-new-stories/
CATEGORIES:Lunch&Learn
ATTACH;FMTTYPE=image/jpeg:https://theicg.co.uk/wp-content/uploads/2022/03/icg.lunch_.learn_.jpg
END:VEVENT
END:VCALENDAR