BEGIN:VCALENDAR
VERSION:2.0
PRODID:-//The ICG - ECPv6.3.3.1//NONSGML v1.0//EN
CALSCALE:GREGORIAN
METHOD:PUBLISH
X-WR-CALNAME:The ICG
X-ORIGINAL-URL:https://theicg.co.uk
X-WR-CALDESC:Events for The ICG
REFRESH-INTERVAL;VALUE=DURATION:PT1H
X-Robots-Tag:noindex
X-PUBLISHED-TTL:PT1H
BEGIN:VTIMEZONE
TZID:UTC
BEGIN:STANDARD
TZOFFSETFROM:+0000
TZOFFSETTO:+0000
TZNAME:UTC
DTSTART:20220101T000000
END:STANDARD
END:VTIMEZONE
BEGIN:VEVENT
DTSTART;TZID=UTC:20220914T130000
DTEND;TZID=UTC:20220914T133000
DTSTAMP:20260423T054149
CREATED:20220905T114136Z
LAST-MODIFIED:20220905T114136Z
UID:31395-1663160400-1663162200@theicg.co.uk
SUMMARY:Lunch&Learn with Caplena 
DESCRIPTION:FREE\n\n\n\nWe welcome Caplena for this Lunch&Learn\, a half-hour lunchtime slot where members can informally hear about how organisations can help them in their work. \n \n  \n\nCaplena uses Augmented Intelligence to drastically reduce the amount of time it takes to analyze large amounts of free text from reviews\, or responses to open-ended questions. Within minutes Caplena identifies topics and auto-tags your entire dataset\, freeing you from repetitive categorization. \nUsing modern machine learning platforms and a streamlined analysis process can achieve ultra-fast turn around times. Nevertheless\, it is not economically feasible to develop and operate cutting-edge deep learning algorithms for a single market research company. We have dedicate our entire energy to help you overcome that technological gap. \n\nLunch&Learn presenters keep ICG members up to speed with services that can help them run their businesses. Please support them by attending.\nSpecifically\, what will you gain from attending this session?\nIn this Lunch and Learn\, we will introduce Caplena\, the technology behind it\, and how it can make the tedious process of analysing open-ends much easier. \nOur Presenter: Pascal de Buren\nThis Lunch and Learn will be led by Pascal de Buren\, Co-Founder and Machine Learning Engineer. \nPascal\, one of Caplena’s Co-Founders and Machine Learning Engineer\, combines deep AI development in Natural Language and Computer Vision with vast experience in bringing AI technology into products. Pascal developed patented AI software for one of the largest insurance software providers in the world before founding Caplena. He holds a master’s degree in interdisciplinary sciences from ETH Zurich. \nAnd additionally\, Caplena are generously offering all ICG members a discount:\n15% Discount Code: Use this code to redeem: \nhttps://caplena.com/app/account/subscription?coupon=LUNCHLEARN_22 \nFurther links\n– Website: www.caplena.com\n– Linkedin: https://www.linkedin.com/company/caplena/\n– Instagram: https://www.instagram.com/caplena_ag/\n– Facebook: https://www.facebook.com/CaplenaAG\n– Twitter: https://twitter.com/CaplenaCH \n  \nLogin for the Lunch&Learn is https://global.gotomeeting.com/join/815667629\nSee you there! \n  \n 
URL:https://theicg.co.uk/event/lunchlearn-with-caplena/
CATEGORIES:Lunch&Learn
END:VEVENT
END:VCALENDAR