BEGIN:VCALENDAR
VERSION:2.0
PRODID:-//The ICG - ECPv6.3.3.1//NONSGML v1.0//EN
CALSCALE:GREGORIAN
METHOD:PUBLISH
X-WR-CALNAME:The ICG
X-ORIGINAL-URL:https://theicg.co.uk
X-WR-CALDESC:Events for The ICG
REFRESH-INTERVAL;VALUE=DURATION:PT1H
X-Robots-Tag:noindex
X-PUBLISHED-TTL:PT1H
BEGIN:VTIMEZONE
TZID:Europe/London
BEGIN:DAYLIGHT
TZOFFSETFROM:+0000
TZOFFSETTO:+0100
TZNAME:BST
DTSTART:20240331T010000
END:DAYLIGHT
BEGIN:STANDARD
TZOFFSETFROM:+0100
TZOFFSETTO:+0000
TZNAME:GMT
DTSTART:20241027T010000
END:STANDARD
END:VTIMEZONE
BEGIN:VEVENT
DTSTART;TZID=Europe/London:20241023T130000
DTEND;TZID=Europe/London:20241023T133000
DTSTAMP:20260423T201426
CREATED:20241008T100300Z
LAST-MODIFIED:20241008T101054Z
UID:37891-1729688400-1729690200@theicg.co.uk
SUMMARY:How to analyse tens of thousands of open ends and get quant insights from raw data fast!
DESCRIPTION:Join Ange Taylor\, AddMaple (and also ICG member) who will show you how to save hours in analysis and how to spot relationships in your data that go beyond guess work\, allowing you more strategic time to craft your insight stories! \nICG members Dan Young and Barbara Du Perron already use AddMaple – why don’t you join them? \nMore specifically\, Ange will cover: \n\nText analysis using AI with themes quantified that you can segment and test for significance across the dataset\nHow to get a quick read of survey data without data wrangling (empty cells\, multi-select – all the apply questions\, etc)\nHow to pivot\, cross tab and filter to go deeper with ease.\n\nAddMaple \nAddMaple is a quant and qual data analysis tool that uses a sophisticated stats engine to turn raw data into table and graph summaries with AI for analyzing open ends into themes\, segments\, sentiment\, intent and more.  \nAnge Taylor \n \nAnge has worked across industries\, from fintech to GDS until she took the leap to build the data tool she always wanted! She’ll be speaking at IIEX AI about how AddMaple brought together 12 state-of-the-art sentiment models so you can compare their output on the same text\, in one go. She lives in Slovenia with her family\, and can be found hiking the Julian Alps regularly! Joking. She’s building an early stage bootstrapped startup and can simply be found\, founding 🙂  \nWebsite: https://addmaple.com/ \nLinkedIn: https://www.linkedin.com/in/angemaple \nYouTube: https://www.youtube.com/@addmaple \nhttps://theicg.co.uk/member/angeaddmaple-com/ \nRegister for this session here 
URL:https://theicg.co.uk/event/how-to-analyse-tens-of-thousands-of-open-ends-and-get-quant-insights-from-raw-data-fast/
CATEGORIES:Lunch&Learn
ATTACH;FMTTYPE=image/jpeg:https://theicg.co.uk/wp-content/uploads/2022/03/icg.lunch_.learn_.jpg
END:VEVENT
END:VCALENDAR