BEGIN:VCALENDAR
VERSION:2.0
PRODID:-//The ICG - ECPv6.3.3.1//NONSGML v1.0//EN
CALSCALE:GREGORIAN
METHOD:PUBLISH
X-WR-CALNAME:The ICG
X-ORIGINAL-URL:https://theicg.co.uk
X-WR-CALDESC:Events for The ICG
REFRESH-INTERVAL;VALUE=DURATION:PT1H
X-Robots-Tag:noindex
X-PUBLISHED-TTL:PT1H
BEGIN:VTIMEZONE
TZID:Europe/London
BEGIN:DAYLIGHT
TZOFFSETFROM:+0000
TZOFFSETTO:+0100
TZNAME:BST
DTSTART:20190331T010000
END:DAYLIGHT
BEGIN:STANDARD
TZOFFSETFROM:+0100
TZOFFSETTO:+0000
TZNAME:GMT
DTSTART:20191027T010000
END:STANDARD
END:VTIMEZONE
BEGIN:VEVENT
DTSTART;TZID=Europe/London:20190905T113000
DTEND;TZID=Europe/London:20190905T121500
DTSTAMP:20260426T040939
CREATED:20190722T120857Z
LAST-MODIFIED:20190722T120857Z
UID:30157-1567683000-1567685700@theicg.co.uk
SUMMARY:Trello: Get yourself super-organised with this online project management tool
DESCRIPTION:This webinar is generously sponsored by Babble\, a vibrant & modern facility that’s designed to bring research\, meetings & training sessions alive in the West Midlands \n  \nICG member Cathy Kennedy says she couldn’t live without Trello! She uses it for all her project work within her business as well as in her personal life. With more and more online project management tools at our disposal\, we thought it’d be useful for Cathy to take us through how to effectively set Trello up\, how to manage it\, optimise its use and avoid its pitfalls. Find out what Cathy loves about Trello and see how it compares to other tools out there. ICG members can continue the conversation about online project management tools after the webinar\, through our website forum\, if they wish to. \nAbout Cathy \n \nCathy has had various roles in research for over 15 years\, and have specialised in Fieldwork Management for 10 of those. She’s been working as a supplier for large government departments over the past 3 years and has had to juggle up to 30 simultaneous live projects on occasion.  The only way she could manage to keep on top of everything was with Trello.  She’d never used it before and it did take some getting used to\, but it’s now her best friend and she’s continually discovering more uses for it.  She’s in the throes of organising an international house move – and her  Trello boards will ensure that nothing gets forgotten or missed – and she doesn’t have to pay a removals company to manage all the admin for her! \n  \nLISTEN TO A RECORDING OF THIS WEBINAR HERE.  \nSLIDE DECK HERE.  \nLinks for further info about Trello: \nhttps://help.trello.com/article/734-how-to-use-trello-like-a-pro \nhttps://blog.trello.com/using-trello-like-a-pro-part-2 \nhttps://blog.trello.com/using-trello-like-a-pro-part-3 \nMultiple Boards: https://blog.trello.com/using-multiple-boards-for-a-super-flexible-workflow \nResources – Hive Mind! https://trello.com/b/nPNSBZjB/trello-resources \nLink to download the free apps for smartphone and desktop (Mac & Windows) \nGeneral help via Trello \n  \n  \n  \n 
URL:https://theicg.co.uk/event/trello-get-yourself-super-organised-with-this-online-project-management-tool-3/
LOCATION:Online – GoToWebinar
CATEGORIES:ICG Webinar
END:VEVENT
BEGIN:VEVENT
DTSTART;TZID=Europe/London:20190815T110000
DTEND;TZID=Europe/London:20190815T120000
DTSTAMP:20260426T040939
CREATED:20190711T104026Z
LAST-MODIFIED:20190711T104026Z
UID:30155-1565866800-1565870400@theicg.co.uk
SUMMARY:Webinar: Nuts and Bolts of Researching Kids and Teens
DESCRIPTION:  \n \n  \nNicki Karet\, ICG member and MD of Sherbert Research\, a specialist kids and teens agency\, will take us through all aspects of conducting research with this audience\, including best-practice recruitment\, methodologies\, environment in which to run your research\, moderating tips\, stimulus materials and so on. She’ll also talk about those ‘what if’ scenarios that we need to be prepared for. A webinar for experienced and less-experienced kids and teens researchers\, including those who may occasionally find themselves researching this audience. \nThis webinar is generously sponsored by Maru Blue. Maru Blue are focused on providing access to deeply engaged\, well-curated participants through our online communities; participants who feed-back actionable insights to businesses and brands. The quality of these responses subsequently enables clients to make better-informed decisions about their business strategies.”\n\nLISTEN TO THIS WEBINAR HERE\nICG Aug 15th Webinar deck \n 
URL:https://theicg.co.uk/event/webinar-nuts-and-bolts-of-researching-kids-and-teens-3/
LOCATION:Online – GoToWebinar
CATEGORIES:ICG Webinar
END:VEVENT
BEGIN:VEVENT
DTSTART;TZID=Europe/London:20190723T100000
DTEND;TZID=Europe/London:20190723T163000
DTSTAMP:20260426T040939
CREATED:20190514T120304Z
LAST-MODIFIED:20190514T120304Z
UID:30149-1563876000-1563899400@theicg.co.uk
SUMMARY:Personal Branding Masterclass (School of Marketing)
DESCRIPTION:Please note that ICG members receive a 20% discount on the prices shown below. Use the code IRG201 on the second screen just before you pay.\nThis workshop is for anybody who would like to build and develop a strong personal brand\, so that they stand out as a leader in their field.  When you are a known entity\, you are in a class of 1.  People will seek you out and want to work with you\, without you having to do anything at all and your sales process will become much easier. \nTo build a strong personal brand requires clarity\, focus and a clear strategy.  It requires you to show up and be public\, and it requires your commitment.  We will cover the ways that you can build your personal brand from developing a strong social media presence\, to writing a book to building your platform as a speaker. \n  \nICG members may be interested in joining some of these forthcoming events from the School of Marketing run by Julie Hall. \nAbout Julie Hall\nJulie Hall is the founder of The School of Marketing (www.theschoolofmarketing.co.uk) and has taught over 5000 businesses how to use digital marketing to grow their business. She is currently the lead trainer for the Google Digital Garage and responsible for training their trainers across the UK. Prior to launching the school of marketing Julie was the founder of a boutique web design agency which she ran for 12 years and a business community with over 20\,000 members.
URL:https://theicg.co.uk/event/personal-branding-masterclass-3/
LOCATION:The Oyster Shed\, 1 Angel Lane\, London\, EC4R 3AB\, United Kingdom
CATEGORIES:External Event
GEO:51.5098815;-0.089692
X-APPLE-STRUCTURED-LOCATION;VALUE=URI;X-ADDRESS=The Oyster Shed 1 Angel Lane London EC4R 3AB United Kingdom;X-APPLE-RADIUS=500;X-TITLE=1 Angel Lane:geo:-0.089692,51.5098815
END:VEVENT
BEGIN:VEVENT
DTSTART;TZID=Europe/London:20190716T100000
DTEND;TZID=Europe/London:20190716T163000
DTSTAMP:20260426T040939
CREATED:20190514T115722Z
LAST-MODIFIED:20190514T115722Z
UID:30148-1563271200-1563294600@theicg.co.uk
SUMMARY:Blogging for Business (School of Marketing)
DESCRIPTION:Please note that ICG members receive a 20% discount on the prices shown. Use the code IRG201 on the second screen just before you pay.\nBlogging is one of the most powerful tools that you can use in your business today\, but it can be difficult to know where to start.  Getting your business blog right isn’t just as easy as putting some words on a website page. On this workshop\, we will help you develop your blogging strategy\, look at what type of content to create\, how to build engagement and promote your blog and how to use it to drive more traffic to your website. \n  \nICG members may be interested in joining some of these forthcoming events from the School of Marketing run by Julie Hall. \nAbout Julie Hall\nJulie Hall is the founder of The School of Marketing (www.theschoolofmarketing.co.uk) and has taught over 5000 businesses how to use digital marketing to grow their business. She is currently the lead trainer for the Google Digital Garage and responsible for training their trainers across the UK. Prior to launching the school of marketing Julie was the founder of a boutique web design agency which she ran for 12 years and a business community with over 20\,000 members.
URL:https://theicg.co.uk/event/blogging-for-business-3/
LOCATION:The Oyster Shed\, 1 Angel Lane\, London\, EC4R 3AB\, United Kingdom
CATEGORIES:External Event
GEO:51.5098815;-0.089692
X-APPLE-STRUCTURED-LOCATION;VALUE=URI;X-ADDRESS=The Oyster Shed 1 Angel Lane London EC4R 3AB United Kingdom;X-APPLE-RADIUS=500;X-TITLE=1 Angel Lane:geo:-0.089692,51.5098815
END:VEVENT
BEGIN:VEVENT
DTSTART;TZID=Europe/London:20190710T080000
DTEND;TZID=Europe/London:20190710T170000
DTSTAMP:20260426T040939
CREATED:20190710T125959Z
LAST-MODIFIED:20190710T125959Z
UID:30154-1562745600-1562778000@theicg.co.uk
SUMMARY:Visit to History of Advertising Trust
DESCRIPTION:Carol Raithatha has arranged a visit for ICG East to the History of Advertising Trust (HAT) in Raveningham in Norfolk on Friday July 19 at 2 pm. \nOpen to all – feel free to spread the word. \nThe fee for each attendee with be £10 + VAT\, payable to Carol on the day. \nThere is a café on site so those who would like could meet beforehand for lunch (at your own expense). \nThere parking is on site and HAT are at the far end of the car park when you turn in to the site. There are detailed instructions for travel here \n\nPlease let Carol know if you’re coming  – by July 12 latest – and if you are going to arrive early for lunch in the café so that she can let HAT know. \n 
URL:https://theicg.co.uk/event/visit-to-history-of-advertising-trust-3/
CATEGORIES:ICG Event
END:VEVENT
BEGIN:VEVENT
DTSTART;TZID=Europe/London:20190704T180000
DTEND;TZID=Europe/London:20190704T220000
DTSTAMP:20260426T040939
CREATED:20190514T122244Z
LAST-MODIFIED:20190514T122244Z
UID:30152-1562263200-1562277600@theicg.co.uk
SUMMARY:The ICG's Summer Party 2019
DESCRIPTION:We thank our two sponsors of this event for their generosity; \nPerspective Research Services\, a data collection specialist agency with 22yrs experience offering International CATI\, nationwide Face-to-Face\, Qualitative Services\, Holborn Focus studios and Mystery Shopping. \nWeb Creator Suite\, a cloud-based end-to-end research platform that promotes high levels of engagement and provides deep insights through short and long term research communities\, homework tasks and live chats.  \nCome and celebrate everything that is good about summer with us at the new Slug and Lettuce in the stunning St Katherine’s Dock on Thurs 4th July from 6pm. \nWith a range of delicious canapes and drinks available\, togehter with the brilliant company of ICG members and friends\, you’re bound to have a great time. \nTickets are £25+VAT\, available here. \nSpread the word\, all are welcome. \n  \nFor ICG members\, why not make a day of it and attend our Celebrate Collaboration event that afternoon\, just around the corner from the party. See here for more details.
URL:https://theicg.co.uk/event/icg-summer-party-2019-3/
CATEGORIES:ICG Event
END:VEVENT
BEGIN:VEVENT
DTSTART;TZID=Europe/London:20190704T143000
DTEND;TZID=Europe/London:20190704T170000
DTSTAMP:20260426T040939
CREATED:20190514T122455Z
LAST-MODIFIED:20190514T122455Z
UID:30153-1562250600-1562259600@theicg.co.uk
SUMMARY:Celebrate Collaboration
DESCRIPTION:One of the biggest strengths within the ICG is our ability to collaborate. \nWe’re holding a ‘Celebrate Collaboration’ event to recognise its power and to release untapped potential for more and better collaboration within the ICG. \nAt the event: \n\nfocused meet & mingle session: designed to help you build connections\, explore new opportunities\ncollaboration software review\, we’ll walk you through the strengths and weaknesses of different on-line tools\nupgraded ICG resources hear about the new ICG website and how it can facilitate better collaboration\ncollaboration conversations help us develop new ideas for collaboration at the ICG\n\nWho’s this event for? Particularly useful for members looking to forge personal connections\, and to get their profile out there. \nThis event will be held from 2.30-5pm\, after which we hope you can join us at our nearby Summer Party (tickets for the party will need to be bought in advance\, through here). \nTickets for Celebrate Collaboration are £10+VAT to cover light refreshments. Please purchase these in advance\, here. \nWe look forward to seeing as many of you as possible here. This event is open to ICG members only. \nLet’s start something together!
URL:https://theicg.co.uk/event/celebrate-collaboration-3/
CATEGORIES:ICG Event
END:VEVENT
BEGIN:VEVENT
DTSTART;TZID=Europe/London:20190620T110000
DTEND;TZID=Europe/London:20190620T120000
DTSTAMP:20260426T040939
CREATED:20190514T122026Z
LAST-MODIFIED:20190514T122026Z
UID:30151-1561028400-1561032000@theicg.co.uk
SUMMARY:Define Your Elevator Pitch
DESCRIPTION:ICG Digital Academy Webinar: Define Your Elevator Pitch \nThis event is kindly sponsored by Perspective Research Services\, a data collection and data processing specialist agency with 22yrs experience offering International CATI\, nationwide Face-to-Face\, Qualitative Services\, Holborn Focus studios and Mystery Shopping. \nLearn how to define your elevator pitch to quickly engage new customers with your offering. \nThis webinar\, run by Dean Russell of Win That Pitch\, will walk you through a process to help you articulate your unique selling point\, engage prospects quickly and create a compelling call to action. \nAbout Win That Pitch \nWin That Pitch believe that everyone should have the confidence and skills to showcase who they are and what they do. They know that presenting\, giving speeches and pitching is often when this confidence is critical. So\, they help individuals\, teams and organisations develop winning presentations and pitches\, offer services that can help anyone achieve success\, covering every aspect of the process from briefing to proposals\, pitching to post-pitch. \nThey do this through training\, workshops\, hands-on consultancy through to audits and mentoring. They even have a number of free e-book downloads available on our website. \nAbout Dean Russell \nFounder & CEO\, Dean Russell is the author of How To Win: The Ultimate Professional Pitch Guide and is a recognised entrepreneur\, leadership and pitch advisor. He is a fellow at the RSA\, a former vice chairman of the Federation of Small Business and has over 20 years of experience helping start-ups\, brands and agencies win game-changing and must-win pitches. Dean has also recently been appointed as a start-up mentor for London+Partners (the Mayor of London’s official promotional company which promotes London internationally as a leading world city in which to invest\, work\, study and visit) and as an adjunct lecturer for Hull Business School. \nREGISTER FOR THIS WEBINAR HERE
URL:https://theicg.co.uk/event/define-your-elevator-pitch-3/
CATEGORIES:ICG Webinar
END:VEVENT
BEGIN:VEVENT
DTSTART;TZID=Europe/London:20190606T090000
DTEND;TZID=Europe/London:20190606T173000
DTSTAMP:20260426T040939
CREATED:20190514T121625Z
LAST-MODIFIED:20190514T121625Z
UID:30150-1559811600-1559842200@theicg.co.uk
SUMMARY:AQR's Big Day Out 2019 Conference
DESCRIPTION:AQR’s Big Day Out 2019: Identity\, Innovation\, Ideology.\nThursday 6 June 2019 at Mary Ward House\, London. \nIt will be a jam-packed day of talks\, discussions and a little light competition too. \nThe Call for Papers is out now with a deadline of 11 February 2019. \nThe programme will be available in March 2019 when tickets will go on sale.
URL:https://theicg.co.uk/event/aqrs-big-day-out-2019-conference-3/
LOCATION:Mary Ward House\, 5-7 Tavistock Place\, London\, WC1H 9SN\, United Kingdom
CATEGORIES:External Event
GEO:51.525051;-0.1278958
X-APPLE-STRUCTURED-LOCATION;VALUE=URI;X-ADDRESS=Mary Ward House 5-7 Tavistock Place London WC1H 9SN United Kingdom;X-APPLE-RADIUS=500;X-TITLE=5-7 Tavistock Place:geo:-0.1278958,51.525051
END:VEVENT
BEGIN:VEVENT
DTSTART;TZID=Europe/London:20190521T180000
DTEND;TZID=Europe/London:20190521T200000
DTSTAMP:20260426T040939
CREATED:20190514T114401Z
LAST-MODIFIED:20190514T114401Z
UID:30145-1558461600-1558468800@theicg.co.uk
SUMMARY:BIG Forum: The changing world of B2B research - a discussion on the evolving toolkit of data collection & analysis
DESCRIPTION:Join BIG for their evening panel discussion\, eaturing a panel of providers of technological or ‘non-traditional’ methods in B2B research. \nSpeakers include Lewis Reeves (Savanta)\,  Jennifer Roberton (Respondi) and Stuart Gullock (Lucid).  The session will be moderated by Alex Wheatley (Kantar). \nTiming is 6pm – 8pm and will be held at Kantar\,  6 More London Place\, London SE1 2QY (nearest station – London Bridge). \nFree for BIG members\, £10 for non BIG members. \nBOOK HERE\nMore info\, contact Mike Joseph
URL:https://theicg.co.uk/event/big-forum-b2b-research-3/
LOCATION:Kantar\, 6 More London Place\, London\, SE1 2QY\, United Kingdom
CATEGORIES:External Event
GEO:51.5052689;-0.0831676
X-APPLE-STRUCTURED-LOCATION;VALUE=URI;X-ADDRESS=Kantar 6 More London Place London SE1 2QY United Kingdom;X-APPLE-RADIUS=500;X-TITLE=6 More London Place:geo:-0.0831676,51.5052689
END:VEVENT
BEGIN:VEVENT
DTSTART;TZID=Europe/London:20190521T080000
DTEND;TZID=Europe/London:20190521T170000
DTSTAMP:20260426T040939
CREATED:20190514T115141Z
LAST-MODIFIED:20190514T115141Z
UID:30146-1558425600-1558458000@theicg.co.uk
SUMMARY:Create your own graphics in Canva (School of Marketing)
DESCRIPTION:Please note that ICG members receive a 20% discount on the prices shown below. Use the code IRG201 on the second screen just before you pay.\nGreat for social media graphics and printing. \nCanva (canva.com) is a free tool that has revolutionised the graphic design world and is our top free tool for business owners to create their own social media graphics. At Canva they provide lots of great templates and designs that you can use in your business business. On this workshop\, we will take you through the process of how to create your own graphics\, add your branding\, choosing brand colours and how to create your own flyers. This workshop will save you hundreds in graphic design fees. \n  \nICG members may be interested in joining some of these forthcoming events from the School of Marketing run by Julie Hall. \nAbout Julie Hall\nJulie Hall is the founder of The School of Marketing (www.theschoolofmarketing.co.uk) and has taught over 5000 businesses how to use digital marketing to grow their business. She is currently the lead trainer for the Google Digital Garage and responsible for training their trainers across the UK. Prior to launching the school of marketing Julie was the founder of a boutique web design agency which she ran for 12 years and a business community with over 20\,000 members.
URL:https://theicg.co.uk/event/create-graphics-in-canva-3/
LOCATION:The Oyster Shed\, 1 Angel Lane\, London\, EC4R 3AB\, United Kingdom
CATEGORIES:External Event
GEO:51.5098815;-0.089692
X-APPLE-STRUCTURED-LOCATION;VALUE=URI;X-ADDRESS=The Oyster Shed 1 Angel Lane London EC4R 3AB United Kingdom;X-APPLE-RADIUS=500;X-TITLE=1 Angel Lane:geo:-0.089692,51.5098815
END:VEVENT
BEGIN:VEVENT
DTSTART;TZID=Europe/London:20190516T090000
DTEND;TZID=Europe/London:20190516T170000
DTSTAMP:20260426T040939
CREATED:20190514T114054Z
LAST-MODIFIED:20190514T114054Z
UID:30144-1557997200-1558026000@theicg.co.uk
SUMMARY:ASC Annual Conference - The Future Is Now
DESCRIPTION:We are delighted to announce that we’ve negotiated a (nearly 20%) discount for ICG members for the ASC (Association for Survey Computing) conference next month (16 May\, at ORT House in London). The full price is £180.75 but ICG members can attend for £148.77. The title is ‘The Future is Now’ and it’s billed as a round-up of all of the latest technology in survey research\, providing a wide-ranging over view of the impact of technology on research techniques now. \nSessions that look particularly interesting/relevant for qual and quant researchers include: \n\n        Text analytics: A case study in its application for market researchers\n        Don’t be blinded by new data visualisation software\n        Video open-ends: the potential finally meets the reality?\n        Panel hacking\n\nFor more details: \nhttps://ascconference.org/events/the-future-is-now/ \nTo sign up: \nhttps://www.eventbrite.com/e/the-future-is-now-a-round-up-of-all-the-latest-technology-in-survey-research-tickets-59777772928#tickets \nYou’ll have the opportunity when buying your ticket(s) to state your membership of the ICG – that will ensure that the discount is applied.
URL:https://theicg.co.uk/event/asc-annual-conference-the-future-is-now-3/
LOCATION:ORT House\, 126 Albert Street\, London\, NW1 7NE\, United Kingdom
CATEGORIES:External Event
GEO:51.5375259;-0.1440143
X-APPLE-STRUCTURED-LOCATION;VALUE=URI;X-ADDRESS=ORT House 126 Albert Street London NW1 7NE United Kingdom;X-APPLE-RADIUS=500;X-TITLE=126 Albert Street:geo:-0.1440143,51.5375259
END:VEVENT
BEGIN:VEVENT
DTSTART;TZID=Europe/London:20190514T100000
DTEND;TZID=Europe/London:20190514T163000
DTSTAMP:20260426T040939
CREATED:20190514T115521Z
LAST-MODIFIED:20190514T115521Z
UID:30147-1557828000-1557851400@theicg.co.uk
SUMMARY:Digital Marketing Workshop (School of Marketing)
DESCRIPTION:Please note that ICG members receive a 20% discount on the prices shown below. Use the code IRG201 on the second screen just before you pay.\nThis digital marketing workshop is all about how to utilise the internet effectively for your business. This digital marketing training will help you identify the best digital strategies for your business and give you a strong foundation on how to maximise each digital channel. We will cover all the key areas of digital marketing and help you put together your own digital marketing strategy that matches your business and your customer.  We will also share with you our favourite tools to make managing your digital marketing much easier. \n  \nICG members may be interested in joining some of these forthcoming events from the School of Marketing run by Julie Hall. \nAbout Julie Hall\nJulie Hall is the founder of The School of Marketing (www.theschoolofmarketing.co.uk) and has taught over 5000 businesses how to use digital marketing to grow their business. She is currently the lead trainer for the Google Digital Garage and responsible for training their trainers across the UK. Prior to launching the school of marketing Julie was the founder of a boutique web design agency which she ran for 12 years and a business community with over 20\,000 members.
URL:https://theicg.co.uk/event/digital-marketing-workshop-3/
LOCATION:The Oyster Shed\, 1 Angel Lane\, London\, EC4R 3AB\, United Kingdom
CATEGORIES:External Event
GEO:51.5098815;-0.089692
X-APPLE-STRUCTURED-LOCATION;VALUE=URI;X-ADDRESS=The Oyster Shed 1 Angel Lane London EC4R 3AB United Kingdom;X-APPLE-RADIUS=500;X-TITLE=1 Angel Lane:geo:-0.089692,51.5098815
END:VEVENT
END:VCALENDAR