BEGIN:VCALENDAR
VERSION:2.0
PRODID:-//The ICG - ECPv6.3.3.1//NONSGML v1.0//EN
CALSCALE:GREGORIAN
METHOD:PUBLISH
X-WR-CALNAME:The ICG
X-ORIGINAL-URL:https://theicg.co.uk
X-WR-CALDESC:Events for The ICG
REFRESH-INTERVAL;VALUE=DURATION:PT1H
X-Robots-Tag:noindex
X-PUBLISHED-TTL:PT1H
BEGIN:VTIMEZONE
TZID:Europe/London
BEGIN:DAYLIGHT
TZOFFSETFROM:+0000
TZOFFSETTO:+0100
TZNAME:BST
DTSTART:20190331T010000
END:DAYLIGHT
BEGIN:STANDARD
TZOFFSETFROM:+0100
TZOFFSETTO:+0000
TZNAME:GMT
DTSTART:20191027T010000
END:STANDARD
END:VTIMEZONE
BEGIN:VEVENT
DTSTART;TZID=Europe/London:20190704T143000
DTEND;TZID=Europe/London:20190704T170000
DTSTAMP:20260423T081045
CREATED:20190514T122455Z
LAST-MODIFIED:20190514T122455Z
UID:30153-1562250600-1562259600@theicg.co.uk
SUMMARY:Celebrate Collaboration
DESCRIPTION:One of the biggest strengths within the ICG is our ability to collaborate. \nWe’re holding a ‘Celebrate Collaboration’ event to recognise its power and to release untapped potential for more and better collaboration within the ICG. \nAt the event: \n\nfocused meet & mingle session: designed to help you build connections\, explore new opportunities\ncollaboration software review\, we’ll walk you through the strengths and weaknesses of different on-line tools\nupgraded ICG resources hear about the new ICG website and how it can facilitate better collaboration\ncollaboration conversations help us develop new ideas for collaboration at the ICG\n\nWho’s this event for? Particularly useful for members looking to forge personal connections\, and to get their profile out there. \nThis event will be held from 2.30-5pm\, after which we hope you can join us at our nearby Summer Party (tickets for the party will need to be bought in advance\, through here). \nTickets for Celebrate Collaboration are £10+VAT to cover light refreshments. Please purchase these in advance\, here. \nWe look forward to seeing as many of you as possible here. This event is open to ICG members only. \nLet’s start something together!
URL:https://theicg.co.uk/event/celebrate-collaboration-3/
CATEGORIES:ICG Event
END:VEVENT
BEGIN:VEVENT
DTSTART;TZID=Europe/London:20190704T180000
DTEND;TZID=Europe/London:20190704T220000
DTSTAMP:20260423T081045
CREATED:20190514T122244Z
LAST-MODIFIED:20190514T122244Z
UID:30152-1562263200-1562277600@theicg.co.uk
SUMMARY:The ICG's Summer Party 2019
DESCRIPTION:We thank our two sponsors of this event for their generosity; \nPerspective Research Services\, a data collection specialist agency with 22yrs experience offering International CATI\, nationwide Face-to-Face\, Qualitative Services\, Holborn Focus studios and Mystery Shopping. \nWeb Creator Suite\, a cloud-based end-to-end research platform that promotes high levels of engagement and provides deep insights through short and long term research communities\, homework tasks and live chats.  \nCome and celebrate everything that is good about summer with us at the new Slug and Lettuce in the stunning St Katherine’s Dock on Thurs 4th July from 6pm. \nWith a range of delicious canapes and drinks available\, togehter with the brilliant company of ICG members and friends\, you’re bound to have a great time. \nTickets are £25+VAT\, available here. \nSpread the word\, all are welcome. \n  \nFor ICG members\, why not make a day of it and attend our Celebrate Collaboration event that afternoon\, just around the corner from the party. See here for more details.
URL:https://theicg.co.uk/event/icg-summer-party-2019-3/
CATEGORIES:ICG Event
END:VEVENT
BEGIN:VEVENT
DTSTART;TZID=Europe/London:20190710T080000
DTEND;TZID=Europe/London:20190710T170000
DTSTAMP:20260423T081045
CREATED:20190710T125959Z
LAST-MODIFIED:20190710T125959Z
UID:30154-1562745600-1562778000@theicg.co.uk
SUMMARY:Visit to History of Advertising Trust
DESCRIPTION:Carol Raithatha has arranged a visit for ICG East to the History of Advertising Trust (HAT) in Raveningham in Norfolk on Friday July 19 at 2 pm. \nOpen to all – feel free to spread the word. \nThe fee for each attendee with be £10 + VAT\, payable to Carol on the day. \nThere is a café on site so those who would like could meet beforehand for lunch (at your own expense). \nThere parking is on site and HAT are at the far end of the car park when you turn in to the site. There are detailed instructions for travel here \n\nPlease let Carol know if you’re coming  – by July 12 latest – and if you are going to arrive early for lunch in the café so that she can let HAT know. \n 
URL:https://theicg.co.uk/event/visit-to-history-of-advertising-trust-3/
CATEGORIES:ICG Event
END:VEVENT
BEGIN:VEVENT
DTSTART;TZID=Europe/London:20190716T100000
DTEND;TZID=Europe/London:20190716T163000
DTSTAMP:20260423T081045
CREATED:20190514T115722Z
LAST-MODIFIED:20190514T115722Z
UID:30148-1563271200-1563294600@theicg.co.uk
SUMMARY:Blogging for Business (School of Marketing)
DESCRIPTION:Please note that ICG members receive a 20% discount on the prices shown. Use the code IRG201 on the second screen just before you pay.\nBlogging is one of the most powerful tools that you can use in your business today\, but it can be difficult to know where to start.  Getting your business blog right isn’t just as easy as putting some words on a website page. On this workshop\, we will help you develop your blogging strategy\, look at what type of content to create\, how to build engagement and promote your blog and how to use it to drive more traffic to your website. \n  \nICG members may be interested in joining some of these forthcoming events from the School of Marketing run by Julie Hall. \nAbout Julie Hall\nJulie Hall is the founder of The School of Marketing (www.theschoolofmarketing.co.uk) and has taught over 5000 businesses how to use digital marketing to grow their business. She is currently the lead trainer for the Google Digital Garage and responsible for training their trainers across the UK. Prior to launching the school of marketing Julie was the founder of a boutique web design agency which she ran for 12 years and a business community with over 20\,000 members.
URL:https://theicg.co.uk/event/blogging-for-business-3/
LOCATION:The Oyster Shed\, 1 Angel Lane\, London\, EC4R 3AB\, United Kingdom
CATEGORIES:External Event
GEO:51.5098815;-0.089692
X-APPLE-STRUCTURED-LOCATION;VALUE=URI;X-ADDRESS=The Oyster Shed 1 Angel Lane London EC4R 3AB United Kingdom;X-APPLE-RADIUS=500;X-TITLE=1 Angel Lane:geo:-0.089692,51.5098815
END:VEVENT
BEGIN:VEVENT
DTSTART;TZID=Europe/London:20190723T100000
DTEND;TZID=Europe/London:20190723T163000
DTSTAMP:20260423T081045
CREATED:20190514T120304Z
LAST-MODIFIED:20190514T120304Z
UID:30149-1563876000-1563899400@theicg.co.uk
SUMMARY:Personal Branding Masterclass (School of Marketing)
DESCRIPTION:Please note that ICG members receive a 20% discount on the prices shown below. Use the code IRG201 on the second screen just before you pay.\nThis workshop is for anybody who would like to build and develop a strong personal brand\, so that they stand out as a leader in their field.  When you are a known entity\, you are in a class of 1.  People will seek you out and want to work with you\, without you having to do anything at all and your sales process will become much easier. \nTo build a strong personal brand requires clarity\, focus and a clear strategy.  It requires you to show up and be public\, and it requires your commitment.  We will cover the ways that you can build your personal brand from developing a strong social media presence\, to writing a book to building your platform as a speaker. \n  \nICG members may be interested in joining some of these forthcoming events from the School of Marketing run by Julie Hall. \nAbout Julie Hall\nJulie Hall is the founder of The School of Marketing (www.theschoolofmarketing.co.uk) and has taught over 5000 businesses how to use digital marketing to grow their business. She is currently the lead trainer for the Google Digital Garage and responsible for training their trainers across the UK. Prior to launching the school of marketing Julie was the founder of a boutique web design agency which she ran for 12 years and a business community with over 20\,000 members.
URL:https://theicg.co.uk/event/personal-branding-masterclass-3/
LOCATION:The Oyster Shed\, 1 Angel Lane\, London\, EC4R 3AB\, United Kingdom
CATEGORIES:External Event
GEO:51.5098815;-0.089692
X-APPLE-STRUCTURED-LOCATION;VALUE=URI;X-ADDRESS=The Oyster Shed 1 Angel Lane London EC4R 3AB United Kingdom;X-APPLE-RADIUS=500;X-TITLE=1 Angel Lane:geo:-0.089692,51.5098815
END:VEVENT
END:VCALENDAR