BEGIN:VCALENDAR
VERSION:2.0
PRODID:-//The ICG - ECPv6.3.3.1//NONSGML v1.0//EN
CALSCALE:GREGORIAN
METHOD:PUBLISH
X-ORIGINAL-URL:https://theicg.co.uk
X-WR-CALDESC:Events for The ICG
REFRESH-INTERVAL;VALUE=DURATION:PT1H
X-Robots-Tag:noindex
X-PUBLISHED-TTL:PT1H
BEGIN:VTIMEZONE
TZID:Europe/London
BEGIN:DAYLIGHT
TZOFFSETFROM:+0000
TZOFFSETTO:+0100
TZNAME:BST
DTSTART:20190331T010000
END:DAYLIGHT
BEGIN:STANDARD
TZOFFSETFROM:+0100
TZOFFSETTO:+0000
TZNAME:GMT
DTSTART:20191027T010000
END:STANDARD
END:VTIMEZONE
BEGIN:VEVENT
DTSTART;TZID=Europe/London:20191206T123000
DTEND;TZID=Europe/London:20191206T160000
DTSTAMP:20260423T072542
CREATED:20190807T142215Z
LAST-MODIFIED:20190807T142215Z
UID:30159-1575635400-1575648000@theicg.co.uk
SUMMARY:The ICG's Open-To-All Christmas Lunch
DESCRIPTION:NOTE WE CANNOT TAKE BOOKINGS AFTER TUESDAY 26 NOV  \nWe are excited to announce our open-to-all Christmas lunch on Friday 6th December at 12.30pm in Farringdon\, London. \nWe promise you all a warm welcome\, a great time\, and a sumptuous meal (see menu here) \nCelebrating Christmas 2017 \nCelebrating Christmas 2018 \n  \nAll are welcome – this is an event for ICG members and friends. Let’s start December as we mean to go on! \nWe will need your food choices by Monday 18th Nov – send them to Lucie\, together with any dietary requirements. \n  \nWith special\, festive thanks to our fabulous main sponsors\, Ardent Fieldwork and Perspective Research Services\, and to our first-drinks sponsor\, Web Creator Suite. 
URL:https://theicg.co.uk/event/the-icgs-open-to-all-christmas-lunch-3/
LOCATION:The Castle  33-34 Cowcross Street EC1M 6DB\, The Castle\, London\, EC1M 6DB\, United Kingdom
CATEGORIES:ICG Event
ATTACH;FMTTYPE=:
GEO:51.5202542;-0.104275
X-APPLE-STRUCTURED-LOCATION;VALUE=URI;X-ADDRESS=The Castle  33-34 Cowcross Street EC1M 6DB The Castle London EC1M 6DB United Kingdom;X-APPLE-RADIUS=500;X-TITLE=The Castle:geo:-0.104275,51.5202542
END:VEVENT
END:VCALENDAR