BEGIN:VCALENDAR
VERSION:2.0
PRODID:-//The ICG - ECPv6.3.3.1//NONSGML v1.0//EN
CALSCALE:GREGORIAN
METHOD:PUBLISH
X-ORIGINAL-URL:https://theicg.co.uk
X-WR-CALDESC:Events for The ICG
REFRESH-INTERVAL;VALUE=DURATION:PT1H
X-Robots-Tag:noindex
X-PUBLISHED-TTL:PT1H
BEGIN:VTIMEZONE
TZID:Europe/London
BEGIN:DAYLIGHT
TZOFFSETFROM:+0000
TZOFFSETTO:+0100
TZNAME:BST
DTSTART:20200329T010000
END:DAYLIGHT
BEGIN:STANDARD
TZOFFSETFROM:+0100
TZOFFSETTO:+0000
TZNAME:GMT
DTSTART:20201025T010000
END:STANDARD
END:VTIMEZONE
BEGIN:VEVENT
DTSTART;TZID=Europe/London:20200204T110000
DTEND;TZID=Europe/London:20200204T120000
DTSTAMP:20260423T064206
CREATED:20200116T121152Z
LAST-MODIFIED:20200116T121152Z
UID:30176-1580814000-1580817600@theicg.co.uk
SUMMARY:ICG Webinar: IR35 And Its Effect On All Off Payroll Workers\, Contract And Temporary Workers
DESCRIPTION:This webinar is generously sponsored by Perspective Research Services  \nWith advice from Cognitive Law and specialist knowledge from governing body ASPCo\, ENI have produced some information on IR35 and the legislative changes coming in April 2020. \nIR35 should be coming into effect for the private sector on April 6th 2020. How much do you know about it and its effect on you? \nThis webinar aims to cover the basics of IR35\, how the upcoming developments may affect contractors and companies\, situations in which you’d fall into IR35 and when you’d be exempt from it\, and how contract work commissioned by larger companies may be affected. \nA webinar for anyone who contracts their services out to other organisations. \nThis webinar will be run by Liz Norman of recruitment specialists Elizabeth Norman International. Liz cares passionately about our industry and has been struck over the last months with how few contractors know anything about this legislation. She believes that the legislation may have the following effects; \n\nIt may create a very divided market for freelancers/contractors\, as they will only be able to work in the traditional way for ‘small’ companies and agencies.\nMedium and large companies including large consultancies and the end client may stop using contractors and freelancers altogether.\nThe other option will be large companies give the work they are currently commissioning to contractors to contractors through a recruitment consultancy or umbrella company\, or take them on as permanent employees (which is the option a couple of the large research agencies are looking at)\n\nMore about Liz Norman \n \nLiz Norman is the Founder and CEO of Elizabeth Norman International\, which specialises in recruiting both permanent and contract roles for the market research\, data and insight industry. With over 30 years’ knowledge of the industry\, Liz has partnered with a number of leading industry bodies\, as well as working as a mentor to both individuals and clients. \nRegister for this important\, free\, webinar here\n  \n \n 
URL:https://theicg.co.uk/event/icg-webinar-ir35-and-its-effect-on-all-off-payroll-workers-contract-and-temporary-workers-3/
LOCATION:Online – GoToWebinar
CATEGORIES:ICG Event
END:VEVENT
BEGIN:VEVENT
DTSTART;TZID=Europe/London:20200218T183000
DTEND;TZID=Europe/London:20200218T183000
DTSTAMP:20260423T064206
CREATED:20200120T124040Z
LAST-MODIFIED:20200120T124040Z
UID:30177-1582050600-1582050600@theicg.co.uk
SUMMARY:BIG Forum London: The Future is Social – Presented by Chris Walts\, Head of Social Strategy\, Ogilvy London.
DESCRIPTION:The use of social media is an accepted and commonplace part of the B2C marketing mix\, but is often an afterthought for B2B marketeers. In this presentation Chris will explore social media’s untapped potential for B2B organisations and examine how brands and businesses can measure success in 2020. \nFocusing on three key areas that will help jumpstart businesses B2B social strategy in 2020: understanding the B2B channel mix\, the rise of B2B influencers and the new social C-Suite; Chris will showcase best-in-class examples of social media usage to demonstrate how regardless of business size or type B2B marketeers can implement small changes to drive lasting engagement. \nFor more info about this and other BIG events\, and to book\, visit here
URL:https://theicg.co.uk/event/big-forum-london-the-future-is-social-presented-by-chris-walts-head-of-social-strategy-ogilvy-london-3/
CATEGORIES:External Event
ATTACH;FMTTYPE=:
ORGANIZER;CN="Lucy Dunn":MAILTO:membership@thebusinessintelligence.group
END:VEVENT
BEGIN:VEVENT
DTSTART;TZID=Europe/London:20200220T110000
DTEND;TZID=Europe/London:20200220T120000
DTSTAMP:20260423T064206
CREATED:20191030T112719Z
LAST-MODIFIED:20191030T112719Z
UID:30167-1582196400-1582200000@theicg.co.uk
SUMMARY:Everything you need to know - and you do need to know it - about the new MRS Code of Conduct
DESCRIPTION:Julie Corney\, Standards and Compliance Officer at the MRS\, will take us through what’s new about the new MRS Code of Conduct and what this means for everyone working in the industry. \nREGISTER FOR THIS FREE WEBINAR TODAY \n  \nThis webinar has been generously sponsored by TS Research Assistant \n \n 
URL:https://theicg.co.uk/event/everything-you-need-to-know-and-you-do-need-to-know-it-about-the-new-mrs-code-of-conduct-3/
LOCATION:Online – GoToWebinar
CATEGORIES:ICG Webinar
ATTACH;FMTTYPE=:
END:VEVENT
BEGIN:VEVENT
DTSTART;TZID=Europe/London:20200225T080000
DTEND;TZID=Europe/London:20200225T093000
DTSTAMP:20260423T064206
CREATED:20200218T100338Z
LAST-MODIFIED:20200218T100338Z
UID:30179-1582617600-1582623000@theicg.co.uk
SUMMARY:BIG Forum Leeds: How research helps businesses make strategic decisions and reach their corporate goals
DESCRIPTION:On the surface\, B2B & B2C research are worlds apart\, particularly in terms of audience\, universe size and which methodologies do and don’t work. \nHowever\, there is a common theme that runs through all B2B and B2C research: they both use customer and/or market understanding to inform decision-making that will help them meet their corporate objectives.  The challenges that businesses face on their journey are often the same\, regardless whether they’re selling nappies to parents or components to factory production managers! \nJoin Trinity McQueen as they take you through a journey of; \n\nHow research is used as a tool to help businesses gain commercial leverage in the supply chain\nHow research can challenge ingrained perceptions and the status quo within businesses\nHow research can be used to turn %s into £s\n\nLauren Elliott\, Associate Director at Trinity McQueen will talk the audience through a number of examples where commercial decision-making has been firmly underpinned by customer insight from the business and commercial world. \n  \nMore info about BIG events and to book this event here 
URL:https://theicg.co.uk/event/big-forum-leeds-how-research-helps-businesses-make-strategic-decisions-and-reach-their-corporate-goals-3/
CATEGORIES:External Event
ATTACH;FMTTYPE=:
ORGANIZER;CN="Lucy Dunn":MAILTO:membership@thebusinessintelligence.group
END:VEVENT
END:VCALENDAR