BEGIN:VCALENDAR
VERSION:2.0
PRODID:-//The ICG - ECPv6.3.3.1//NONSGML v1.0//EN
CALSCALE:GREGORIAN
METHOD:PUBLISH
X-WR-CALNAME:The ICG
X-ORIGINAL-URL:https://theicg.co.uk
X-WR-CALDESC:Events for The ICG
REFRESH-INTERVAL;VALUE=DURATION:PT1H
X-Robots-Tag:noindex
X-PUBLISHED-TTL:PT1H
BEGIN:VTIMEZONE
TZID:Europe/London
BEGIN:DAYLIGHT
TZOFFSETFROM:+0000
TZOFFSETTO:+0100
TZNAME:BST
DTSTART:20210328T010000
END:DAYLIGHT
BEGIN:STANDARD
TZOFFSETFROM:+0100
TZOFFSETTO:+0000
TZNAME:GMT
DTSTART:20211031T010000
END:STANDARD
END:VTIMEZONE
BEGIN:VEVENT
DTSTART;TZID=Europe/London:20210318T110000
DTEND;TZID=Europe/London:20210318T120000
DTSTAMP:20260423T040820
CREATED:20210303T114459Z
LAST-MODIFIED:20210303T114459Z
UID:30224-1616065200-1616068800@theicg.co.uk
SUMMARY:Building Resilience And Goal Setting: Group Coaching Taster Session
DESCRIPTION:This event is generously sponsored by Perspective Research Services \n\nWe are proud to have Jill Fitzgibbon\, The Life Force Coach\, running a taster coaching session with ICG members.\n\nThis is a great opportunity for members to consider and share their personal and professional dilemmas or issues in a safe environment\, facilitated by an experienced coach.\n\nIn this session you’ll;\n\n– learn more about  coaching\,how it can help people in both their personal and business lives\, and how it can help build\nresilience\n– discover how  effective goal setting can help people achieve their objectives\, breaking it down into manageable steps\n– take part in a live interactive group coaching session\n– have the opportunity to ask questions.\n\n\nREGISTER FOR THIS FREE SESSION TODAY\n\n\nWe will send you your login once we have your registration. We’ll also be sending you a little exercise before the session so that you come prepared.\n\n\nJill Fitzgibbon\n\n\nJill studied Psychology at University College Dublin\, Ireland. In 2002 she set up Metals Events Limited\, a dedicated metals and mining conference company and in 2013 won the Queen’s Award – International Trade – the smallest company to do so with only 2 full time employees.\n\nOver the years Jill has helped other people set up their businesses and in late 2019 she decided to\nstart a new career in business and personal development coaching. Jill is a qualified NLP Practitioner\nCoach\, a Professional Entrepreneur Coach and is DISC Profiling accredited.\n\nThe Life Force Coach: “Change comes from within: When the force of life alone is not enough\, I will get you there.”
URL:https://theicg.co.uk/event/building-resilience-and-goal-setting-group-coaching-taster-session-3/
LOCATION:Online
ATTACH;FMTTYPE=:
ORGANIZER;CN="Jane Oakley":MAILTO:training@theicg.co.uk
END:VEVENT
BEGIN:VEVENT
DTSTART;TZID=Europe/London:20210319T000000
DTEND;TZID=Europe/London:20210319T130000
DTSTAMP:20260423T040821
CREATED:20210218T122649Z
LAST-MODIFIED:20210218T122649Z
UID:30220-1616112000-1616158800@theicg.co.uk
SUMMARY:Small Business Ideas Exchange - Data Collectors\, Processors and Analysers
DESCRIPTION:We invite you to our next Small Business Ideas Exchange for those involved in data collecting\, processing and analysing. \nGrab your lunch and come and meet other ICG members in this field to share your thoughts on trends\, difficulties and opportunities in this area. \nREGISTER FOR THIS EVENT TODAY. HURRY – FOR 10 MEMBERS ONLY. \nJoining link will be sent to you on registration. \n  \n 
URL:https://theicg.co.uk/event/small-business-ideas-exchange-data-collectors-processors-and-analysers-3/
LOCATION:Online
ATTACH;FMTTYPE=:
ORGANIZER;CN="Kath Rhodes":MAILTO:kath@qualitative-street.co.uk
END:VEVENT
BEGIN:VEVENT
DTSTART;TZID=Europe/London:20210325T110000
DTEND;TZID=Europe/London:20210325T120000
DTSTAMP:20260423T040821
CREATED:20210301T142940Z
LAST-MODIFIED:20210301T142940Z
UID:30223-1616670000-1616673600@theicg.co.uk
SUMMARY:Social Media Listening - What Are The Possibilities For Research?
DESCRIPTION:This webinar is generously sponsored by MIS Group \nWe welcome Dr Jillian Ney\, former ICG member\, the first person in the UK to have a PHD in Social Media and founder of the Social  Intelligence Lab\, to run this webinar. \n \nJillian will cover the following in the webinar: \n\nA short background to the different social media listening tools available\nFocus on case studies to demonstrate where the value of social data is. These case studies will show everyone what is possible with social intelligence rather than the tools.\n\nAbout Jillian \nDr Jillian Ney \n\nDr Jillian is the founder of The Social Intelligence Lab. She has worked in the industry for well over a decade as researcher\, consultant\, spokesperson and author. She’s on a mission to bring the industry together and give social intelligence the place it deserves as a recognised and supported discipline. Ask her about digital behavioural science\, purchasing decisions and why Scotland is the best place on earth. \n\nREGISTER FOR THIS FREE WEBINAR HERE \nGenerous discount for ICG members \nThe Social Intelligence Lab has Demo Day on April the 21st and 22nd and can provide IGC members with a 50% discount code\, making the tickets $25. Members will be able to take demos of tools\, listen to how brands and agencies are making use of the tech and the challenges they face. \nREGISTER FOR THIS DISCOUNTED DEMO DAY HERE
URL:https://theicg.co.uk/event/social-media-listening-what-are-the-possibilities-for-research-3/
LOCATION:Online
ATTACH;FMTTYPE=:
ORGANIZER;CN="Sally Alsop":MAILTO:webinars@theicg.co.uk
END:VEVENT
BEGIN:VEVENT
DTSTART;TZID=Europe/London:20210326T130000
DTEND;TZID=Europe/London:20210326T134500
DTSTAMP:20260423T040821
CREATED:20210324T103113Z
LAST-MODIFIED:20210324T103113Z
UID:30227-1616763600-1616766300@theicg.co.uk
SUMMARY:Curious Leadership – Strategies For Driving Growth Mindsets
DESCRIPTION:Employee engagement\, productivity and company culture have taken a pounding during the pandemic. There are calls to redefine success. It’s uncomfortable challenging ourselves and growing as leaders. \nIn this lunchtime session\, Jane Hales from Sapio Research  will share with you 4 key principals of her own journey\, tools she has used and aha moments she’s experienced. \nThe aim of her 30 min talk is to help you develop an environment that \n\nFosters your growth mindset\,\n\nAnd for those of you with a team create a place that is \n\nNon-hierarchical\nCollaborative\n\nMeet Jane & Sapio Research \n \nDespite the appearance of grey hairs\, Jane is new to the entrepreneurial world. She’s only spent 13% of her business life running her own business. She now has a thriving company culture she’s really proud of. Sapio Research was the top supplier for its key clients in a recent survey. It won the UKBA Gold award in 2020 for a professional services. And it grew 22% during the pandemic taking on additional staff. \nSapio Research is a full-service\, London-based consumer and B2B market research company. It delivers valuable evidence to support clients understand their audience\, make vital business decisions relevant to their market\, and create extraordinary headlines and content. \nLaunching in 2016 with 3 co-founders\, Sapio now has 10 employees wo are on track for hitting £2m turnover this year. It has an international client list of top PR & Marketing agencies and frequently household name brands too. Jane is a MRS mentor and an active member of the Entrepreneurs Organisation\, which she represents on the Business Action Council.  The whole team is committed to using its skills for good though ESOMAR sponsorships\, charity campaigns and other initiatives. \n \n  \nJOIN THIS SESSION HERE: \nPlease join my meeting from your computer\, tablet or smartphone.\nhttps://global.gotomeeting.com/join/145863309 \nYou can also dial in using your phone.\nUnited Kingdom: +44 20 3713 5011 \nAccess Code: 145-863-309
URL:https://theicg.co.uk/event/curious-leadership-strategies-for-driving-growth-mindsets-3/
LOCATION:Online
ORGANIZER;CN="Jane Oakley":MAILTO:training@theicg.co.uk
END:VEVENT
END:VCALENDAR