BEGIN:VCALENDAR
VERSION:2.0
PRODID:-//The ICG - ECPv6.3.3.1//NONSGML v1.0//EN
CALSCALE:GREGORIAN
METHOD:PUBLISH
X-ORIGINAL-URL:https://theicg.co.uk
X-WR-CALDESC:Events for The ICG
REFRESH-INTERVAL;VALUE=DURATION:PT1H
X-Robots-Tag:noindex
X-PUBLISHED-TTL:PT1H
BEGIN:VTIMEZONE
TZID:Europe/London
BEGIN:DAYLIGHT
TZOFFSETFROM:+0000
TZOFFSETTO:+0100
TZNAME:BST
DTSTART:20210328T010000
END:DAYLIGHT
BEGIN:STANDARD
TZOFFSETFROM:+0100
TZOFFSETTO:+0000
TZNAME:GMT
DTSTART:20211031T010000
END:STANDARD
END:VTIMEZONE
BEGIN:VEVENT
DTSTART;TZID=Europe/London:20210603T110000
DTEND;TZID=Europe/London:20210603T120000
DTSTAMP:20260423T062226
CREATED:20210519T132605Z
LAST-MODIFIED:20210519T132605Z
UID:30234-1622718000-1622721600@theicg.co.uk
SUMMARY:Life after Lockdown: How to undertake safe face-to-face research 
DESCRIPTION:This webinar is generously sponsored by MIS Group \n \n \nFollowing the easing of restrictions across the UK’s four nations\, clients are increasingly interested in resuming face-to-face data collection.  What does this mean in practice for both qual and quant practitioners?  What kinds of face-to-face data collection are you allowed to do?  And how best to do it? \nDebrah Harding\, MD of MRS\, will lead you through the current Government and MRS guidance on safe working and will discuss how the guidance is due to develop as more restrictions are lifted during the summer. \nAn important webinar for anyone working with face-to-face research methods. \n  \nREGISTER FOR THIS FREE WEBINAR HERE 
URL:https://theicg.co.uk/event/life-after-lockdown-how-to-undertake-safe-face-to-face-research-3/
LOCATION:Online
ORGANIZER;CN="Sally Alsop":MAILTO:webinars@theicg.co.uk
END:VEVENT
BEGIN:VEVENT
DTSTART;TZID=Europe/London:20210614T100000
DTEND;TZID=Europe/London:20210614T103000
DTSTAMP:20260423T062226
CREATED:20210603T110552Z
LAST-MODIFIED:20210603T110552Z
UID:30236-1623664800-1623666600@theicg.co.uk
SUMMARY:Award for Independent Consultants  - Your Questions Answered
DESCRIPTION:Come along to this informal session on Monday 14th June\, 10am\, to ask Arthur Fletcher (co-judge on the judging panel) and Matt Kirby (Award\, committee member) any questions you have about entering this Award. \n \nA great opportunity for anyone who’s thinking about entering this prestigious award. Deadline for entering is Monday 5th July. \nLogin for the Q&A is: \nPlease join my meeting from your computer\, tablet or smartphone.\nhttps://global.gotomeeting.com/join/444996261 \nYou can also dial in using your phone.\nUnited Kingdom: +44 20 3713 5011 \nAccess Code: 444-996-261 \n  \nMORE INFO ABOUT THE AWARD HERE  \n 
URL:https://theicg.co.uk/event/award-for-independent-consultants-your-questions-answered-3/
END:VEVENT
BEGIN:VEVENT
DTSTART;TZID=Europe/London:20210617T110000
DTEND;TZID=Europe/London:20210617T120000
DTSTAMP:20260423T062226
CREATED:20210510T135630Z
LAST-MODIFIED:20210510T135630Z
UID:30232-1623927600-1623931200@theicg.co.uk
SUMMARY:Why Cultural Insight Is Important For Research
DESCRIPTION:  \nThis webinar is generously sponsored by MIS Group \n \n  \nThis webinar will be presented by ICG member Felicia Schwartz\, China Insight. \nIt will explore the crossover between two areas Felicia is active in – cultural insights and market research. Although we often use market research to uncover cultural insight it is interesting to explore whether we shouldn’t integrate culture into the design of research from inception on. Felicia  routinely come across briefs that make assumptions or ask questions that are not culturally right for my region (greater China) or that miss cultural nuance when pulling together the analysis. \nAlthough her examples will all be taken from China\, she hopes others will share other cultural examples so that everyone can think together about integrating cultural nuance into our research projects and about how to make clients more alive to this topic. \nEMAIL HERE TO REGISTER FOR THIS FREE WEBINAR  \n  \nUPDATED LOGIN FOR THE WEBINAR \nJoin Zoom Meeting \nhttps://us02web.zoom.us/j/89623746113?pwd=NUwvRlE3bWZET05hV3V0UjhGVHhhdz09 \nMeeting ID: 896 2374 6113 \nPasscode: 563055 \n  \nAbout Felicia \n \nFelicia has pursued an international career in branding working for global communication agencies Ogilvy and Dentsu. Her work took her from France to China\, where she spent close to 14 years and specialized in strategic planning and consumer insights. \nCurrently based in between Beijing and London\, Felicia is the founder of Chinainsight.co.uk an insight consultancy that helps brands and companies understand the Chinese consumer through cultural insight research and maximize their product positioning\, product innovation and communication for the Chinese market. She has experience across a number of sectors such as automobile\, beauty fast moving consumer goods\, luxury and retail. \nFelicia is a graduate with Dean’s list merits\, from Duke University in North Carolina\, USA.  She obtained her Master’s degree from Sciences Po\, the prestigious Institute of Political Science in Paris\, France. \nShe speaks fluent German\, English\, French and Mandarin Chinese. \n  \nRecent Published articles:  \nBEAUTY TRENDS AMONGST CHINA’S GENZ\nPublication date : MAY 2021  published by : Canvas8 \nChina’s GenZ are the cohort leading trends in beauty post Covid. They are curious\, novelty driven and conscientious consumers. How will they shape the beauty sector?\nCHINESE HOMES POST COVID\nPublication date : DEC 2020  published by : Canvas8 \nHow has the Covid crisis shaped preferences in terms of living ?\n  \n\n  \n\n 
URL:https://theicg.co.uk/event/why-cultural-insight-is-important-for-research-3/
ATTACH;FMTTYPE=:
ORGANIZER;CN="Sally Alsop":MAILTO:webinars@theicg.co.uk
END:VEVENT
BEGIN:VEVENT
DTSTART;TZID=Europe/London:20210622T110000
DTEND;TZID=Europe/London:20210622T110000
DTSTAMP:20260423T062226
CREATED:20210519T082301Z
LAST-MODIFIED:20210519T082301Z
UID:30233-1624359600-1624359600@theicg.co.uk
SUMMARY:Through the glass darkly - BIG Forum
DESCRIPTION:BIG Forum presents: Through the glass darkly… sifting through the rubble of Covidian economics with Dave Skelsey\, Strictly Financial \nWe are very pleased to announce our June BIG virtual Forum and welcome back a popular friend of BIG\, Dave Skelsey\, who will be giving his view of the past 12 months and it’s impact on research. Some of you may remember previous editions of this tour de force\, in which Dave gave us his\, often wry\, insights into the economic world and predictions for its future. \nThis year will be no exception\, as Dave takes an overview of the impact of Covid on the global economies\, gives his view on where\, when and how the economy might recover\, and the economic/geopolitical headwinds that might arise\, and forecasts as to which social and economic changes might ‘stick’ post Covid. All this neatly wrapped up into the implications on the world of research. \nFind out more and how to book here.
URL:https://theicg.co.uk/event/through-the-glass-darkly-big-forum-3/
LOCATION:Online
ATTACH;FMTTYPE=:
END:VEVENT
BEGIN:VEVENT
DTSTART;TZID=Europe/London:20210624T190000
DTEND;TZID=Europe/London:20210624T210000
DTSTAMP:20260423T062226
CREATED:20210420T113949Z
LAST-MODIFIED:20210420T113949Z
UID:30231-1624561200-1624568400@theicg.co.uk
SUMMARY:ICG Summer Party: It's All About The Food And Wine
DESCRIPTION:This event is generously sponsored by iPoint Market Research \n \n  \nJoin us on the evening of Thursday 24 June to; \n\n\nCook three relatively simple ‘Asian bites’ as demonstrated by Tariq Mirza \, SampleNinja (you may wish to cook these dishes before the event\, but if not\, please ensure that all ingredients are prepared beforehand)\nHear more about the sorts of wines that complement these dishes by ICG member Mike Brown  \nGreen Bird\nEat and drink\, ask questions\, share thoughts\nJoin everyone in a light-hearted quiz about food and wine.\n\nNot our usual face-to-face summer party but one that we think will be perfect for a summer’s evening entertainment. \n  \nREGISTER HERE \nBELOW ARE THE THREE RECIPES\, VIDEO DEMONSTRATIONS\, AND RECOMMENDED PAIRED WINES FOR EACH. PLEASE PURCHASE THE INGREDIENTS AND WINES BEFORE THE EVENT. YOU MAY WISH TO PREPARE THE DISHES IN ADVANCE. IF NOT\, PLEASE MAKE SURE THAT ALL INGREDIENTS ARE READY/PREPARED.\nRECIPE 1: CHAAT POTATO \nRecipe 1 – Chaat Potato \nThere is no video demonstration here as the recipe extremely simple to follow. \nRecommended wine: German White Wine – Gewurztraminer Spatlese (Lidl) \nhttps://www.lidl.co.uk/p/the-summer-wine-tour/gewuerztraminer-spaetlese/p42627 \n  \nRECIPE 2: MASALA SCRAMBLED EGGS  \nRecipe 2 – Masala Scrambled Eggs \nVideo demonstration \nSpanish Rose Wine – Tempranillo/Garnacha (Tesco) \nhttps://www.tesco.com/groceries/en-GB/products/292401344 \n  \n  \nRECIPE 3: PAKORAS \nRecipe 3 – Home Made Pakoras \nVideo demonstration \nGerman White Wine – Riesling/Scheurebe (Lidl) \nhttps://www.lidl.co.uk/p/the-summer-wine-tour/riesling-scheurebe-rheinhessen/p42628 \n  \n  \nHere’s a quick video intro about the wines we’ve recommended as well. \nTrailer for wine pairing – ICG Summer Party 2021 \n  \n  \nWe look forward to seeing you \nLOGIN: \nJoin Zoom Meeting \nhttps://us02web.zoom.us/j/82697363094?pwd=ZVVPN0hmUGxUZmlGcVpHd2NhdUdSdz09 \nMeeting ID: 826 9736 3094 \nPasscode: 385500 \n  \n \n 
URL:https://theicg.co.uk/event/icg-summer-party-its-all-about-the-food-and-wine-3/
LOCATION:Online
ATTACH;FMTTYPE=:
END:VEVENT
BEGIN:VEVENT
DTSTART;TZID=Europe/London:20210630T110000
DTEND;TZID=Europe/London:20210630T120000
DTSTAMP:20260423T062226
CREATED:20210622T105159Z
LAST-MODIFIED:20210622T105159Z
UID:30237-1625050800-1625054400@theicg.co.uk
SUMMARY:Desk Research: The ‘Poor Relation’ or Hidden Gem?
DESCRIPTION:This webinar is generously sponsored by Perspective Research Services  \n \nKevin Simmonds\, Advantage Market Intelligence (and ICG member) will take us through\, what desk research is\, myths and misconceptions\, types of desk research\, where desk research can add value\, how to conduct it and talk more about how it impacts on communication and client relationships. \nREGISTER FOR THIS FREE WEBINAR HERE  \nKevin Simmonds \n \nKevin founded Advantage Market Intelligence Ltd in 2014. \nHe has 25 years’ market research experience spanning multiple agencies and client-side European and global intelligence roles for a Fortune 500 company. \nHe has conducted desk research for fifteen years\, principally in market and competitor analysis.
URL:https://theicg.co.uk/event/desk-research-the-poor-relation-or-hidden-gem-3/
LOCATION:Online
ATTACH;FMTTYPE=:
ORGANIZER;CN="Sally Alsop":MAILTO:webinars@theicg.co.uk
END:VEVENT
END:VCALENDAR