BEGIN:VCALENDAR
VERSION:2.0
PRODID:-//The ICG - ECPv6.3.3.1//NONSGML v1.0//EN
CALSCALE:GREGORIAN
METHOD:PUBLISH
X-ORIGINAL-URL:https://theicg.co.uk
X-WR-CALDESC:Events for The ICG
REFRESH-INTERVAL;VALUE=DURATION:PT1H
X-Robots-Tag:noindex
X-PUBLISHED-TTL:PT1H
BEGIN:VTIMEZONE
TZID:Europe/London
BEGIN:DAYLIGHT
TZOFFSETFROM:+0000
TZOFFSETTO:+0100
TZNAME:BST
DTSTART:20220327T010000
END:DAYLIGHT
BEGIN:STANDARD
TZOFFSETFROM:+0100
TZOFFSETTO:+0000
TZNAME:GMT
DTSTART:20221030T010000
END:STANDARD
END:VTIMEZONE
BEGIN:VEVENT
DTSTART;TZID=Europe/London:20220202T130000
DTEND;TZID=Europe/London:20220202T133000
DTSTAMP:20260423T063534
CREATED:20220202T130000Z
LAST-MODIFIED:20220202T130000Z
UID:30264-1643806800-1643808600@theicg.co.uk
SUMMARY:Lunch&Learn With Chattering Monkey
DESCRIPTION:We welcome Simon Tuohy from Chattering Monkey  for a Lunch&Learn\, a half-hour lunchtime slot where members can informally hear about how organisations can help them in their work. \nAll Lunch&Learn presenters offer ICG members a significant and exclusive discount. Please support them by attending their Lunch&Learn and hearing more.\nAbout Chattering Monkey\n \n  \nChattering Monkey presents The Coding Tool\, a web-based SaaS coding platform designed for Market Researchers and powered with “Augmented Intelligence”. The Coding Tool processes Audio\, Video\, Qualitative and Quantitative data in minutes.  \nWhy you should attend this Lunch&Learn\n\nGet an extra 10% off your fee with Chattering Monkey IF YOU ATTEND THIS LUNCH&LEARN\nLearn the basics – Discover how The Coding Tool can deliver faster results\, saving you time and money.\nAudio and Video diarised translation/transcription included.\nNo downloads\, completely web-based. Code on any device\, anytime.\nIntuitive\, easy to use software so you always stay in control\n\nhttps://www.chatteringmonkey.co.uk/the-coding-tool \nTHE EXCLUSIVE AND SIGNIFICANT DISCOUNT BEING OFFERED BY  CHATTERING MONKEY FOR ICG MEMBERS \n\n30% discount for ICG Members (PLUS AN EXTRA 10% IF YOU ATTEND THE LUNCH&LEARN)*\n* additional 10% discount valid for one continuous single-use purchase. Please contact for further details.\n\n  \n  \nLogin for the Lunch&Learn is https://global.gotomeeting.com/join/815667629 \nSee you there!
URL:https://theicg.co.uk/event/lunchlearn-with-chattering-monkey-3/
LOCATION:Online
ATTACH;FMTTYPE=:
END:VEVENT
BEGIN:VEVENT
DTSTART;TZID=Europe/London:20220210T110000
DTEND;TZID=Europe/London:20220210T120000
DTSTAMP:20260423T063534
CREATED:20220210T110000Z
LAST-MODIFIED:20220210T110000Z
UID:30265-1644490800-1644494400@theicg.co.uk
SUMMARY:Artificial Intelligence for Pragmatists: What it means and what you can use it for today
DESCRIPTION:This webinar is generously sponsored by Insight Platforms \n \n  \nWe’re delighted to promote this webinar from ICG member Mike Stevens\, Insight Platforms. \nThis is Not for AI experts. For everyone else. \nA simple introduction to some key AI concepts\, and some practical examples of tools that researchers\, analysts and marketers can use today. \n\n\nMike Stevens – Founder\, What Next Strategy & Planning / Insight Platforms \n\n\n\n\n\n\n\n\n\n\n\n\n\n\n\n\n\n\n\n\n\n\nMike is a leading consultant\, advisor and writer at the intersection of technology\, research and analytics. \nHe has 20 years’ experience in insight\, software and consulting firms including Vision Critical\, where he led the EMEA region; and Kantar\, where he managed regional business units and global accounts. \nHe now advises insight teams\, agencies and research technology firms. \nREGISTRATION HERE  \n\n\n\n\n\n\n\n\n\n 
URL:https://theicg.co.uk/event/artificial-intelligence-for-pragmatists-what-it-means-and-what-you-can-use-it-for-today-3/
ATTACH;FMTTYPE=:
END:VEVENT
BEGIN:VEVENT
DTSTART;TZID=Europe/London:20220216T130000
DTEND;TZID=Europe/London:20220216T130000
DTSTAMP:20260423T063534
CREATED:20220216T130000Z
LAST-MODIFIED:20220216T130000Z
UID:30266-1645016400-1645016400@theicg.co.uk
SUMMARY:Lunch&Learn with Indeemo
DESCRIPTION:We welcome Indeemo (Eugene Murphy) for  this  Lunch&Learn\, a half-hour lunchtime slot where members can informally hear about how organisations can help them in their work. \nAll Lunch&Learn presenters offer ICG members a significant and exclusive discount. Please support them by attending their Lunch&Learn and hearing more.\n \nAbout Indeemo\n \nIndeemo is an in-the-moment\, experience research platform which helps researchers and designers remotely research human needs\, behaviors\, journeys and experiences; in context and in-the-moment. \nWhy you should attend this Lunch&Learn\n\nDiscover how you can use Indeemo\nSpecifically\, learn more about their new journey mapping tool (click here for more info)\nUnderstand how this has been used to date with a real research project (via ICG member Tom Woodnutt)\nAsk any questions about functionality\, logistics\, costs etc.\n\nTHE EXCLUSIVE AND SIGNIFICANT DISCOUNT BEING OFFERED BY  INDEEMO FOR ICG MEMBERS \n\n10% discount for all ICG member attendees on any project they do between Feb 16th and April 30th  \n\nEugene Murphy \n \nEugene Murphy is the Founder & CEO of Indeemo\, the in-the-moment\, qualitative research platform that helps research consultants remotely research human needs\, behaviours\, journeys and experiences; in context and in-the-moment. Indeemo supports a wide array of qualitative research methodologies including mobile / digital ethnography\, diary studies\, journey mapping\, pre-tasking focus groups / interviews\, product testing / IHUTs\, omnichannel path-to-purchase\, employee experience and customer experience research. \nLogin for the Lunch&Learn is https://global.gotomeeting.com/join/815667629 \nSee you there!
URL:https://theicg.co.uk/event/lunchlearn-with-indeemo-3/
LOCATION:Online
ATTACH;FMTTYPE=image/jpeg:https://theicg.co.uk/wp-content/uploads/2022/03/icg.lunch_.learn_.jpg
END:VEVENT
BEGIN:VEVENT
DTSTART;TZID=Europe/London:20220224T110000
DTEND;TZID=Europe/London:20220224T120000
DTSTAMP:20260423T063534
CREATED:20220112T115608Z
LAST-MODIFIED:20220112T115608Z
UID:30262-1645700400-1645704000@theicg.co.uk
SUMMARY:Building Better Business Via The Screen
DESCRIPTION:This webinar is generously sponsored by Perspective Research Services \n \nWith endless Zoom meetings and webinars\, it can seem like our whole lives are currently being played out on screen\, and while for some this can seem like a chore\, other businesses are taking advantage of the considerable time and cost savings of screen-based meetings to boost their presence online. \nIn this interactive webinar\, Camera Confidence Coach\, Adam Woods\, will provide strategies and tools to help you enhance your visibility and confidence to present on screen\, so you can create more and deeper connections\, as well as ways to be effective in your messaging on social media. \nAbout Adam \n \nAdam has had a track record of working in the film/TV industry for several decades\, as a creative director for brands such as Discovery\, Hallmark and National Geographic\, as well as a TV commercials director for brands such as CNN\, BBC\, Ericsson\, LG\, Phillips\, Siemens.  His coaching programme uses a powerful 6-step C.A.M.E.R.A model to help professionals\, business owners and brands create clear\, consistent and commercially relevant messages through empathic storytelling. \nhttps://www.linkedin.com/in/adamwoods1/ \nhttps://www.facebook.com/cameraconfidencecoach \nhttps://www.facebook.com/groups/camera.confidence.club \nhttps://www.cameraconfidence.co.uk/ \nREGISTER FOR THIS FREE WEBINAR HERE
URL:https://theicg.co.uk/event/building-better-business-via-the-screen-3/
LOCATION:Online
ATTACH;FMTTYPE=image/jpeg:https://theicg.co.uk/wp-content/uploads/2022/02/shutterstock_1531731413-copy.jpg
END:VEVENT
END:VCALENDAR