BEGIN:VCALENDAR
VERSION:2.0
PRODID:-//The ICG - ECPv6.3.3.1//NONSGML v1.0//EN
CALSCALE:GREGORIAN
METHOD:PUBLISH
X-ORIGINAL-URL:https://theicg.co.uk
X-WR-CALDESC:Events for The ICG
REFRESH-INTERVAL;VALUE=DURATION:PT1H
X-Robots-Tag:noindex
X-PUBLISHED-TTL:PT1H
BEGIN:VTIMEZONE
TZID:Europe/London
BEGIN:DAYLIGHT
TZOFFSETFROM:+0000
TZOFFSETTO:+0100
TZNAME:BST
DTSTART:20250330T010000
END:DAYLIGHT
BEGIN:STANDARD
TZOFFSETFROM:+0100
TZOFFSETTO:+0000
TZNAME:GMT
DTSTART:20251026T010000
END:STANDARD
END:VTIMEZONE
BEGIN:VEVENT
DTSTART;TZID=Europe/London:20250805T160000
DTEND;TZID=Europe/London:20250805T164500
DTSTAMP:20260423T062236
CREATED:20250707T155038Z
LAST-MODIFIED:20250709T102111Z
UID:38866-1754409600-1754412300@theicg.co.uk
SUMMARY:Demystifying coaching: How coaching can help you (and your clients!)
DESCRIPTION:This Knowledge Share is presented by ICG member Carol Raithatha \n  \nCoaching has become widespread in the business world but there can be a lot of confusion about what it actually is and how it can help professionals. This Knowledge Share will start from the beginning and explain what coaching is (and is not)\, workplace coaching theory and process\, and give some examples and case studies of its application. Finally we will look at why coaching might be especially useful for independent insight consultants and their clients. \nCarol Raithatha \n \n  \nI’m an Executive Coach working with clients from all sectors\, but because of my background\, have a particular emphasis on research and insight. I’ve been a member of the ICG for over 20 years and have been working in product testing\, qualitative research\, and desk research. About five years ago I gained a qualification and started offering coaching too. Recently my focus has moved entirely to coaching. It is extremely rewarding and motivating to work with and see colleagues from the insight field develop and flourish. \nClick here to join this session (no need to pre register)
URL:https://theicg.co.uk/event/demystifying-coaching-how-coaching-can-help-you-and-your-clients/
CATEGORIES:Knowledge Share
ATTACH;FMTTYPE=image/jpeg:https://theicg.co.uk/wp-content/uploads/2024/07/Knowledge-Share-scaled.jpg
END:VEVENT
BEGIN:VEVENT
DTSTART;TZID=Europe/London:20250807T140000
DTEND;TZID=Europe/London:20250807T150000
DTSTAMP:20260423T062236
CREATED:20250714T162722Z
LAST-MODIFIED:20250714T162722Z
UID:38886-1754575200-1754578800@theicg.co.uk
SUMMARY:Beyond Words: How Language and Culture Shape Credible Global Market Research
DESCRIPTION:This webinar has been generously sponsored by TTC wetranslate Ltd  \n \nUnlock the secrets to truly credible global market research in thisupcoming webinar\, “Beyond Words: How Language and Culture Shape Credible Global Market Research.” \nIn today’s interconnected world\, understanding your audience goes far beyond simple translation. Join us to discover how cultural nuance and linguistic expertise are essential for accurate data\, meaningful insights\, and research that resonates worldwide. \nThis session will empower you with practical strategies to navigate cross-cultural challenges\, avoid common pitfalls\, and deliver research that stands up to global scrutiny. \nOur speaker – Levent Yildizgoren \n \nLevent is one of the two co-founders of TTC wetranslate and has helped it grow from a single to multi-language vendor. Levent is an experienced English to Turkish translator himself and a PRINCE2® Qualified Project Manager. \nLevent has over 30 years of industry experience; he is a mentor\, speaker\, charity fundraiser and visiting lecturer at Essex University. He was the winner of ‘Outstanding Contribution to Translation Industry in 2015’ award. \nLevent also is a published author of ‘Good Business in any Language’ and host of ‘Thrive in Global Markets’ podcast. In his spare time\, he enjoys skiing\, bike riding and swimming\, and is also a PADI rescue diver. \nE: levent@ttcwetranslate.com \nRegister for this webinar here 
URL:https://theicg.co.uk/event/beyond-words-how-language-and-culture-shape-credible-global-market-research/
CATEGORIES:ICG Webinar
ATTACH;FMTTYPE=image/jpeg:https://theicg.co.uk/wp-content/uploads/2025/07/woman-at-laptop-RESIZED-WEBINARS-.jpg
END:VEVENT
BEGIN:VEVENT
DTSTART;TZID=Europe/London:20250820T130000
DTEND;TZID=Europe/London:20250820T133000
DTSTAMP:20260423T062236
CREATED:20250625T103105Z
LAST-MODIFIED:20250625T103927Z
UID:38803-1755694800-1755696600@theicg.co.uk
SUMMARY:Effortless Rewards: Smarter Gifting for Happier Participants
DESCRIPTION:Welcoming Totally Gifts for this half-hour session \n \nWhat You’ll Learn \nIn this half-hour session\, you’ll discover how our platform simplifies participant rewards while delivering a seamless\, engaging experience for recipients. Whether it’s prepaid cards\, a wide selection of market leading gift vouchers\, or even BACS payments—we handle it all through a single\, easy-to-use code and delivery portal. \nAt Totally Gifts\, we go beyond being just a provider; we strive to be a trusted partner in your projects. Our solution helps you streamline reward management while ensuring a frictionless experience for participants. \nAbout Totally Gifts  \nTotally Gifts is built on deep industry expertise and years of hands-on experience. Purpose-built for the B2B market\, our platform is designed to support organisations of all sizes in delivering a wide range of rewards\, effortlessly. \nFrom selection to delivery\, our curated\, full-service approach takes the complexity out of rewards\, so you can focus on what you do best\, while we handle the rest. \nMeet the Speaker: Peter Bennett\nSales Director\, Totally Gifts \n \nPeter brings over 10 years of experience in the rewards\, recognition\, and loyalty space. Having worked both client-side and agency-side\, he’s led high-impact projects for global blue-chip clients. \nSince joining Totally Gifts over two years ago\, Peter has spearheaded the Client Solutions strategy\, successfully delivering multimillion-pound\, multi-continent reward programs. His expertise\, coupled with our agile in-house tech and client-first approach\, enables us to deliver exactly what our clients need\, when they need it. \nRegister for this session (open to non-members)
URL:https://theicg.co.uk/event/effortless-rewards-smarter-gifting-for-happier-participants/
CATEGORIES:Lunch&Learn
ATTACH;FMTTYPE=image/jpeg:https://theicg.co.uk/wp-content/uploads/2022/03/icg.lunch_.learn_.jpg
END:VEVENT
END:VCALENDAR