BEGIN:VCALENDAR
VERSION:2.0
PRODID:-//The ICG - ECPv6.3.3.1//NONSGML v1.0//EN
CALSCALE:GREGORIAN
METHOD:PUBLISH
X-ORIGINAL-URL:https://theicg.co.uk
X-WR-CALDESC:Events for The ICG
REFRESH-INTERVAL;VALUE=DURATION:PT1H
X-Robots-Tag:noindex
X-PUBLISHED-TTL:PT1H
BEGIN:VTIMEZONE
TZID:Europe/London
BEGIN:DAYLIGHT
TZOFFSETFROM:+0000
TZOFFSETTO:+0100
TZNAME:BST
DTSTART:20250330T010000
END:DAYLIGHT
BEGIN:STANDARD
TZOFFSETFROM:+0100
TZOFFSETTO:+0000
TZNAME:GMT
DTSTART:20251026T010000
END:STANDARD
END:VTIMEZONE
BEGIN:VEVENT
DTSTART;TZID=Europe/London:20250514T130000
DTEND;TZID=Europe/London:20250514T133000
DTSTAMP:20260423T150105
CREATED:20250424T102353Z
LAST-MODIFIED:20250424T104156Z
UID:38578-1747227600-1747229400@theicg.co.uk
SUMMARY:AI powered qual analysis: getting to the insight without losing human touch
DESCRIPTION:Join Marco Rovagnati from Quallie Ai where he’ll cover the latest advancements in AI enabled insights\, best practices for using AI in your work\, challenges that many researchers face\, and a short demo of Quallie.Ai. \nQuallie AI \n \nQuallie.Ai is a tool to analyse in-depth interviews and focus groups using AI\, it’s designed to automate the tedious tasks enabling you to focus on the craft of insights generation. \nMarco Rovagnati \n \nMarco is a qualitative researcher specialising in strategic insights for innovation who worked for global brands like Diageo\, Nike and HP. After years as an insights practitioner he built Quallie.Ai to solve for his most telling pain points while keeping the craft of the strategist intact. \nRegister here \n  \nhttps://quallie.ai/\nhttps://www.linkedin.com/in/marcorovagnati/\nhttps://www.linkedin.com/company/quallie-ai
URL:https://theicg.co.uk/event/ai-powered-qual-analysis-getting-to-the-insight-without-losing-human-touch/
CATEGORIES:Lunch&Learn
ATTACH;FMTTYPE=image/jpeg:https://theicg.co.uk/wp-content/uploads/2022/03/icg.lunch_.learn_.jpg
END:VEVENT
BEGIN:VEVENT
DTSTART;TZID=Europe/London:20250522T130000
DTEND;TZID=Europe/London:20250522T133000
DTSTAMP:20260423T150105
CREATED:20250429T162018Z
LAST-MODIFIED:20250430T133934Z
UID:38602-1747918800-1747920600@theicg.co.uk
SUMMARY:AI made easy: helping small teams make a big impact
DESCRIPTION:Grab your lunch and join us for a fast-paced\, insight-packed session designed just for independent market research consultants\, from Bilendi – end-to-end experts in both qual and quant. \n \nUnlock the next level of what you already do best. We will introduce you to BARI\, our AI qual assistant\, and show you how together\, you can: \n\nLaunch projects faster\nWork smarter with automated scripting\, moderation\, analysis & PowerPoint reports\nTap into large sample sizes for results you can confidently generalise #quantifiedqual\nExtend your capabilities – not your overhead\nGive you back space for creative\, strategic thinking\n\nWe’ll also share case studies showing how independent consultants like you are delivering boardroom-ready insights without scaling their teams. \n  \nAbout Bilendi and the Discuss Platform: \n\nOne-stop-shop: Quant and qual expertise\, with online access panels\, online quant\, an online qual platform\, recruitment\, incentives\, and analysis — all under one roof\nAI-powered efficiency: From scripting to moderation to final deliverables\, get more done\, faster\nOnline Qual platform: designed for your one-to-one and collaborative online communities\, with end-to-end AI for speed\, depth – and even breadth!\nYour Partner All Around the World: Local teams\, multilingual capabilities\, and seamless market coordination\nDesigned for you: We regularly support independent consultants and small teams with right tools\, expertise\, and flexibility.\n\nSpeakers: \nMelissa Short \n \nMelissa is a skilled qualitative researcher who leads full-service projects for Bilendi’s clients in France. She is currently dedicated to enhancing the Bilendi Discuss platform\, ensuring it meets the evolving needs of qualitative researchers in today’s market. \nAnthony Brodbin \n \nAnthony is focused on the sales side of Bilendi\, specialising in the Qualitative offering. He has extensive experience in aligning technology with research needs\, having worked for platforms like Recollective\, Zappi\, and Forsta. He is dedicated to helping clients unlock the full potential of Bilendi Discuss and its advanced AI features. \n  \nRegister for this session here
URL:https://theicg.co.uk/event/ai-made-easy-helping-small-teams-make-a-big-impact/
CATEGORIES:Lunch&Learn
ATTACH;FMTTYPE=image/jpeg:https://theicg.co.uk/wp-content/uploads/2022/03/icg.lunch_.learn_.jpg
END:VEVENT
END:VCALENDAR