BEGIN:VCALENDAR
VERSION:2.0
PRODID:-//The ICG - ECPv6.3.3.1//NONSGML v1.0//EN
CALSCALE:GREGORIAN
METHOD:PUBLISH
X-ORIGINAL-URL:https://theicg.co.uk
X-WR-CALDESC:Events for The ICG
REFRESH-INTERVAL;VALUE=DURATION:PT1H
X-Robots-Tag:noindex
X-PUBLISHED-TTL:PT1H
BEGIN:VTIMEZONE
TZID:Europe/London
BEGIN:DAYLIGHT
TZOFFSETFROM:+0000
TZOFFSETTO:+0100
TZNAME:BST
DTSTART:20200329T010000
END:DAYLIGHT
BEGIN:STANDARD
TZOFFSETFROM:+0100
TZOFFSETTO:+0000
TZNAME:GMT
DTSTART:20201025T010000
END:STANDARD
END:VTIMEZONE
BEGIN:VEVENT
DTSTART;TZID=Europe/London:20201029T110000
DTEND;TZID=Europe/London:20201029T120000
DTSTAMP:20260423T171021
CREATED:20200922T104431Z
LAST-MODIFIED:20200922T104431Z
UID:30206-1603969200-1603972800@theicg.co.uk
SUMMARY:Understanding and mapping omnichannel user and shopper journeys
DESCRIPTION:This webinar is generously sponsored by Perspective Research Services  \nIn the new normal\, “online” has rapidly evolved to omnichannel. In this presentation\, Eugene Murphy\, Founder & CEO of Indeemo will share remote qualitative research strategies on how you can use mobile diary studies to understand\, map and quantify user experiences and shopper experiences for omnichannel user and shopper journeys. This  webinar will be relevant to anyone in Qualitative Research\, UX or CX. \nSpecifically\, Eugene will cover: \n\nSome context on what we’re seeing recently\nWhat you can use Indeemo for i.e. how you can use this presentation to evolve your service offering to their clients\nWhat a typical project timeline / workflow looks like e.g. recruitment\, task design etc.\nQuick introduction to Indeemo and the capabilities (app and dashboard)\n2 sample projects / scenarios.\n\n \nREGISTER FOR THIS WEBINAR HERE
URL:https://theicg.co.uk/event/user-and-shopper-journeys-3/
LOCATION:Online
CATEGORIES:ICG Webinar
ATTACH;FMTTYPE=:
ORGANIZER;CN="Sally Alsop":MAILTO:webinars@theicg.co.uk
END:VEVENT
END:VCALENDAR