BEGIN:VCALENDAR
VERSION:2.0
PRODID:-//The ICG - ECPv6.3.3.1//NONSGML v1.0//EN
CALSCALE:GREGORIAN
METHOD:PUBLISH
X-WR-CALNAME:The ICG
X-ORIGINAL-URL:https://theicg.co.uk
X-WR-CALDESC:Events for The ICG
REFRESH-INTERVAL;VALUE=DURATION:PT1H
X-Robots-Tag:noindex
X-PUBLISHED-TTL:PT1H
BEGIN:VTIMEZONE
TZID:Europe/London
BEGIN:DAYLIGHT
TZOFFSETFROM:+0000
TZOFFSETTO:+0100
TZNAME:BST
DTSTART:20200329T010000
END:DAYLIGHT
BEGIN:STANDARD
TZOFFSETFROM:+0100
TZOFFSETTO:+0000
TZNAME:GMT
DTSTART:20201025T010000
END:STANDARD
END:VTIMEZONE
BEGIN:VEVENT
DTSTART;TZID=Europe/London:20201001T110000
DTEND;TZID=Europe/London:20201001T120000
DTSTAMP:20260423T142653
CREATED:20200813T091620Z
LAST-MODIFIED:20200813T091620Z
UID:30201-1601550000-1601553600@theicg.co.uk
SUMMARY:Using reporting innovations to come out of Covid stronger and with greater profit margins
DESCRIPTION:This webinar is generously sponsored by Perspective Research Services \nWith thanks to E-Tabs for running this webinar. \n \nThere is an increasing demand for interactive access to survey results\, and many clients are asking for secure and instant visualization of their data online to complement or even replace static reports of their survey results. There are many online dashboard platforms\, mostly built for the BI (business intelligence) industry\, but these tend to be expensive to deploy and require significant project setup time.   We will explore Iris – designed specifically for MR\, and ideally suited for making a big impact on results delivery without impacting on budget. \nSpeaker Bio \n \nBenjamin Rietti is the CEO of E-Tabs. His innovative approach has seen the company provide reporting services and solutions to the MR industry for over 25 years. With over two decades of industry knowledge\, Benjamin is a talented entrepreneur who recognises the integral role technology plays in market research. A doting family man\, he enjoys spending time with his children and grandchildren\, and has a passion for skiing. \nICG Member rates: \n\n\n\n \nICG Member\nNon ICG Member\n\n\nMonthly\n£400 per month\n£500 per month\n\n\nAnnually\n£3500\n£4000\n\n\n\n  \nTHE RECORDING OF THIS WEBINAR IS HERE  \n 
URL:https://theicg.co.uk/event/using-reporting-innovations-to-come-out-of-covid-stronger-and-with-greater-profit-margins-3/
LOCATION:Online
CATEGORIES:ICG Webinar
ORGANIZER;CN="Sally Alsop":MAILTO:webinars@theicg.co.uk
END:VEVENT
END:VCALENDAR