BEGIN:VCALENDAR
VERSION:2.0
PRODID:-//The ICG - ECPv6.3.3.1//NONSGML v1.0//EN
CALSCALE:GREGORIAN
METHOD:PUBLISH
X-WR-CALNAME:The ICG
X-ORIGINAL-URL:https://theicg.co.uk
X-WR-CALDESC:Events for The ICG
REFRESH-INTERVAL;VALUE=DURATION:PT1H
X-Robots-Tag:noindex
X-PUBLISHED-TTL:PT1H
BEGIN:VTIMEZONE
TZID:Europe/London
BEGIN:DAYLIGHT
TZOFFSETFROM:+0000
TZOFFSETTO:+0100
TZNAME:BST
DTSTART:20190331T010000
END:DAYLIGHT
BEGIN:STANDARD
TZOFFSETFROM:+0100
TZOFFSETTO:+0000
TZNAME:GMT
DTSTART:20191027T010000
END:STANDARD
BEGIN:DAYLIGHT
TZOFFSETFROM:+0000
TZOFFSETTO:+0100
TZNAME:BST
DTSTART:20200329T010000
END:DAYLIGHT
BEGIN:STANDARD
TZOFFSETFROM:+0100
TZOFFSETTO:+0000
TZNAME:GMT
DTSTART:20201025T010000
END:STANDARD
BEGIN:DAYLIGHT
TZOFFSETFROM:+0000
TZOFFSETTO:+0100
TZNAME:BST
DTSTART:20210328T010000
END:DAYLIGHT
BEGIN:STANDARD
TZOFFSETFROM:+0100
TZOFFSETTO:+0000
TZNAME:GMT
DTSTART:20211031T010000
END:STANDARD
BEGIN:DAYLIGHT
TZOFFSETFROM:+0000
TZOFFSETTO:+0100
TZNAME:BST
DTSTART:20220327T010000
END:DAYLIGHT
BEGIN:STANDARD
TZOFFSETFROM:+0100
TZOFFSETTO:+0000
TZNAME:GMT
DTSTART:20221030T010000
END:STANDARD
BEGIN:DAYLIGHT
TZOFFSETFROM:+0000
TZOFFSETTO:+0100
TZNAME:BST
DTSTART:20230326T010000
END:DAYLIGHT
BEGIN:STANDARD
TZOFFSETFROM:+0100
TZOFFSETTO:+0000
TZNAME:GMT
DTSTART:20231029T010000
END:STANDARD
BEGIN:DAYLIGHT
TZOFFSETFROM:+0000
TZOFFSETTO:+0100
TZNAME:BST
DTSTART:20240331T010000
END:DAYLIGHT
BEGIN:STANDARD
TZOFFSETFROM:+0100
TZOFFSETTO:+0000
TZNAME:GMT
DTSTART:20241027T010000
END:STANDARD
TZID:UTC
BEGIN:STANDARD
TZOFFSETFROM:+0000
TZOFFSETTO:+0000
TZNAME:UTC
DTSTART:20220101T000000
END:STANDARD
END:VTIMEZONE
BEGIN:VEVENT
DTSTART;TZID=Europe/London:20241206T120000
DTEND;TZID=Europe/London:20241206T163000
DTSTAMP:20260423T062254
CREATED:20241010T103226Z
LAST-MODIFIED:20241105T161628Z
UID:37903-1733486400-1733502600@theicg.co.uk
SUMMARY:ICG Christmas Party 2024
DESCRIPTION:Looking forward to celebrating with you all. ICG members and non-members all welcome!\nHurry! Limited numbers.\nThe details: \n\nFriday 6 Dec\, 12 – 4.30pm\nPrivate upstairs room of The Castle\, 34-5 Cowcross St\, Farringdon EC1M 6DB\nFestive buffet and drinks\n£42+VAT+Eventbrite fee\n\nSpecial thanks to our sponsors: \nCo-Sponsor: Face Facts \n \nThis event has been generously sponsored by Face Facts who are a multi award winning independent qualitative and quantitative fieldwork agency. They were winners of the Recruitment Excellence Award and finalists in the Best Data Collection (Online) category at this year’s MRS Operations Awards. They pride themselves on offering an experienced\, trusted service with quality at their core – their RAS accreditation\, MRS Fair data and ISO27001 certifications are testimony to this. Clients partner with them for their extensive experience\, the value they add and their flexible approach so you can trust them to support your research projects\, no matter how big or small. \nCo-Sponsor: QuestionPro \n \nQuestionPro offer a fully integrated experience management platform that includes surveys\, research & insights\, audience\, communities\, CX and EX software. \nFirst Drinks Sponsor: Teneo Translations \n \n  \nBuy your tickets here\n 
URL:https://theicg.co.uk/event/icg-christmas-party-2024/
LOCATION:The Castle  33-34 Cowcross Street EC1M 6DB\, The Castle\, London\, EC1M 6DB\, United Kingdom
CATEGORIES:ICG Event
GEO:51.5202542;-0.104275
X-APPLE-STRUCTURED-LOCATION;VALUE=URI;X-ADDRESS=The Castle  33-34 Cowcross Street EC1M 6DB The Castle London EC1M 6DB United Kingdom;X-APPLE-RADIUS=500;X-TITLE=The Castle:geo:-0.104275,51.5202542
END:VEVENT
BEGIN:VEVENT
DTSTART;TZID=Europe/London:20240229T180000
DTEND;TZID=Europe/London:20240229T210000
DTSTAMP:20260423T062254
CREATED:20230212T090823Z
LAST-MODIFIED:20231212T123644Z
UID:35271-1709229600-1709240400@theicg.co.uk
SUMMARY:The ICG's Annual Quiz Night
DESCRIPTION:   \nBack by popular demand is our annual face-to-face legendary Quiz Night \n \nQuiz masters Deanne and Marc Gold of iPoint Research (also ICG members)\, will be hosting a brilliant\, amusing\, neither-too-difficult\, nor too-easy quiz\, designed to get you working as a team and testing those grey cells. \nIn true ICG style\, we want to encourage everyone to get to know each other. So we’ll allocate you a team on arrival. So….no excuse not to book your ticket\, even if you don’t know a soul going. \n  \nBOOK YOUR TICKET(S) TODAY.\nCost is £20 + VAT + Eventbrite fee. This covers a good buffet and plenty of drinks. \nWe couldn’t put on such a brilliant event without the support of our wonderful sponsors: \nMain co-sponsors: Qualzy and iPoint Research \n 
URL:https://theicg.co.uk/event/the-icgs-annual-quiz-night/
LOCATION:Sir Christopher Hatton\, 4 Leather Lane\,\, London\, \, EC1N 7RA
CATEGORIES:ICG Event
ATTACH;FMTTYPE=image/jpeg:https://theicg.co.uk/wp-content/uploads/2022/01/1554116371-quiz-night.jpg
GEO:51.5182544;-0.1088123
X-APPLE-STRUCTURED-LOCATION;VALUE=URI;X-ADDRESS=Sir Christopher Hatton 4 Leather Lane London  EC1N 7RA;X-APPLE-RADIUS=500;X-TITLE=4 Leather Lane\,:geo:-0.1088123,51.5182544
END:VEVENT
BEGIN:VEVENT
DTSTART;TZID=UTC:20231208T000000
DTEND;TZID=UTC:20231208T170000
DTSTAMP:20260423T062254
CREATED:20221026T073038Z
LAST-MODIFIED:20231018T100609Z
UID:31774-1701993600-1702054800@theicg.co.uk
SUMMARY:The ICG's Christmas Party 2023
DESCRIPTION:Please come and join us for a Canapes and Drinks Party on Friday 8th December in the upstairs room of the Atlas Pub\, Fulham. \n \nThe room holds 60\, so grab your tickets now. \nCost is £40+VAT to include beautiful canapes\, sharing bowls and drinks\, as well as ticketing fees. \nWith special thanks to our Co-sponsors; \n \n\nPrevision Research\, providing high quality quantitative (CATI and online data collection) and qualitative (B2B recruitment) support to the research industry\, since 2009\nBilendi&Respondi. – the preferred panel provider used by consultants all over the UK and Europe\n\n  \nWe are also grateful to Teneo Translations for sponsoring our first drinks.  \n \nRESERVE YOUR PLACE NOW\n \nHome \n \n 
URL:https://theicg.co.uk/event/the-icgs-christmas-party-2023/
LOCATION:The Atlas Pub\, 16 Seagrave Road\, Fulham\, London SW6 1RX
CATEGORIES:ICG Event
ATTACH;FMTTYPE=image/jpeg:https://theicg.co.uk/wp-content/uploads/2022/01/christmas-493684926.jpg
END:VEVENT
BEGIN:VEVENT
DTSTART;TZID=UTC:20220922T150000
DTEND;TZID=UTC:20220922T200000
DTSTAMP:20260423T062254
CREATED:20220823T132014Z
LAST-MODIFIED:20220912T105313Z
UID:31459-1663858800-1663876800@theicg.co.uk
SUMMARY:3-Part Collaboration Day: Hive Mind\, AGM\, Wine Tasting
DESCRIPTION:This day has been generously sponsored by  Rigour Research\, the data collection and advanced analytics specialists\, and hosted by Schlesinger Group\n\n  \n\nOur latest ICG face-to-face collaborative event is in 3 parts. Feel free to attend 1\, 2 or all 3 of them; you must register for Hive Mind and for the Wine Tasting separately\n1. Hive Mind: 3 – 5pm \n \nThis all about having fun exploring the power of the fantastic ICG member Hive Mind. The idea is that you’ll get to meet other ICG-ers\, see how their minds work\, and gauge how well you could work together. \nThink creativity\, team-work\, fun\, brain-power. You’ll work in small teams to tackle a range of knotty business and societal issues. It’ll be a friendly competition – there’ll be prizes for the most creative or innovative solutions. There may also be some added curve-balls thrown in to keep you on your toes.  \nThis event will be free of charge and is open to the first 35 registrations we receive. \nREGISTER TODAY!\n  \n2. ICG AGM: 5.15 – 5.45pm \n \nHear more about what the ICG has been doing and its plans for the forthcoming year.  \nNo need to register for this. \n  \n3. Wine Tasting: 6 – 8pm \n \nJoin ICG member and wine-supremo Mike Brown\, Green Bird Consultants\, as he takes us through a wide range of global wines. Not to be missed. Mike is a font of  wine knowledge!  \nThis event will cost just £10 (+VAT+Eventbrite fee). \nOpen to ICG members and non-members. \nBUY YOUR TICKETS TODAY!\n  \nOur Hosts \nThese events will be generously hosted by Schlesinger Group UK Studios.. See here for a virtual walk through their London Studios.  \nOur Sponsor \nRigour Research are a fully accredited data collection and advanced analytics firm who provide fieldwork and data and analytics support to Independent Consultants\, Market Research Consultancies and End clients globally. \n \n 
URL:https://theicg.co.uk/event/31459/
LOCATION:Schlesinger London  9 Kingsway  London  WC2B 6XF\, WC2B 6XF\, United Kingdom
CATEGORIES:ICG Event
ORGANIZER;CN="Kath Rhodes":MAILTO:kath@qualitative-street.co.uk
GEO:51.5134813;-0.1183265
END:VEVENT
BEGIN:VEVENT
DTSTART;TZID=UTC:20220630T180000
DTEND;TZID=UTC:20220630T230000
DTSTAMP:20260423T062254
CREATED:20220517T122616Z
LAST-MODIFIED:20220523T120513Z
UID:31130-1656612000-1656630000@theicg.co.uk
SUMMARY:The ICG Turns 21! Come and celebrate with us!
DESCRIPTION:We are proud and excited to have reached the grand old age of 21 and would love you to come and celebrate with us. \nFrom our humble beginnings as a Special Interest Group of the MRS\, we are now a flourishing community of experienced and expert independent researchers and suppliers to the market research industry\, offering our members a wealth of benefits. \nChat\, eat and drink with us in the iconic St Katharine’s Dock\, London\, overlooking the Tower of London. \nWe look forward to welcoming you all. You never know\, there may even be cake… \nBUY YOUR TICKETS TODAY (£32+VAT)\nWith special thanks to our wonderful sponsors of this event: \nMAIN CO-SPONSORS: Field Notes Communities and Qualzy \nFIRST DRINKS SPONSOR: Perspective Research Services \nBIRTHDAY CAKE SPONSOR: Teneo Translations \nDESSERT SPONSOR: iPoint Market Research \nGOING-HOME GOODIES SPONSORS: Deep Research and Qualzy  \n             \n  \n 
URL:https://theicg.co.uk/event/the-icg-turns-21-come-and-celebrate-with-us/
LOCATION:Slug and Lettuce St Katherine’s Dock\, Unit 1 Tower Bridge House\, St. Katharine's Docks London - Tower Bridge\,\, London\, E1W 1AA\, United Kingdom
CATEGORIES:ICG Event
ATTACH;FMTTYPE=image/jpeg:https://theicg.co.uk/wp-content/uploads/2022/05/Dark-Blue-Beer-21st-Birthday-Invitation-e1652790648917.jpg
GEO:51.5054564;-0.0753565
X-APPLE-STRUCTURED-LOCATION;VALUE=URI;X-ADDRESS=Slug and Lettuce St Katherine’s Dock Unit 1 Tower Bridge House St. Katharine's Docks London - Tower Bridge London E1W 1AA United Kingdom;X-APPLE-RADIUS=500;X-TITLE=Unit 1 Tower Bridge House\, St. Katharine's Docks London - Tower Bridge\,:geo:-0.0753565,51.5054564
END:VEVENT
BEGIN:VEVENT
DTSTART;TZID=Europe/London:20210624T190000
DTEND;TZID=Europe/London:20210624T210000
DTSTAMP:20260423T062254
CREATED:20210420T113949Z
LAST-MODIFIED:20210420T113949Z
UID:30231-1624561200-1624568400@theicg.co.uk
SUMMARY:ICG Summer Party: It's All About The Food And Wine
DESCRIPTION:This event is generously sponsored by iPoint Market Research \n \n  \nJoin us on the evening of Thursday 24 June to; \n\n\nCook three relatively simple ‘Asian bites’ as demonstrated by Tariq Mirza \, SampleNinja (you may wish to cook these dishes before the event\, but if not\, please ensure that all ingredients are prepared beforehand)\nHear more about the sorts of wines that complement these dishes by ICG member Mike Brown  \nGreen Bird\nEat and drink\, ask questions\, share thoughts\nJoin everyone in a light-hearted quiz about food and wine.\n\nNot our usual face-to-face summer party but one that we think will be perfect for a summer’s evening entertainment. \n  \nREGISTER HERE \nBELOW ARE THE THREE RECIPES\, VIDEO DEMONSTRATIONS\, AND RECOMMENDED PAIRED WINES FOR EACH. PLEASE PURCHASE THE INGREDIENTS AND WINES BEFORE THE EVENT. YOU MAY WISH TO PREPARE THE DISHES IN ADVANCE. IF NOT\, PLEASE MAKE SURE THAT ALL INGREDIENTS ARE READY/PREPARED.\nRECIPE 1: CHAAT POTATO \nRecipe 1 – Chaat Potato \nThere is no video demonstration here as the recipe extremely simple to follow. \nRecommended wine: German White Wine – Gewurztraminer Spatlese (Lidl) \nhttps://www.lidl.co.uk/p/the-summer-wine-tour/gewuerztraminer-spaetlese/p42627 \n  \nRECIPE 2: MASALA SCRAMBLED EGGS  \nRecipe 2 – Masala Scrambled Eggs \nVideo demonstration \nSpanish Rose Wine – Tempranillo/Garnacha (Tesco) \nhttps://www.tesco.com/groceries/en-GB/products/292401344 \n  \n  \nRECIPE 3: PAKORAS \nRecipe 3 – Home Made Pakoras \nVideo demonstration \nGerman White Wine – Riesling/Scheurebe (Lidl) \nhttps://www.lidl.co.uk/p/the-summer-wine-tour/riesling-scheurebe-rheinhessen/p42628 \n  \n  \nHere’s a quick video intro about the wines we’ve recommended as well. \nTrailer for wine pairing – ICG Summer Party 2021 \n  \n  \nWe look forward to seeing you \nLOGIN: \nJoin Zoom Meeting \nhttps://us02web.zoom.us/j/82697363094?pwd=ZVVPN0hmUGxUZmlGcVpHd2NhdUdSdz09 \nMeeting ID: 826 9736 3094 \nPasscode: 385500 \n  \n \n 
URL:https://theicg.co.uk/event/icg-summer-party-its-all-about-the-food-and-wine-3/
LOCATION:Online
ATTACH;FMTTYPE=:
END:VEVENT
BEGIN:VEVENT
DTSTART;TZID=Europe/London:20201204T120000
DTEND;TZID=Europe/London:20201204T140000
DTSTAMP:20260423T062254
CREATED:20201027T134823Z
LAST-MODIFIED:20201027T134823Z
UID:30210-1607083200-1607090400@theicg.co.uk
SUMMARY:Celebrating Christmas In A Properly 2020 Way
DESCRIPTION:Join us on Zoom on Friday 4th December\, 12-2pm\, for a proper 3-part virtual shindig;\n\nJosh Horus\, 2019 Finalist of Britain’s Got Talent\, will wow us with his magic skills\nWe open the floor to 6 of our talented members for our own ‘ICG’s Got Talent’ show (prizes available)\nDeanne and Marc Gold will entertain us with a short festive quiz\n\n \n \nPre-party festive items\, generously sponsored by Prevision and Indiefield\, will be\, beforehand. \nOur magician is generously sponsored by Teneo Translations. \nTickets are £10+VAT each. Any profits made will be donated to the MRBA. \nWhat are you waiting for?\nBuy your ticket here (UK members). \nEmail to reserve your place here (non UK members). \nAnd then immediately send manager@theicg.co.uk your postal address (if UK) for your festive gift.\nYou’ll need to book by Weds 25th November latest so that you’ll be in time to receive your gift.  \nAnd your talent?\nIf you want to wow us with a short joke/poem/song/special something\, let events@theicg.co.uk know. If we’re inundated with talent we’ll pick 6 out of a hat and confirm whether or not it’s your chance to shine by Monday 23 Nov. \n  \n \n \n \n 
URL:https://theicg.co.uk/event/celebrating-christmas-in-a-properly-2020-way-3/
LOCATION:Online
CATEGORIES:ICG Event
ATTACH;FMTTYPE=:
END:VEVENT
BEGIN:VEVENT
DTSTART;TZID=Europe/London:20200909T100000
DTEND;TZID=Europe/London:20200909T100000
DTSTAMP:20260423T062254
CREATED:20200824T095845Z
LAST-MODIFIED:20200824T095845Z
UID:30202-1599645600-1599645600@theicg.co.uk
SUMMARY:The ICG's Business Ideas Exchange
DESCRIPTION:Presenting the ICG’s second Business Ideas Exchange! \nWe’re getting together on Zoom on the 9th September 10-11.30am to tackle two perennial issues that affect small businesses. \n8-10 ICGers will talk ‘solutions’ with each other using the spirit of collaboration come up with good ideas… \nBe part of the solution (and hear new solutions from fellow ICG-ers) on the following two big topics: \n\nBusiness development: best practice and easy solutions for winning new clients\nTime management: procrastination; switching off; balancing the quiet times – should I be enjoying it\, should I be doing marketing activity?\n\nWe’d like you to do a bit of pre-work before the 9th  so we’ll be sending out a pre-task… \nOur outputs will be shared amongst all members but please do sign up today to access your place. Only 10 places available. \nLooking forward to seeing you on the 9th \nREGISTER HERE. 
URL:https://theicg.co.uk/event/the-icgs-business-ideas-exchange-3/
LOCATION:Online
CATEGORIES:ICG Event
ATTACH;FMTTYPE=:
ORGANIZER;CN="Kath Rhodes":MAILTO:kath@qualitative-street.co.uk
END:VEVENT
BEGIN:VEVENT
DTSTART;TZID=Europe/London:20200610T170000
DTEND;TZID=Europe/London:20200610T180000
DTSTAMP:20260423T062254
CREATED:20200602T105051Z
LAST-MODIFIED:20200602T105051Z
UID:30193-1591808400-1591812000@theicg.co.uk
SUMMARY:ICG Bingo Night - Knock At The Door\, Number 4
DESCRIPTION:Gather all your family members\, grab a cuppa and a pen\, and join us on Weds 10th June at 5pm for our first online bingo session. \nA lighthearted opportunity to bring members together and have a break. \nAll you need to do is; \n1. register here (so that we have an idea of numbers) \n2. print out your cards. We’d suggest printing 2 per person \n3. click on this zoom link at the time. \n  \nWith huge thanks to ICG members Deanne and Marc Gold for hosting this \n  \nDuck and Dive\, Halfway There\, Danny La Rue  – This event is definitely for you!
URL:https://theicg.co.uk/event/icg-bingo-night-knock-at-the-door-number-4-3/
LOCATION:Online
CATEGORIES:ICG Event
ATTACH;FMTTYPE=:
END:VEVENT
BEGIN:VEVENT
DTSTART;TZID=Europe/London:20200609T103000
DTEND;TZID=Europe/London:20200609T113000
DTSTAMP:20260423T062254
CREATED:20200604T144852Z
LAST-MODIFIED:20200604T144852Z
UID:30196-1591698600-1591702200@theicg.co.uk
SUMMARY:ICG Bring-Your-Own Meet-Ups
DESCRIPTION:Welcome to the ICG’s Bring -Your -Own Meet-Ups; an opportunity to login at specific times during the working week – every week –  and have a chat with other members who also want to chat then. No agenda\, no fuss\, just a chance to say hi to other members for whatever time you can spare. \nWe’ve set up the links\, you just bring your own drink* \n(*we’ve called the links by a different drink depending on the time of day they’re scheduled for\, but don’t let that dictate what you actually do :)) \nEach time slot has 2 possible links. We’ve done this so that if there’s more than a handful of you on at any one time\, you can try the next link. We think that 6-7 people in any one session is probably about right. \n  \nChoose to join at any – or all – of these slots\, on any week that suits you. \n  \nEvery Tuesday morning\, 10.30-11.30am: https://meet.jit.si/ICGBYOcoffee1 OR https://meet.jit.si/ICGBYOcoffee2 \nEvery Thursday afternoon\, 4-5pm: https://meet.jit.si/ICGBYOtea1 OR  https://meet.jit.si/ICGBYOtea2 \nEvery Thursday evening\, 8-9pm: https://meet.jit.si/ICGBYOwine1 OR https://meet.jit.si/ICGBYOwine2 \n 
URL:https://theicg.co.uk/event/icg-bring-your-own-meet-ups-3/
LOCATION:Online
CATEGORIES:ICG Event
ATTACH;FMTTYPE=:
END:VEVENT
BEGIN:VEVENT
DTSTART;TZID=Europe/London:20200423T200000
DTEND;TZID=Europe/London:20200423T210000
DTSTAMP:20260423T062254
CREATED:20200129T115943Z
LAST-MODIFIED:20200129T115943Z
UID:30178-1587672000-1587675600@theicg.co.uk
SUMMARY:ICG Online Evening Talk: Managing Cash and Government Schemes Available to Small Businesses
DESCRIPTION:Here’s the recording of online evening speaker event\, presented by Business Mentor Brian Woolrich  \n \nAbout Brian \nBrian has over thirty years business experience\, having grown a number of businesses and led large teams of colleagues. He has worked with literally hundreds of businesses\, from start-ups to multi-nationals. Brian regularly presents on varied business topics to groups of SME business owners\, and works alongside his retained clients on a 1:1 basis in order to support them with the development and growth of their business. \n \nhttps://www.linkedin.com/in/brianwoolrich/ \nwww.ukbusinessmentoring.co.uk \n  \n\n  \n 
URL:https://theicg.co.uk/event/icg-evening-talk-3/
CATEGORIES:ICG Event
ATTACH;FMTTYPE=:
END:VEVENT
BEGIN:VEVENT
DTSTART;TZID=Europe/London:20191206T123000
DTEND;TZID=Europe/London:20191206T160000
DTSTAMP:20260423T062254
CREATED:20190807T142215Z
LAST-MODIFIED:20190807T142215Z
UID:30159-1575635400-1575648000@theicg.co.uk
SUMMARY:The ICG's Open-To-All Christmas Lunch
DESCRIPTION:NOTE WE CANNOT TAKE BOOKINGS AFTER TUESDAY 26 NOV  \nWe are excited to announce our open-to-all Christmas lunch on Friday 6th December at 12.30pm in Farringdon\, London. \nWe promise you all a warm welcome\, a great time\, and a sumptuous meal (see menu here) \nCelebrating Christmas 2017 \nCelebrating Christmas 2018 \n  \nAll are welcome – this is an event for ICG members and friends. Let’s start December as we mean to go on! \nWe will need your food choices by Monday 18th Nov – send them to Lucie\, together with any dietary requirements. \n  \nWith special\, festive thanks to our fabulous main sponsors\, Ardent Fieldwork and Perspective Research Services\, and to our first-drinks sponsor\, Web Creator Suite. 
URL:https://theicg.co.uk/event/the-icgs-open-to-all-christmas-lunch-3/
LOCATION:The Castle  33-34 Cowcross Street EC1M 6DB\, The Castle\, London\, EC1M 6DB\, United Kingdom
CATEGORIES:ICG Event
ATTACH;FMTTYPE=:
GEO:51.5202542;-0.104275
X-APPLE-STRUCTURED-LOCATION;VALUE=URI;X-ADDRESS=The Castle  33-34 Cowcross Street EC1M 6DB The Castle London EC1M 6DB United Kingdom;X-APPLE-RADIUS=500;X-TITLE=The Castle:geo:-0.104275,51.5202542
END:VEVENT
END:VCALENDAR