BEGIN:VCALENDAR
VERSION:2.0
PRODID:-//The ICG - ECPv6.3.3.1//NONSGML v1.0//EN
CALSCALE:GREGORIAN
METHOD:PUBLISH
X-WR-CALNAME:The ICG
X-ORIGINAL-URL:https://theicg.co.uk
X-WR-CALDESC:Events for The ICG
REFRESH-INTERVAL;VALUE=DURATION:PT1H
X-Robots-Tag:noindex
X-PUBLISHED-TTL:PT1H
BEGIN:VTIMEZONE
TZID:Europe/London
BEGIN:DAYLIGHT
TZOFFSETFROM:+0000
TZOFFSETTO:+0100
TZNAME:BST
DTSTART:20210328T010000
END:DAYLIGHT
BEGIN:STANDARD
TZOFFSETFROM:+0100
TZOFFSETTO:+0000
TZNAME:GMT
DTSTART:20211031T010000
END:STANDARD
END:VTIMEZONE
BEGIN:VEVENT
DTSTART;TZID=Europe/London:20210412T110000
DTEND;TZID=Europe/London:20210412T113000
DTSTAMP:20260423T045544
CREATED:20210316T124832Z
LAST-MODIFIED:20210316T124832Z
UID:30226-1618225200-1618227000@theicg.co.uk
SUMMARY:New Members Get-Together: Maximise Your ICG Membership
DESCRIPTION:Join other members who’ve joined the ICG in the last year or so\, introduce yourselves\, and hear more about how you can maximise your ICG membership.\n\n\n\n\n\n\n\n\nAn opportunity to get involved\, get known\, and ask any questions you have about your membership. \n\n\n\n\n\n\n\n\n\n\n\n\n \n\n\n\n\nLogin here: \nPlease join my meeting from your computer\, tablet or smartphone.https://global.gotomeeting.com/join/358657477 \nYou can also dial in using your phone.United Kingdom: +44 20 3713 5011 \nAccess Code: 358-657-477
URL:https://theicg.co.uk/event/new-members-get-together-maximise-your-icg-membership-3/
ORGANIZER;CN="Phil Gray":MAILTO:membership@theicg.co.uk
END:VEVENT
END:VCALENDAR