BEGIN:VCALENDAR
VERSION:2.0
PRODID:-//The ICG - ECPv6.3.3.1//NONSGML v1.0//EN
CALSCALE:GREGORIAN
METHOD:PUBLISH
X-WR-CALNAME:The ICG
X-ORIGINAL-URL:https://theicg.co.uk
X-WR-CALDESC:Events for The ICG
REFRESH-INTERVAL;VALUE=DURATION:PT1H
X-Robots-Tag:noindex
X-PUBLISHED-TTL:PT1H
BEGIN:VTIMEZONE
TZID:Europe/London
BEGIN:DAYLIGHT
TZOFFSETFROM:+0000
TZOFFSETTO:+0100
TZNAME:BST
DTSTART:20230326T010000
END:DAYLIGHT
BEGIN:STANDARD
TZOFFSETFROM:+0100
TZOFFSETTO:+0000
TZNAME:GMT
DTSTART:20231029T010000
END:STANDARD
END:VTIMEZONE
BEGIN:VEVENT
DTSTART;TZID=Europe/London:20231129T130000
DTEND;TZID=Europe/London:20231129T133000
DTSTAMP:20260422T002114
CREATED:20231031T111427Z
LAST-MODIFIED:20231031T113700Z
UID:36548-1701262800-1701264600@theicg.co.uk
SUMMARY:Lunch&Learn: Taking Qualitative Research to the Next Level with OPPI
DESCRIPTION:Introducing OPPI\, the platform for market researchers seeking to enhance their qualitative and quantitative studies through opinion crowdsourcing and audience insights. Using state-of-the-art data analytics\, OPPI captures the nuances of human conversation through crowd-sourced opinions\, providing real-time\, actionable insights. Imagine integrating these rich\, qualitative insights into your current quantitative data sets seamlessly. With OPPI\, you can offer your clients a complete understanding of their target audience by blending numbers with narratives. \nAdrian Liew\, FounderAdrian is a digital strategist\, communications consultant and marketing technologist who has advised corporate leaders\, government officials and foreign embassies for the past ten years. As a technologist\, Adrian’s passion is analysing and using data to reveal the insightful\, profound stories that make a difference to people\, companies and governments.  \nWebsite: www.oppi.live \nLinkedIn: www.linkedin.com/in/adsg84 \nREGISTER FOR THIS FREE LUNCH&LEARN HERE\n 
URL:https://theicg.co.uk/event/lunchlearn-taking-qualitative-research-to-the-next-level-with-oppi/
LOCATION:https://zoom.us/j/2071827436
CATEGORIES:Lunch&Learn
ATTACH;FMTTYPE=image/jpeg:https://theicg.co.uk/wp-content/uploads/2022/03/icg.lunch_.learn_.jpg
END:VEVENT
BEGIN:VEVENT
DTSTART;TZID=Europe/London:20230928T140000
DTEND;TZID=Europe/London:20230928T150000
DTSTAMP:20260422T002114
CREATED:20230822T081219Z
LAST-MODIFIED:20230822T082122Z
UID:36229-1695909600-1695913200@theicg.co.uk
SUMMARY:Inclusive research: Unveiling the truths of Latino consumers
DESCRIPTION:Empathy is at the heart of qualitative research. Yet many factors can undermine understanding respondents\, especially when working with participants from different cultures. Whether we are conscious of them or not\, these factors can discourage respondents from sharing their experiences and perspectives – and hinder our efforts to uncover critical insights for business growth. \nKey takeaways from attending this webinar: \n\nBest practices for research involving Latino consumers\, including research design that contributes to cultural understanding and deep disco\nTwo successful case studies including how to communicate the key insights to stakeholders in a way that is relevant to the business and builds confidence.\n\nIsabel Aneyba\, Managing Director\, COMARKA Research \n \nIsabel Aneyba is founder and director at COMARKA\, a cross-cultural research partner based in Austin\, TX. She focuses on designing empathy experiences and innovative co-creation methods for better products and services. Her work has guided successful product and services launches in several categories including food and beverage\, retail\, health care and technology. \nShe has done extensive research in the U.S.\, Mexico and LATAM. For her work toward a more inclusive industry\, Isabel Aneyba received the REEL award (Research and Equitable Leadership) in 2020 and the recognition as one of the top 50 most influential insights leaders in the U.S. \nIsabel is also an ICG member. \n \nwww.comarka.com I  512.299.2077  \nYour Effective Cross-Cultural Research Partner \nREGISTER FOR THIS WEBINAR HERE 
URL:https://theicg.co.uk/event/inclusive-research-unveiling-the-truths-of-latino-consumers/
LOCATION:https://zoom.us/j/2071827436
CATEGORIES:ICG Webinar
ATTACH;FMTTYPE=image/jpeg:https://theicg.co.uk/wp-content/uploads/2023/06/eye-g5762246f9_1280-e1692692003699.jpg
END:VEVENT
BEGIN:VEVENT
DTSTART;TZID=Europe/London:20230920T090000
DTEND;TZID=Europe/London:20230920T100000
DTSTAMP:20260422T002114
CREATED:20230810T114155Z
LAST-MODIFIED:20230810T114155Z
UID:36187-1695200400-1695204000@theicg.co.uk
SUMMARY:ICG AGM 2023 with Jane Frost (MRS) as guest speaker
DESCRIPTION:We are delighted to be welcoming Jane Frost\, CEO of the MRS\, at this meeting. Jane will be talking about some key trends and predictions for the market research sector\, and will be available to answer your questions about this.\n \nJane will be speaking at 9am\, after which the agenda for the AGM will be: \n1. To accept the Treasurer’s Report and Accounts for the financial year 2022/3\n2. To approve the appointment of PHSK as auditors\n3. To approve the appointment of the ICG Committee. \nThe accounts for this year can be viewed here.  \nWe look forward to seeing you there! \nREGISTER FOR THIS EVENT HERE (Open to ICG members only)
URL:https://theicg.co.uk/event/icg-agm-2023-with-jane-frost-mrs-as-guest-speaker/
LOCATION:https://zoom.us/j/2071827436
CATEGORIES:ICG Event
ATTACH;FMTTYPE=image/jpeg:https://theicg.co.uk/wp-content/uploads/2022/01/1536751842-agm.jpg
END:VEVENT
BEGIN:VEVENT
DTSTART;TZID=Europe/London:20230913T130000
DTEND;TZID=Europe/London:20230913T133000
DTSTAMP:20260422T002114
CREATED:20230724T101818Z
LAST-MODIFIED:20230918T100208Z
UID:36050-1694610000-1694611800@theicg.co.uk
SUMMARY:Lunch & Learn with Yonder Data Solutions
DESCRIPTION:  \nWe welcome Daniel Singham from Yonder Data Solutions to run this Lunch&Learn for us. \n \n \nIn the ever-evolving world of market research\, data quality concerns have become more prominent than ever. At Yonder Data Solutions\, we take pride in the quality of data we deliver to our clients. By placing respondents at the heart of the research process and employing a combination of automated quality checks and manual checks carried out by our experienced team\, we ensure that our data always stands up to integrity. \nWe run several omnibus services via online and CATI\, as well as ad-hoc UK and International work.  \nTo find out more\, join us for an exclusive lunch and learn on 13th September at 1pm hosted by our brilliant Commercial Director\, Daniel Singham who has been in the industry for over 16 years and is on the MRS ED&I Council.  \nYonder Data Solutions is a trusted online and telephone fieldwork and data collection agency based in the UK. We are an MRS Company partner\, hold the ISO20252 standard for market research services and operate our highly respected online panel\, Y Live. \nhttps://www.linkedin.com/in/daniel-singham-2288346/ \nhttps://www.linkedin.com/company/yonderdatasolutions/ \n \nYonder Data Solutions \n \n \nYonder Data Solutions \n \n \nHome \n \n \nYonder Data Solutions \n \nREGISTER FOR THIS FREE SESSION HERE 
URL:https://theicg.co.uk/event/lunch-learn-with-yonder-data-solutions/
LOCATION:https://zoom.us/j/2071827436
CATEGORIES:Lunch&Learn
ATTACH;FMTTYPE=image/jpeg:https://theicg.co.uk/wp-content/uploads/2022/03/icg.lunch_.learn_.jpg
END:VEVENT
BEGIN:VEVENT
DTSTART;TZID=Europe/London:20230912T160000
DTEND;TZID=Europe/London:20230912T164500
DTSTAMP:20260422T002114
CREATED:20230731T101939Z
LAST-MODIFIED:20230810T103626Z
UID:36108-1694534400-1694537100@theicg.co.uk
SUMMARY:Knowledge Share: Making Introversion Work
DESCRIPTION:This Knowledge Share has been generously sponsored by Opinion Hub \nThis Knowledge Share will be presented by Carol Raithatha\, Carol Raithatha Ltd.  \nIntroverts as compared to be extroverts can be defined as people who are more reflective\, prefer calm and quiet environments\, and get their energy from spending time alone. They may also be shy or reserved. This is at odds with our business environment which focuses on action\, speed\, networking\, and self-promotion. Being an introvert and a consultant can be difficult. But introverts have much to offer. \nThis Knowledge Share session will discuss a few typical ‘troubling’ type situations for introverts and suggest tips for working through those\, both from the point of view of an introverted person and from someone who is collaborating with introverts. We will finish off the session with a brief look at how tailored coaching can help introverts flourish at work. \nCarol Raithatha  \n \nCarol is the Director of Carol Raithatha Limited\, a consultancy specialising in food and drink research\, sensory evaluation\, qualitative and desk research\, and B2B approaches. In addition\, Carol Raithatha Limited offers coaching to research and related professionals. Carol is a strategic thinker with a pragmatic mindset. Carol holds an ILM Certificate in Effective Coaching and Mentoring\, an MBA\, and is a Certified Member of the MRS and a member of the ICG and AQR. \nCarol Raithatha Limited \nwww.carolraithatha.co.uk \nREGISTER FOR THIS SESSION HERE 
URL:https://theicg.co.uk/event/making-introversion-work/
LOCATION:https://zoom.us/j/2071827436
CATEGORIES:Knowledge Share
ATTACH;FMTTYPE=image/jpeg:https://theicg.co.uk/wp-content/uploads/2022/01/HP-Knowledge-1-155439272.jpg
END:VEVENT
BEGIN:VEVENT
DTSTART;TZID=Europe/London:20230809T130000
DTEND;TZID=Europe/London:20230809T133000
DTSTAMP:20260422T002114
CREATED:20230725T105818Z
LAST-MODIFIED:20230731T080124Z
UID:36076-1691586000-1691587800@theicg.co.uk
SUMMARY:Lunch & Learn with ResearchBods
DESCRIPTION:Come and join us at this Lunch&Learn session with ResearchBods. \n \nWhat will be covered? \nResearchBods is a UK based Global Data Collection partner that offers Agencies\, Brands and Independent Consultants\, a range of innovative online Qual and Quant Solutions. We combine tech with operational excellence to ensure consistent and high quality delivery across research projects. \nWe’d love to share a quick overview of our Online Community platform\, our approach to ensuring Data Integrity during online Quant studies\, and our introduction of AI solutions to enrich your insight delivery. Most of the session will be focused on Data Integrity\, however\, and the measures we put in place to ensure real people are providing the responses to your questions. \nWhy is ResearchBods  a great fit for micro-businesses in research? \nWe’ve supported micro-businesses and freelancers for years\, so we truly value the importance of offering a trusted partner service that can deliver time and again! Our service model is scaleable and can support self serve clients\, or those that require full serve and everything in-between!  The solutions we offer are not only industry leading\, but we’re also massively competitive on price and our dedicated support teams will do whatever they can to help you convert projects. \nDale Henry\, Sales Director \n \nDale has been at ResearchBods for 7 years\, working across various Product Solutions in a client servicing capacity. Dale’s passion lies within tech enablement and supporting clients with making strategic business decisions through accurate data delivery. \nhttps://researchbods.strat7.com/ \nhttps://www.linkedin.com/company/strat7.researchbods/mycompany/ \nDiscount for ICG members \nAs mentioned our project prices are always competitive\, we rarely lose out on price. We’re happy to offer 15% discount to ICG members on the first project commissioned with us.  \nREGISTER FOR THIS SESSION HERE 
URL:https://theicg.co.uk/event/lunch-learn-with-researchbods/
LOCATION:https://zoom.us/j/2071827436
CATEGORIES:Lunch&Learn
ATTACH;FMTTYPE=image/jpeg:https://theicg.co.uk/wp-content/uploads/2022/03/icg.lunch_.learn_.jpg
END:VEVENT
BEGIN:VEVENT
DTSTART;TZID=Europe/London:20230801T160000
DTEND;TZID=Europe/London:20230801T164500
DTSTAMP:20260422T002114
CREATED:20230726T102648Z
LAST-MODIFIED:20230731T102824Z
UID:36085-1690905600-1690908300@theicg.co.uk
SUMMARY:Knowledge Share: Mystery Shopping - What? Why? How?
DESCRIPTION:This Knowledge Share session has been generously sponsored by E-Tabs\, bringing cutting edge automated charting for your projects in PowerPoint & Google Slides \n \n  \nJoin us at this Knowledge Share\, presented by Carole Arvanitis\, Newlann Mystery Shopping \n \nWhat will be covered? \n\nWhat is mystery shopping?\nWhat it gives you.\nWhen and why people buy it.\nHow you do it\n\nAbout Carole \n \nAfter many years with GfK Mystery Shopping\, I set up on my own in 2014 and launched Newlann.  With only three of us\, we are much smaller than most mystery shopping companies.  What we try to offer is an in-depth service really thinking about what needs to be evaluated and how the results can be used to make improvements. We tend to work on fairly small projects\, often quite complex and challenging ones.  We have our own bespoke IT platform and a panel of about 8\,000 shoppers across the country. \nhttps://www.linkedin.com/in/carolearvanitis-newlannmysteryshopping/ \nREGISTER FOR THIS KNOWLEDGE SHARE HERE 
URL:https://theicg.co.uk/event/knowledge-share-mystery-shopping-what-why-how/
LOCATION:https://zoom.us/j/2071827436
CATEGORIES:Knowledge Share
ATTACH;FMTTYPE=image/jpeg:https://theicg.co.uk/wp-content/uploads/2022/01/HP-Knowledge-1-155439272.jpg
END:VEVENT
BEGIN:VEVENT
DTSTART;TZID=Europe/London:20230705T130000
DTEND;TZID=Europe/London:20230705T133000
DTSTAMP:20260422T002114
CREATED:20230626T111703Z
LAST-MODIFIED:20230703T153316Z
UID:35900-1688562000-1688563800@theicg.co.uk
SUMMARY:Lunch&Learn with VisionsLive
DESCRIPTION:We welcome Nikki Baines from VisionsLive to run this Lunch&Learn for us. \n \n \nVisionsLive is an online qualitative research platform. They provide support services: 24-hour ticketing service\, project manager assigned to assist with every project\, full service available (moderation\, recruitment\, sims trans) as well as a platform-only approach. \nThey also offer: \n\nWebcam & Audio Focus Groups & IDIs\nText Chat Focus Groups and IDIs\nBulletin Board Communities\n\nWhatever methodology you choose\, the same key features are available: \n\nWhiteboards\nHeatmaps\nPolls\nReporting\n\nAlthough VisionsLive may also be a small team\, our extensive experience has allowed us to build a vast network and a substantial supplier database. They offer both full-service and platform-only packages\, ensuring flexibility to meet your specific needs. They also provide various payment options to make it convenient for you. \nhttps://visionslive.com/ \nhttps://www.linkedin.com/company/visionslive-limited/mycompany/ \n  \nREGISTER FOR THIS FREE SESSION HERE 
URL:https://theicg.co.uk/event/lunchlearn-with-visions-live/
LOCATION:https://zoom.us/j/2071827436
CATEGORIES:Lunch&Learn
ATTACH;FMTTYPE=image/jpeg:https://theicg.co.uk/wp-content/uploads/2022/03/icg.lunch_.learn_.jpg
END:VEVENT
END:VCALENDAR