BEGIN:VCALENDAR
VERSION:2.0
PRODID:-//The ICG - ECPv6.3.3.1//NONSGML v1.0//EN
CALSCALE:GREGORIAN
METHOD:PUBLISH
X-WR-CALNAME:The ICG
X-ORIGINAL-URL:https://theicg.co.uk
X-WR-CALDESC:Events for The ICG
REFRESH-INTERVAL;VALUE=DURATION:PT1H
X-Robots-Tag:noindex
X-PUBLISHED-TTL:PT1H
BEGIN:VTIMEZONE
TZID:Europe/London
BEGIN:DAYLIGHT
TZOFFSETFROM:+0000
TZOFFSETTO:+0100
TZNAME:BST
DTSTART:20230326T010000
END:DAYLIGHT
BEGIN:STANDARD
TZOFFSETFROM:+0100
TZOFFSETTO:+0000
TZNAME:GMT
DTSTART:20231029T010000
END:STANDARD
END:VTIMEZONE
BEGIN:VEVENT
DTSTART;TZID=Europe/London:20230914T110000
DTEND;TZID=Europe/London:20230914T120000
DTSTAMP:20260426T022756
CREATED:20230627T120706Z
LAST-MODIFIED:20230628T101300Z
UID:35921-1694689200-1694692800@theicg.co.uk
SUMMARY:Secure Your Business with These 7 Essential GDPR and Information Security Tips
DESCRIPTION:This webinar has been generously sponsored by Indiefield\, specialising in providing market research fieldwork and respondent recruitment services to meet the needs of today’s market researchers. \n \nGDPR and information security continue to evolve and we have 7 tips to make sure you stay up to date covering: \n\ndevice security\nprocurement questionnaires\nthe use of artificial intelligence software and\nthe potential changes as a result of the Data Protection and Digital Information Bill.\n\nThe companies you work for want to be confident that they are working with a business which takes GDPR and information security seriously. This frequently requires an understanding of a changing environment and being confident that any cyber threats to your business are being managed. Failing to convince a client that your business is secure and GDPR compliant is costly and can lose you work. This webinar will provide 7 actions to get you up to date. There will also be time to ask questions about GDPR or information security compliance. \nLesley Cooley \n \nLesley Cooley has over 25 years’ experience in process improvement combined with 18 years in data protection compliance. Lesley holds the respected ISEB Certificate in Data Protection and enjoys working with a range of organisations to get the best practices for them in place. Lesley is a part qualified accountant\, and a Level 5 Institute of Leadership and Management coach and Mentor as well as an Institute of Risk Management qualified Risk Manager. Lesley is also a certified Information Security Management System Lead Auditor which means that she can audit to the ISO27001 (Information Security) standard and a qualified change manager. Lesley works with lots of market research companies of varying sizes and so understands the priorities for you and your business. \nYou can find out more about Lesley and GDPR Advisors here \nLinkedin – https://www.linkedin.com/in/lesleycooley/ \nFacebook- https://www.facebook.com/GDPRAdvisorsUK \nWebsites – www.gdpradvisorsuk.com and www.audit-and-risk.co.uk \n  \nREGISTER FOR THIS FREE WEBINAR HERE 
URL:https://theicg.co.uk/event/secure-your-business-with-these-7-essential-gdpr-and-information-security-tips/
LOCATION:ICG Zoom Room: https://zoom.us/s/2071827436?pwd=ZXh6ZmFtSk9mcU84aG5qUkNMR2dwdz09
CATEGORIES:ICG Webinar
END:VEVENT
BEGIN:VEVENT
DTSTART;TZID=Europe/London:20230907T140000
DTEND;TZID=Europe/London:20230907T144500
DTSTAMP:20260426T022756
CREATED:20230629T104625Z
LAST-MODIFIED:20230810T080027Z
UID:35941-1694095200-1694097900@theicg.co.uk
SUMMARY:Knowledge Share: Do more with less - an introduction to insight synthesis
DESCRIPTION:This Knowledge Share has been generously sponsored by Opinion Hub\n\n\n\n\nInsight budgets are under pressure. Rather than commission new projects\, our clients are being asked to do more with what they already know. In this introduction to insight synthesis\, we’ll show you how to maximise the value in your client’s existing research. \nWe’ll cover: \n– Why you should synthesise your insight \n– Four simple steps to follow \n– Tools and techniques to help \n– And pitfalls to avoid \nDan Young \n \nDan set up Shed Research to help organisations make more of their existing research. In the past year\, he’s been doing this for HSBC UK\, Cancer Research UK\, General Mills\, Guide Dogs\, and BSH Group (the people behind Bosch and Siemens). In 2020\, Dan was fortunate enough to win the ICG/MRS Independent Consultant Award. He’s a frequent speaker on the topic of insight synthesis and regularly trains insight teams how to make more of their existing insight. \nShed Research Consulting \n+44 (0)7980 988 762 \n \n  \nREGISTER FOR THIS SESSION HERE 
URL:https://theicg.co.uk/event/knowledge-share-do-more-with-less-an-introduction-to-insight-synthesis/
LOCATION:ICG Zoom Room: https://zoom.us/s/2071827436?pwd=ZXh6ZmFtSk9mcU84aG5qUkNMR2dwdz09
CATEGORIES:Knowledge Share
ATTACH;FMTTYPE=image/jpeg:https://theicg.co.uk/wp-content/uploads/2023/06/Dan-Young-June-2023-scaled-e1688035997849.jpg
END:VEVENT
BEGIN:VEVENT
DTSTART;TZID=Europe/London:20230727T110000
DTEND;TZID=Europe/London:20230727T120000
DTSTAMP:20260426T022756
CREATED:20230613T105251Z
LAST-MODIFIED:20230628T101159Z
UID:35846-1690455600-1690459200@theicg.co.uk
SUMMARY:Mental Fitness: 3 keys to better stress management
DESCRIPTION:How often have you felt stressed of late? A 2021 Gallup poll showed that 44% of us felt stressed\, just yesterday! \nStress is a regular and frequent factor in our lives these days\, and can be triggered by everything from work pressure\, to home life\, money and relationships. But its how we deal with it that can be crucial to our performance and wellbeing. \nIn this session we’ll explore \n\nWorrying increase of stress levels globally (and impact within the insights industry)\nThe anatomy of stress\nMy story of how stress became a form of self sabotage\nMental Fitness techniques to deal with stress\nQ&A\n\nNot only will you learn about stress and how it affects you\, but you’ll come away with 3 powerful mental fitness techniques to help you deal with stress whenever it arises. \nLara Meyer \n \nLara is a researcher turned professional coach who has a degree in Psychology (BSc) and is trained in multiple coaching methodologies (Co-Active and Positive Intelligence) and is an accredited member (ACC) of the International Coaching Federation (ICF). She brings a multitude of leadership skills from a corporate career spanning almost 20 years in Research with TNS\, Kantar\, Hall & Partners\, as wellas client-side at Microsoft & Hive and now supports growing start-ups via her consultancy Scale Up Insight.\nShe is committed to empowering senior leaders within the research and insights space to bringout the best in themselves\, their  teams and their companies. \nWomen’s Leadership Coach (lara-meyer.com) \nlara@lara-meyer.com \n \nREGISTER FOR THIS FREE WEBINAR HERE 
URL:https://theicg.co.uk/event/mental-fitness-3-keys-to-better-stress-management/
LOCATION:ICG Zoom Room: https://zoom.us/s/2071827436?pwd=ZXh6ZmFtSk9mcU84aG5qUkNMR2dwdz09
CATEGORIES:ICG Webinar
ATTACH;FMTTYPE=image/png:https://theicg.co.uk/wp-content/uploads/2023/06/Lara-Meyer-Logo.png
END:VEVENT
BEGIN:VEVENT
DTSTART;TZID=Europe/London:20230726T110000
DTEND;TZID=Europe/London:20230726T120000
DTSTAMP:20260426T022756
CREATED:20230605T133548Z
LAST-MODIFIED:20230726T072753Z
UID:35831-1690369200-1690372800@theicg.co.uk
SUMMARY:The 5 ways to grow your business’s profits
DESCRIPTION:This webinar has been generously sponsored by Perspective Research Services. \n \nMany business owners work hard to improve their profits but miss an opportunity to make significant gains to the bottom line by leveraging 5 often overlooked inputs; the ‘5 Ways’. \nThis simple but effective approach will give you clarity on how to grow your business and actionable steps that you can implement immediately. \nJustin will demonstrate how focusing on 5 areas of your business can deliver a 50% increase in revenue and a 60% growth in gross profit using proven strategies and tactics. \nJustin Charlton-Jones \n \nJustin is an experienced business leader and public speaker who has successfully led and grown 5 small businesses in the UK.  His passion is working with small businesses to help them grow.  He now leads a business coaching company\, but previously worked in the research and insight sector where he managed and grew a number of independent consultancies as well as running a UK division of an international agency. \n \nREGISTER FOR THIS FREE WEBINAR HERE \nhttps://www.linkedin.com/in/justin-charlton-jones/ \n 
URL:https://theicg.co.uk/event/the-5-ways-to-grow-your-businesss-profits/
LOCATION:ICG Zoom Room: https://zoom.us/s/2071827436?pwd=ZXh6ZmFtSk9mcU84aG5qUkNMR2dwdz09
CATEGORIES:ICG Webinar
ATTACH;FMTTYPE=image/jpeg:https://theicg.co.uk/wp-content/uploads/2023/06/money-g53e3b8e08_1280.jpg
END:VEVENT
BEGIN:VEVENT
DTSTART;TZID=Europe/London:20230713T140000
DTEND;TZID=Europe/London:20230713T150000
DTSTAMP:20260426T022756
CREATED:20230627T114500Z
LAST-MODIFIED:20230628T100446Z
UID:35918-1689256800-1689260400@theicg.co.uk
SUMMARY:Introduction to AMSR - a free resource for storytelling and bringing context to research and insights
DESCRIPTION:Please join ICG member Judith Staig for this webinar. \n \nTim Harford advises that\, when we see a number\, we should ask ‘is that a big number?’ One of the ways we can answer that question is to look at recent history. For example\, is the interest rate high? Only when compared with the last few years – back in November 1979\, it was 17%. \nThis webinar will introduce you to the AMSR – a fantastic free resource for researchers. The AMSR curates post-war market research projects\, papers\, and publications and is full of nuggets of gold that will help you put context around today’s markets\, find data to spin stories around and bring your insights to life. \nThe webinar uses the three recent AMSR publications to showcase stories about key issues of our time such as women at work\, sustainability\, diversity and inclusion\, inflation and referendums\, as well as to report on the changes and developments we have seen in our industry. Link to publications here \nWhat will I learn? You will know how to use the AMSR for your own research and also what you can do to become involved with what is one of the foremost and most valuable charitable endeavours in our industry. \nJudith Staig \n \nJudith is a writer and content strategist working in the research and insights sector. She helps AMSR with marcomms as a volunteer. \nREGISTER FOR THIS WEBINAR HERE \nhttps://www.linkedin.com/in/judith-staig-993153/ \n \nAMSR home
URL:https://theicg.co.uk/event/introduction-to-amsr-a-free-resource-for-storytelling-and-bringing-context-to-research-and-insights/
LOCATION:ICG Zoom Room: https://zoom.us/s/2071827436?pwd=ZXh6ZmFtSk9mcU84aG5qUkNMR2dwdz09
CATEGORIES:ICG Webinar
ATTACH;FMTTYPE=image/jpeg:https://theicg.co.uk/wp-content/uploads/2022/04/Judith-Staig-scaled-e1687867785888.jpg
END:VEVENT
END:VCALENDAR