BEGIN:VCALENDAR
VERSION:2.0
PRODID:-//The ICG - ECPv6.3.3.1//NONSGML v1.0//EN
CALSCALE:GREGORIAN
METHOD:PUBLISH
X-WR-CALNAME:The ICG
X-ORIGINAL-URL:https://theicg.co.uk
X-WR-CALDESC:Events for The ICG
REFRESH-INTERVAL;VALUE=DURATION:PT1H
X-Robots-Tag:noindex
X-PUBLISHED-TTL:PT1H
BEGIN:VTIMEZONE
TZID:Europe/London
BEGIN:DAYLIGHT
TZOFFSETFROM:+0000
TZOFFSETTO:+0100
TZNAME:BST
DTSTART:20250330T010000
END:DAYLIGHT
BEGIN:STANDARD
TZOFFSETFROM:+0100
TZOFFSETTO:+0000
TZNAME:GMT
DTSTART:20251026T010000
END:STANDARD
END:VTIMEZONE
BEGIN:VEVENT
DTSTART;TZID=Europe/London:20251205T130000
DTEND;TZID=Europe/London:20251205T170000
DTSTAMP:20260423T173234
CREATED:20250916T122127Z
LAST-MODIFIED:20250917T100210Z
UID:39030-1764939600-1764954000@theicg.co.uk
SUMMARY:ICG Christmas Party 2025 - Open To Everyone
DESCRIPTION:Excited to be announcing our 2025 Christmas Party\, generously sponsored by Field Sauce\, The Lens\, and Qualzy.\nHurry – tickets tend to sell FAST. \nWhen? Friday 5 December\, 1-5pm \nWhere? The Queen’s Head\, 222 Shoreditch High Street\, E1 6PJ \nHow much? £42+VAT (+Eventbrite fees) \nBuy your tickets here\n 
URL:https://theicg.co.uk/event/icg-christmas-party-2025-open-to-everyone/
LOCATION:The Queens Head\, Shoreditch E1 6PJ\, 222 Shoreditch High Street\, E1 6PJ\, United Kingdom
CATEGORIES:ICG Event
ATTACH;FMTTYPE=image/jpeg:https://theicg.co.uk/wp-content/uploads/2025/09/2025-Christmas-flier-NON-ANIMATED-.jpg
GEO:51.5227408;-0.0780131
X-APPLE-STRUCTURED-LOCATION;VALUE=URI;X-ADDRESS=The Queens Head Shoreditch E1 6PJ 222 Shoreditch High Street E1 6PJ United Kingdom;X-APPLE-RADIUS=500;X-TITLE=222 Shoreditch High Street:geo:-0.0780131,51.5227408
END:VEVENT
END:VCALENDAR