BEGIN:VCALENDAR
VERSION:2.0
PRODID:-//The ICG - ECPv6.3.3.1//NONSGML v1.0//EN
CALSCALE:GREGORIAN
METHOD:PUBLISH
X-WR-CALNAME:The ICG
X-ORIGINAL-URL:https://theicg.co.uk
X-WR-CALDESC:Events for The ICG
REFRESH-INTERVAL;VALUE=DURATION:PT1H
X-Robots-Tag:noindex
X-PUBLISHED-TTL:PT1H
BEGIN:VTIMEZONE
TZID:Europe/London
BEGIN:DAYLIGHT
TZOFFSETFROM:+0000
TZOFFSETTO:+0100
TZNAME:BST
DTSTART:20230326T010000
END:DAYLIGHT
BEGIN:STANDARD
TZOFFSETFROM:+0100
TZOFFSETTO:+0000
TZNAME:GMT
DTSTART:20231029T010000
END:STANDARD
BEGIN:DAYLIGHT
TZOFFSETFROM:+0000
TZOFFSETTO:+0100
TZNAME:BST
DTSTART:20240331T010000
END:DAYLIGHT
BEGIN:STANDARD
TZOFFSETFROM:+0100
TZOFFSETTO:+0000
TZNAME:GMT
DTSTART:20241027T010000
END:STANDARD
END:VTIMEZONE
BEGIN:VEVENT
DTSTART;TZID=Europe/London:20240116T110000
DTEND;TZID=Europe/London:20240116T120000
DTSTAMP:20260423T142610
CREATED:20231120T111621Z
LAST-MODIFIED:20231120T111753Z
UID:36631-1705402800-1705406400@theicg.co.uk
SUMMARY:ICG Webinar: Transformational Change Dynamics - and The 'S' Word!
DESCRIPTION:Please join us for this informative webinar by ICG member Paul Vittles\, where he’ll be covering; \n\nthe language of change and why it scares people\ntransitional change & transformational change\nthe 3 Key Dynamics of Change\nthe role of research in transformational change\nmini case studies of major change (inc physical\, psychological & emotional)\nThe ‘S’ Word – suicide prevention as a transformational change challenge\nthe role of research in transforming suicide prevention\nhow everyone can help and how you can help!\n\nAbout Paul Vittles and The Jordan Legacy \n \nPaul Vittles is a researcher\, change consultant\, coach & counsellor. He began his career with MORI in 1984\, has held director level positions with some of the ‘big global research firms’ as well as growing a research business as CEO from 5 to 50 people. Paul has worked agency side & client side\, in the UK and Australia. He now works freelance. \nMuch of Paul’s career has been focused on transformational change projects & initiatives; he lectures at business schools on transformational change; and he’s recently been appointed to the Advisory Board of a new Transformational Change Centre at the University of York. \nThese days\, Paul’s focus is on what he calls “one of the great transformational change challenges of our time” – suicide prevention\, or getting the numbers of suicides in the UK down from the level of 6\,000+ preventable deaths every year…towards zero! \nPaul works closely with The Jordan Legacy which was set up by Steve Phillip after losing his son Jordan to suicide in December 2019. The Jordan Legacy is focused on practical actions to minimise suicides. \nIn 2023\, Paul & Steve carried out action research and published a report – ‘Moving Towards a Zero Suicide Society’ – which many people in the suicide prevention field called ‘groundbreaking’. \nPaul is active in the following places: \nLinkedIn: https://www.linkedin.com/in/paulvittles/ \nX (formerly Twitter): @PaulVittles \nMedium: https://paulvittles.medium.com/ \nThe Jordan Legacy: https://thejordanlegacy.com/member/paul-vittles-fmrs-fami-frsa-facilitating-transformational-change-to-move-towards-zero-suicide/ \nREGISTER FOR THIS FREE WEBINAR HERE  (once registered your login will be sent to you directly from Zoom)\n 
URL:https://theicg.co.uk/event/icg-webinar-transformational-change-dynamics-and-the-s-word/
LOCATION:Zoom – Registration link above
CATEGORIES:ICG Webinar
ATTACH;FMTTYPE=image/jpeg:https://theicg.co.uk/wp-content/uploads/2022/01/digital-webinar-500807252-1.jpg
END:VEVENT
BEGIN:VEVENT
DTSTART;TZID=Europe/London:20231205T160000
DTEND;TZID=Europe/London:20231205T164500
DTSTAMP:20260423T142610
CREATED:20231116T095839Z
LAST-MODIFIED:20231122T100324Z
UID:36613-1701792000-1701794700@theicg.co.uk
SUMMARY:Knowledge Share: Everything You Always Wanted to Know About Insights Communities* But Were Afraid to Ask
DESCRIPTION:ICG member Nathalie Kantorowicz\, The Marketing Labs\, will take us through the key aspects of running successful online communities; \n\nThe rules of engagement\nGirls just want to have fun\nBring it to life.\n\nNathalie Kantorowicz \n \nA French native and bilingual English-French insights and marketing professional\, Nathalie has worked for 30 years across 5 countries in insights\, research and marketing. \nNathalie founded The marketing-labs in Nov 2011 on the back of a proprietary insights community\, and has since added international research services with a focus on qual research in France. Nathalie also maintains since 2012 a core community of tech enthusiasts France & UK\, and produces regular updates on the state of consumer relationship with tech\, and lifestyle and society trends. \nREGISTER TO JOIN THIS FREE SESSION HERE. ONCE REGISTERED YOU’LL BE SENT YOUR LOGIN DETAILS\n  \nnkantorowicz@mkglabs.com \nhttps://www.the-marketing-labs.com/ \n  \n 
URL:https://theicg.co.uk/event/knowledge-share-everything-you-always-wanted-to-know-about-insights-communities-but-were-afraid-to-ask/
LOCATION:Zoom – Registration link above
CATEGORIES:Knowledge Share
END:VEVENT
END:VCALENDAR